BEGIN:VCALENDAR
VERSION:2.0
PRODID:-//Comic Quest - ECPv6.15.20//NONSGML v1.0//EN
CALSCALE:GREGORIAN
METHOD:PUBLISH
X-ORIGINAL-URL:https://comicquest.org
X-WR-CALDESC:Events for Comic Quest
REFRESH-INTERVAL;VALUE=DURATION:PT1H
X-Robots-Tag:noindex
X-PUBLISHED-TTL:PT1H
BEGIN:VTIMEZONE
TZID:Asia/Shanghai
BEGIN:STANDARD
TZOFFSETFROM:+0800
TZOFFSETTO:+0800
TZNAME:CST
DTSTART:20220101T000000
END:STANDARD
END:VTIMEZONE
BEGIN:VEVENT
DTSTART;VALUE=DATE:20231118
DTEND;VALUE=DATE:20231119
DTSTAMP:20260425T204844
CREATED:20230304T223604Z
LAST-MODIFIED:20230304T223604Z
UID:10000178-1700265600-1700351999@comicquest.org
SUMMARY:Mickey Mouse Birthday
DESCRIPTION:  \n 
URL:https://comicquest.org/event/mickey-mouse-birthday/
LOCATION:Comic Quest\, 23811 Bridger #111 CA 92630\, Lake Forest\, CA\, 92630\, United States
CATEGORIES:Event
ATTACH;FMTTYPE=image/jpeg:https://comicquest.org/wp-content/uploads/2023/03/mickey_mouse_bithday.jpg
END:VEVENT
BEGIN:VEVENT
DTSTART;TZID=Asia/Shanghai:20231118T120000
DTEND;TZID=Asia/Shanghai:20231118T190000
DTSTAMP:20260425T204844
CREATED:20231117T012925Z
LAST-MODIFIED:20231117T012925Z
UID:10000630-1700308800-1700334000@comicquest.org
SUMMARY:Lorcana Casual Event
DESCRIPTION:Rise of the Floodborn –\n*LAUNCH TOURNAMENT * SEALED * CASUAL\nSaturday NOV 18 * 12:00pm Noon\n\n\nPlayers buy 6 FLOODBORN booster pack bundle = $41.99\n\n\nIn-store prepay sign-ups only. *Limited Space Available*\n\n\n  \n 
URL:https://comicquest.org/event/lorcana-casual-event-2/
LOCATION:Comic Quest\, 23811 Bridger #111 CA 92630\, Lake Forest\, CA\, 92630\, United States
CATEGORIES:Event
ATTACH;FMTTYPE=image/jpeg:https://comicquest.org/wp-content/uploads/2023/04/loracana.jpg
END:VEVENT
END:VCALENDAR