BEGIN:VCALENDAR
VERSION:2.0
PRODID:-//Comic Quest - ECPv6.15.20//NONSGML v1.0//EN
CALSCALE:GREGORIAN
METHOD:PUBLISH
X-ORIGINAL-URL:https://comicquest.org
X-WR-CALDESC:Events for Comic Quest
REFRESH-INTERVAL;VALUE=DURATION:PT1H
X-Robots-Tag:noindex
X-PUBLISHED-TTL:PT1H
BEGIN:VTIMEZONE
TZID:Asia/Shanghai
BEGIN:STANDARD
TZOFFSETFROM:+0800
TZOFFSETTO:+0800
TZNAME:CST
DTSTART:20230101T000000
END:STANDARD
END:VTIMEZONE
BEGIN:VTIMEZONE
TZID:America/Los_Angeles
BEGIN:DAYLIGHT
TZOFFSETFROM:-0800
TZOFFSETTO:-0700
TZNAME:PDT
DTSTART:20230312T100000
END:DAYLIGHT
BEGIN:STANDARD
TZOFFSETFROM:-0700
TZOFFSETTO:-0800
TZNAME:PST
DTSTART:20231105T090000
END:STANDARD
BEGIN:DAYLIGHT
TZOFFSETFROM:-0800
TZOFFSETTO:-0700
TZNAME:PDT
DTSTART:20240310T100000
END:DAYLIGHT
BEGIN:STANDARD
TZOFFSETFROM:-0700
TZOFFSETTO:-0800
TZNAME:PST
DTSTART:20241103T090000
END:STANDARD
BEGIN:DAYLIGHT
TZOFFSETFROM:-0800
TZOFFSETTO:-0700
TZNAME:PDT
DTSTART:20250309T100000
END:DAYLIGHT
BEGIN:STANDARD
TZOFFSETFROM:-0700
TZOFFSETTO:-0800
TZNAME:PST
DTSTART:20251102T090000
END:STANDARD
END:VTIMEZONE
BEGIN:VEVENT
DTSTART;VALUE=DATE:20240203
DTEND;VALUE=DATE:20240204
DTSTAMP:20260425T161329
CREATED:20240114T200754Z
LAST-MODIFIED:20240129T221008Z
UID:10000720-1706918400-1707004799@comicquest.org
SUMMARY:Games Workshop Preorders
DESCRIPTION:Available for Feb 3 \nTYRANIDS: PSYCHOPHAGE           $60 \nDARK ANGELS ARMY SET               $220 \nWARHAMMER 40000: PARIAH NEXUS     $60 \n  \n \n  \nBATTLETOME: FLESH-EATER COURTS        $55 \nAOS: THE MAD KING RISES           $50 \nF-E COURTS: USHORAN MORTARCH OF DELUSION             $115 \nS/GRAVELORDS: FANGS OF THE BLOOD QUEEN   $110 \nFLESH-EATER COURTS: CRYPTGUARD       $50 \nFLESH-EATER COURTS: MORBHEG KNIGHTS          $60 \nFLESH-EATER COURTS: ROYAL DECAPITATOR         $35 \nF-E COURTS: GRAND JUSTICE GORMAYNE              $40 \nFLESH-EATER COURTS: ABHORRANT CARDINAL   $38 \nAGE OF SIGMAR: FLESH-EATER COURTS DICE        $32
URL:https://comicquest.org/event/games-workshop-preorders-edit-date-before-publish/
LOCATION:Comic Quest\, 23811 Bridger #111 CA 92630\, Lake Forest\, CA\, 92630\, United States
CATEGORIES:Games Workshop Preorders
ATTACH;FMTTYPE=image/png:https://comicquest.org/wp-content/uploads/2024/01/GW_peorder_logo.png
END:VEVENT
BEGIN:VEVENT
DTSTART;TZID=America/Los_Angeles:20240203T120000
DTEND;TZID=America/Los_Angeles:20240203T190000
DTSTAMP:20260425T161329
CREATED:20231110T220926Z
LAST-MODIFIED:20231110T220926Z
UID:10000627-1706961600-1706986800@comicquest.org
SUMMARY:Magic Prerelease - Magic - Murders at Karlov Manor
DESCRIPTION:Prerelease events: \n \nMurders at Karlov Manor \n\n\nPrerelease for the next Magic set: \n\n\nSaturday Feb 3. Noon.\n\n\nSunday Feb 4. Noon.\n\n\n\n\n  \n\n 
URL:https://comicquest.org/event/magic-prerelease-magic-murders-at-karlov-manor/
LOCATION:Comic Quest\, 23811 Bridger #111 CA 92630\, Lake Forest\, CA\, 92630\, United States
CATEGORIES:Event,Magic,Tournament
ATTACH;FMTTYPE=image/jpeg:https://comicquest.org/wp-content/uploads/2023/03/magic_prerelease.jpg
END:VEVENT
END:VCALENDAR