BEGIN:VCALENDAR
VERSION:2.0
PRODID:-//Comic Quest - ECPv6.15.20//NONSGML v1.0//EN
CALSCALE:GREGORIAN
METHOD:PUBLISH
X-ORIGINAL-URL:https://comicquest.org
X-WR-CALDESC:Events for Comic Quest
REFRESH-INTERVAL;VALUE=DURATION:PT1H
X-Robots-Tag:noindex
X-PUBLISHED-TTL:PT1H
BEGIN:VTIMEZONE
TZID:UTC
BEGIN:STANDARD
TZOFFSETFROM:+0000
TZOFFSETTO:+0000
TZNAME:UTC
DTSTART:20230101T000000
END:STANDARD
END:VTIMEZONE
BEGIN:VTIMEZONE
TZID:Asia/Shanghai
BEGIN:STANDARD
TZOFFSETFROM:+0800
TZOFFSETTO:+0800
TZNAME:CST
DTSTART:20230101T000000
END:STANDARD
END:VTIMEZONE
BEGIN:VEVENT
DTSTART;VALUE=DATE:20240504
DTEND;VALUE=DATE:20240505
DTSTAMP:20260425T073400
CREATED:20231001T045857Z
LAST-MODIFIED:20240417T195148Z
UID:10000522-1714780800-1714867199@comicquest.org
SUMMARY:FREE Comic Book Day
DESCRIPTION:Saturday May 4th \n10am to 8pm \nFREE Comics\, So many to Choose From \nLink to list of many of the FREE comics \n \nSale all Day: \n20% OFF Graphic Novels/Manga    (collected comics in book form) \n20% OFF Statues \n20% OFF Toys \n20% OFF Back issues (Except Key Issues) \n20% OFF Board Games \n  \n  \n 
URL:https://comicquest.org/event/free-comic-book-day-2/
LOCATION:Comic Quest\, 23811 Bridger #111 CA 92630\, Lake Forest\, CA\, 92630\, United States
CATEGORIES:Event
ATTACH;FMTTYPE=image/jpeg:https://comicquest.org/wp-content/uploads/2023/03/Free_Comic_Book_Day.jpg
END:VEVENT
BEGIN:VEVENT
DTSTART;VALUE=DATE:20240504
DTEND;VALUE=DATE:20240505
DTSTAMP:20260425T073400
CREATED:20231001T045734Z
LAST-MODIFIED:20240429T044951Z
UID:10000521-1714780800-1714867199@comicquest.org
SUMMARY:Star Wars Day (May the 4th)
DESCRIPTION:May the 4th (Star Wars Day)\n\n\nSaturday May 4th and Sunday May the 5th\n\n\nCelebrate the awesomeness of Star Wars at Comic Quest.\n\n\n \n\n\n20% OFF Star Wars Graphic Novels\n\n\n20% OFF Star Wars Role Playing Games\n\n\n20% OFF Star Wars Toys\n\n\n20% OFF Star Wars Miniatures\n\n\n20% OFF Back Issue (Except Keys)
URL:https://comicquest.org/event/star-wars-day-may-the-4th-2/
LOCATION:Comic Quest\, 23811 Bridger #111 CA 92630\, Lake Forest\, CA\, 92630\, United States
CATEGORIES:Event
ATTACH;FMTTYPE=image/png:https://comicquest.org/wp-content/uploads/2023/03/maythe4thyoda.png
END:VEVENT
BEGIN:VEVENT
DTSTART;VALUE=DATE:20240504
DTEND;VALUE=DATE:20240505
DTSTAMP:20260425T073400
CREATED:20240416T004949Z
LAST-MODIFIED:20240429T025744Z
UID:10000893-1714780800-1714867199@comicquest.org
SUMMARY:Games Workshop Preorders
DESCRIPTION:SLAVES TO DARKNESS DARKOATH ARMY SET $200 \nKINGDOM/BRETONNIA: LORD ON ROYAL PEGASUS   $65 \nKINGDOM OF BRETONNIA: MEN-AT-ARMS       $80 \nKINGDOM OF BRETONNIA: PEASANT BOWMEN            $80 \nO&G: ORC BOYZ & ORC ARRER BOYZ MOBS    $80 \nORC & GOBLIN TRIBES: ORC BOAR BOYZ MOB              $60 \nORC & GOBLIN TRIBES: ORC BOAR CHARIOTS              $80 \nO&G TRIBES: GOBLIN WOLF RIDER MOB          $60 \nORC & GOBLIN TRIBES: BLACK ORC MOB        $80 \nORC & GOBLIN TRIBES: ORC BOSSES $42 \nORC & GOBLIN TRIBES: ORC BOYZ MOB           $80 \n \nWHITE DWARF 500 (MAY-24)    $11 \nGROMBRINDAL: THE WHITE DWARF (ISSUE 500)          $40 \nDARKTIDE: THE MINIATURES GAME      $110 \nLEGIONS IMPERIALIS: LEGION FAST ATTACK   $50 \nLEGIONS IMPERIALIS: STORMHAMMERS          $50 \nLEGIONS IMPERIALIS:DREADNOUGHT DROP PODS   $50 \nS/AUXILIA: DRACOSAN TRANSPORT DETACHMENT     $50 \nWARBRINGER NEMESIS TITAN W/QUAKE CANNON    $100 \nORC & GOBLIN TRIBES: GOBLIN MOB $80 \nORC & GOBLIN TRIBES: NIGHT GOBLIN MOB $80 \nORC & GOBLIN TRIBES: GOBLIN SHAMAN       $29
URL:https://comicquest.org/event/games-workshop-preorders-15/
LOCATION:Comic Quest\, 23811 Bridger #111 CA 92630\, Lake Forest\, CA\, 92630\, United States
CATEGORIES:Games Workshop Preorders
ATTACH;FMTTYPE=image/png:https://comicquest.org/wp-content/uploads/2024/01/GW_peorder_logo.png
END:VEVENT
END:VCALENDAR