BEGIN:VCALENDAR
VERSION:2.0
PRODID:-//Comic Quest - ECPv6.15.20//NONSGML v1.0//EN
CALSCALE:GREGORIAN
METHOD:PUBLISH
X-WR-CALNAME:Comic Quest
X-ORIGINAL-URL:https://comicquest.org
X-WR-CALDESC:Events for Comic Quest
REFRESH-INTERVAL;VALUE=DURATION:PT1H
X-Robots-Tag:noindex
X-PUBLISHED-TTL:PT1H
BEGIN:VTIMEZONE
TZID:UTC
BEGIN:STANDARD
TZOFFSETFROM:+0000
TZOFFSETTO:+0000
TZNAME:UTC
DTSTART:20230101T000000
END:STANDARD
END:VTIMEZONE
BEGIN:VTIMEZONE
TZID:Asia/Shanghai
BEGIN:STANDARD
TZOFFSETFROM:+0800
TZOFFSETTO:+0800
TZNAME:CST
DTSTART:20230101T000000
END:STANDARD
END:VTIMEZONE
BEGIN:VEVENT
DTSTART;VALUE=DATE:20240518
DTEND;VALUE=DATE:20240519
DTSTAMP:20260425T072850
CREATED:20240205T200951Z
LAST-MODIFIED:20240513T022410Z
UID:10000798-1715990400-1716076799@comicquest.org
SUMMARY:Guildball
DESCRIPTION:Guld Ball \n11:30am \nCost: $10.  Goes to Prizes. \nMay 18th. 4 rounds Rd 1 11:30-1 Lunch 1-130 Rd2 130-3 Rd3 310-440 Rd4 450-620pm End 630pm \n  \n  \n  \n 
URL:https://comicquest.org/event/guildball/
LOCATION:Comic Quest\, 23811 Bridger #111 CA 92630\, Lake Forest\, CA\, 92630\, United States
CATEGORIES:Event,Tournament
ATTACH;FMTTYPE=image/png:https://comicquest.org/wp-content/uploads/2024/02/guild-ball-logo2.png
END:VEVENT
BEGIN:VEVENT
DTSTART;VALUE=DATE:20240518
DTEND;VALUE=DATE:20240519
DTSTAMP:20260425T072850
CREATED:20240429T024442Z
LAST-MODIFIED:20240429T024442Z
UID:10000898-1715990400-1716076799@comicquest.org
SUMMARY:Games Workshop Preorders
DESCRIPTION:WHITE DWARF 500 (MAY-24)    $11 \nGROMBRINDAL: THE WHITE DWARF (ISSUE 500)          $40 \nDARKTIDE: THE MINIATURES GAME      $110 \nLEGIONS IMPERIALIS: LEGION FAST ATTACK   $50 \nLEGIONS IMPERIALIS: STORMHAMMERS          $50 \nLEGIONS IMPERIALIS:DREADNOUGHT DROP PODS   $50 \nS/AUXILIA: DRACOSAN TRANSPORT DETACHMENT     $50 \nWARBRINGER NEMESIS TITAN W/QUAKE CANNON    $100 \nORC & GOBLIN TRIBES: GOBLIN MOB $80 \nORC & GOBLIN TRIBES: NIGHT GOBLIN MOB $80 \nORC & GOBLIN TRIBES: GOBLIN SHAMAN       $29
URL:https://comicquest.org/event/games-workshop-preorders-17/
LOCATION:Comic Quest\, 23811 Bridger #111 CA 92630\, Lake Forest\, CA\, 92630\, United States
CATEGORIES:Games Workshop Preorders
ATTACH;FMTTYPE=image/png:https://comicquest.org/wp-content/uploads/2024/01/GW_peorder_logo.png
END:VEVENT
BEGIN:VEVENT
DTSTART;TZID=Asia/Shanghai:20240518T100000
DTEND;TZID=Asia/Shanghai:20240518T143000
DTSTAMP:20260425T072850
CREATED:20240404T042020Z
LAST-MODIFIED:20240510T030854Z
UID:10000886-1716026400-1716042600@comicquest.org
SUMMARY:Lorcana New Set-Ursula's Return- Sealed Deck Tournament
DESCRIPTION:Lorcana New Set – launch event – Sealed Deck Tournament\nUrsula Returns\nCheck in – 10:00am\nGo time: 10:30am\n*Pre-paid SIGN UPS available now in store*\nSealed deck. Players will purchase 6 booster packs\, and create their deck from those. Minimum 40 card deck. No limit on deck colors or quantity of each card type.\n\n(Product for the set launches on Friday May 17).
URL:https://comicquest.org/event/lorcana-new-set-sealed-deck/
LOCATION:Comic Quest\, 23811 Bridger #111 CA 92630\, Lake Forest\, CA\, 92630\, United States
CATEGORIES:Event
ATTACH;FMTTYPE=image/jpeg:https://comicquest.org/wp-content/uploads/2023/04/loracana.jpg
END:VEVENT
BEGIN:VEVENT
DTSTART;TZID=Asia/Shanghai:20240518T110000
DTEND;TZID=Asia/Shanghai:20240518T140000
DTSTAMP:20260425T072850
CREATED:20240513T213609Z
LAST-MODIFIED:20240513T213609Z
UID:10000905-1716030000-1716040800@comicquest.org
SUMMARY:Board Game Demo - Goblin Vaults
DESCRIPTION:FREE Demo: Goblin Vault \nSaturday May 18. 11am – 2pm \nComic Quest is providing FREE demos of a fun board game. Learn in a couple of minutes\, it might be your next favorite game. \n  \nIn the dark corners of Kulbak Prison\, away from the prying eyes of the construct guards\, inmates play a game of Goblin Vaults in secret… \nGoblin Vaults is a strategy card game for 1-5 players featuring bidding\, card placement\, and scoring patterns. In the game\, you wager cards to win loot from the central cell block\, then stash that loot wisely in your vault\, earning gears based on the position of cards within that vault. You can also gain gears from scoring objectives that change each game. \nWith cunning and clever scheming\, make your bid to be feared amongst your peers! You’ll need wits and luck to play your cards right as you fill your vault and influence the warden in your favor. After nine rounds\, whoever has the most gears wins!
URL:https://comicquest.org/event/board-game-demo-goblin-vaults/
LOCATION:Comic Quest\, 23811 Bridger #111 CA 92630\, Lake Forest\, CA\, 92630\, United States
CATEGORIES:Demo,Event
ATTACH;FMTTYPE=image/png:https://comicquest.org/wp-content/uploads/2024/05/goblin-valuts-demo-banner.png
END:VEVENT
END:VCALENDAR