BEGIN:VCALENDAR
VERSION:2.0
PRODID:-//Comic Quest - ECPv6.15.20//NONSGML v1.0//EN
CALSCALE:GREGORIAN
METHOD:PUBLISH
X-ORIGINAL-URL:https://comicquest.org
X-WR-CALDESC:Events for Comic Quest
REFRESH-INTERVAL;VALUE=DURATION:PT1H
X-Robots-Tag:noindex
X-PUBLISHED-TTL:PT1H
BEGIN:VTIMEZONE
TZID:Asia/Shanghai
BEGIN:STANDARD
TZOFFSETFROM:+0800
TZOFFSETTO:+0800
TZNAME:CST
DTSTART:20230101T000000
END:STANDARD
END:VTIMEZONE
BEGIN:VTIMEZONE
TZID:America/Los_Angeles
BEGIN:DAYLIGHT
TZOFFSETFROM:-0800
TZOFFSETTO:-0700
TZNAME:PDT
DTSTART:20230312T100000
END:DAYLIGHT
BEGIN:STANDARD
TZOFFSETFROM:-0700
TZOFFSETTO:-0800
TZNAME:PST
DTSTART:20231105T090000
END:STANDARD
BEGIN:DAYLIGHT
TZOFFSETFROM:-0800
TZOFFSETTO:-0700
TZNAME:PDT
DTSTART:20240310T100000
END:DAYLIGHT
BEGIN:STANDARD
TZOFFSETFROM:-0700
TZOFFSETTO:-0800
TZNAME:PST
DTSTART:20241103T090000
END:STANDARD
BEGIN:DAYLIGHT
TZOFFSETFROM:-0800
TZOFFSETTO:-0700
TZNAME:PDT
DTSTART:20250309T100000
END:DAYLIGHT
BEGIN:STANDARD
TZOFFSETFROM:-0700
TZOFFSETTO:-0800
TZNAME:PST
DTSTART:20251102T090000
END:STANDARD
END:VTIMEZONE
BEGIN:VEVENT
DTSTART;VALUE=DATE:20240608
DTEND;VALUE=DATE:20240609
DTSTAMP:20260425T044336
CREATED:20231018T011347Z
LAST-MODIFIED:20231018T011632Z
UID:10000559-1717804800-1717891199@comicquest.org
SUMMARY:Ghostbusters Day
DESCRIPTION:  \n 
URL:https://comicquest.org/event/ghostbusters-day-2/
LOCATION:Comic Quest\, 23811 Bridger #111 CA 92630\, Lake Forest\, CA\, 92630\, United States
CATEGORIES:Event
ATTACH;FMTTYPE=image/jpeg:https://comicquest.org/wp-content/uploads/2023/03/Ghostbusters-Day-Logo.jpg
END:VEVENT
BEGIN:VEVENT
DTSTART;VALUE=DATE:20240608
DTEND;VALUE=DATE:20240609
DTSTAMP:20260425T044336
CREATED:20240519T193003Z
LAST-MODIFIED:20240602T191252Z
UID:10000915-1717804800-1717891199@comicquest.org
SUMMARY:Games Workshop Preorders
DESCRIPTION:  \nSTD: DARKOATH BRAND’S OATHBOUND           $79.00 \nSLAVES TO DARKNESS: DARKOATH MARAUDERS         $58.00 \nSLAVES TO DARKNESS: DARKOATH FELLRIDERS           $62.50 \nSTD: DARKOATH CHIEFTAIN ON WARSTEED    $52.00 \nSLAVES TO DARKNESS: ABRAXIA’S VARANSPEAR         $160.00 \nDAUGHTERS/KHAINE: KRETHUSA THE CRONESEER   $60.00 \nS/GRAVELORDS: SEKHAR FANG OF NULAHMIA            $44.00 \nAGE OF SIGMAR: HOUNDS OF CHAOS               $52.00 \nSLAVES TO DARKNESS: NEXUS CHAOTICA      $60.00 \nLEGIONS IMPERIALIS: MALCADOR SQUADRON            $50.00 \nLEGIONS IMPERIALIS: SICARAN SQUADRON  $50.00 \n \nCODEX: ADEPTA SORORITAS (HB)         $60.00 \nADEPTA SORORITAS: ARMY OF FAITH  $215.00 \nCOMBAT PATROL: ADEPTA SORORITAS               $168.00 \nDATASHEET CARDS: ADEPTA SORORITAS          $35.00 \nWARHAMMER 40K: ADEPTA SORORITAS DICE $33.50 \nCODEX: GENESTEALER CULTS                $60.00 \nCOMBAT PATROL: GENESTEALER CULTS           $168.00 \nGENESTEALER CULTS: BIOSANTIC BROODSURGE       $215.00 \nDATASHEET CARDS: GENESTEALER CULTS      $35.00 \nWARHAMMER 40000: GENESTEALER CULTS DICE        $33.50 \nADEPTUS CUSTODES: SHIELD CAPTAIN             $42.00 \nORKS: BIG MEK               $52.00 \nA/S: MINISTORUM PRIEST WITH VINDICTOR    $35.00 \nC/APPROVED PARIAH NEXUS MISSON DECK  $35.00 \nOBJECTIVE SET: PARIAH NEXUS             $35.00
URL:https://comicquest.org/event/games-workshop-preorders-19/
LOCATION:Comic Quest\, 23811 Bridger #111 CA 92630\, Lake Forest\, CA\, 92630\, United States
CATEGORIES:Games Workshop Preorders
ATTACH;FMTTYPE=image/png:https://comicquest.org/wp-content/uploads/2024/01/GW_peorder_logo.png
END:VEVENT
BEGIN:VEVENT
DTSTART;TZID=Asia/Shanghai:20240608T110000
DTEND;TZID=Asia/Shanghai:20240608T140000
DTSTAMP:20260425T044336
CREATED:20240602T180206Z
LAST-MODIFIED:20240602T180206Z
UID:10000924-1717844400-1717855200@comicquest.org
SUMMARY:Board Game Demo - Jaipur
DESCRIPTION:FREE Demo: Jaipur \n  \nSaturday June 8. 11am – 2pm \nComic Quest is providing FREE demos of a fun board game. Learn in a couple of minutes\, it might be your next favorite game. \n  \nYou are one of the two most powerful traders in the city of Jaipur\, the capital of Rajasthan\, but that’s not enough for you because only the merchant with two “seals of excellence” will have the privilege of being invited to the Maharaja’s court. You are therefore going to have to do better than your direct competitor by buying\, exchanging\, and selling at better prices\, all while keeping an eye on both your camel herds. \nJaipur is a fast-paced card game\, a blend of tactics\, risk and luck. On your turn\, you can either take or sell cards. If you take cards\, you have to choose between taking all the camels\, taking one card from the market\, or swapping 2-5 cards between the market and your cards. \nIf you sell cards\, you get to sell only one type of good\, and you receive as many chips for that good as the number of cards you sold. The chips’ values decrease as the game progresses\, so you’d better hurry! On the other hand\, you receive increasingly high rewards for selling three\, four\, or five cards of the same good at a time\, so you’d better wait! \nYou can’t sell camels\, but they’re paramount for trading and they’re also worth a little something at the end of the round\, enough sometimes to secure the win\, so you have to use them smartly.
URL:https://comicquest.org/event/board-game-demo-jaipur/
LOCATION:Comic Quest\, 23811 Bridger #111 CA 92630\, Lake Forest\, CA\, 92630\, United States
CATEGORIES:Demo,Event
ATTACH;FMTTYPE=image/png:https://comicquest.org/wp-content/uploads/2024/06/jaipur-banner.png
END:VEVENT
BEGIN:VEVENT
DTSTART;TZID=Asia/Shanghai:20240608T120000
DTEND;TZID=Asia/Shanghai:20240608T130000
DTSTAMP:20260425T044336
CREATED:20240512T191912Z
LAST-MODIFIED:20240512T191912Z
UID:10000904-1717848000-1717851600@comicquest.org
SUMMARY:Book Club - Godzilla Here be Dragons
DESCRIPTION:Each month we select a notable graphic novel for the book club.  It is 25% Off to everyone all month.  At the end of the month we meet to discuss. \nGodzilla Here be Dragons \nby Frank Tieri\, Inaki Miranda \nMeeting to discuss:  Saturday June 8.  Noon. \nIn the 1500s\, a ship of seafaring navigators run afoul of a lost world where there is only one king\, the King of the Monsters! \nBefore humanity had successfully traveled the entire globe\, it was believed that monsters ruled the oceans just beyond the horizon. “Here there be dragons…” was written on maps to denote the areas people dared not go.That is\, until Sir Francis Drake circumnavigated the seas\, visiting foreign lands and collecting treasure. That’s what history tells us\, at least\, but history does not have the full tale. \nMonsters did lurk yonder\, living on an island that still doesn’t appear on any map\, and among them was the king of them all…Godzilla! \nPAST SELECTIONS: \n6/4/11 Morning Glories \n7/9/11 Irredeemable \n8/6/11 Chew \n9/10/11 Batwoman: Elegy \n10/8/11 Fables 1 Legends in Exile \n11/5/11 Marvel Zombies 1 \n12/3/11 Green Hornet: Sins of our Fathers 1 \n2/11/12 Sandman 1: Preludes & Nocturnes \n3/3/12  The New Teen Titans: Games \n4/12/12 Return of the Dapper Men \n6/2/12  Asterios Polyp \n8/22/12  Watchmen \n10/12/12 Locke & Key 1 \n12/12/12 Christmas Carole \n2/13/13 Invincible \n4/13/13 Building Stories \n6/18/13 Prophet \n8/3/13 Young Inhumans \n9/16/13 Midnight Nation \n10/13/13 Hawkeye: 1 My life as a weapon \n12/28/13  Blacksad \n2/12/14 Porcelain \n3/29/14 Saga 1 \n5/17/14 Fatale 1 \n6/25/14 The Property \n8/2/14 Good Dog \n9/3/14 Trillium \n10/1/14 Rat Queens \n11/8/14 WinterWorld \n12/5/14 Black Widow 1 \n1/10/15 Astro City: Life in the Big City \n2/28/15 Beautiful Darkness \n3/28/15 Seconds \n4/25/15 The Wake \n5/24/15 Here \n6/27/15 This One Summer \n7/25/15 Gigantic Beard That Was Evil \n9/5/15 The Wicked and the Divine \n10/3/15 Black Science: 1 \n11/7/15 Wytches \n12/5/15 Nimona \n1/30/16 Jessica Jones: AKA Alias \n3/5/16 Supermutant Magic Academy \n4/19/16 Private Eye \n5/14/16 Southern Bastard \n6/11/16 Lady Killer \n7/16/16 Long Walk to Valhalla \n8/13/16 Monstress \n9/10/16 Paper Girls \n10/15/16 Panther \n11/12/16 Afterlife with Archie \n12/10/16 Ruins \n1/7/17 Klaus \n2/17/17 Mooncop \n4/1/17 Sheriff of Babylon \n5/13/17 Vision: 1 \n6/27/17 Eartha \n7/29/17 Lennon \n8/26/17 Wonder Woman: A True Amazon \n9/30/17  Patience \n10/28/17 Halloween Tales \n11/25/17 My Favorite Things is Monsters \n1/6/18 Daytripper \n2/10/18 Snotgirl: Green Hair Don’t Care \n3/17/18 Black Panther \n4/7/18 Niourk \n5/12/18 Killing & Dying \n6/9/18 Infinity Gauntlet \n7/14/18 Black Hammer \n8/11/18 Boundless \n9/8/18 I Kill Giants \n10/20/18 Rome West \n12/1/18 Dark Nights Metal \n12/29/18 Skyward \n2/2/19 Roughneck \n3/2/19 Upgrade Soul \n4/6/19 WaterSnakes \n5/11/19 The Lie and How We Told It \n6/8/19 Mister Miracle \n7/13/19 Immortal Hulk \n8/10/19 Come Again \n9/14/19 My Heroes Have Always Been Junkies \n10/5/19 Batman White Knight \n11/2/19 Bone Parish 1 & 2 \n12/14/19 Exit Stage Left \n1/4/20 Heroes in Crisis \n2/1/20 Sabrina \n3/7/20 Green Lantern: Intergalactic Lawman \n4/18/20 Star Trek Next Generation Mirror Broken \n6/13/20 DIE \n7/11/20 Something is Killing the Children \n8/8/20 Once & Future \n9/12/20 Freedom Fighters \n10/10/20 Are you Listening? \n11/14/20 Uzamaki \n12/12/20 Cats of the Louvre \n1/4/21 4 Kids Walk Into a Bank \n2/13/21 The House \n3/13/21 Dracula MotherF**cker \n4/10/21 Superman’s Pal Jimmy Olsen \n5/8/21 Dead Day \n6/18/21 Rogue Planet \n7/10/21 We Only Find Them When They Are Dead \n8/7/21 Eight-Lane Runaways \n9/11/21 Resistance \n10/9/21 Pulp \n11/13/21 Basketful of Heads \n12/11/21 Department of Truth \n1/8/22 Last Stand of the Tin Can Sailors \n2/19/22 Stray Dogs \n3/12/22 Graveneye \n4/9/22 Oksi \n5/14 Carthago \n6/11/22 I want to eat your pancreas \n7/9/22 Bubble \n8/13/22 Ballad of Sophie \n9-10 In. \n10/8/22 Destroy All Monsters \n11/12/22 You Died an Anthology of the Afterlife \n12/10/22 Monsters \n1/14/23 Goblin Girl \n2/11/23 Fantastic Four Full Circle \n3/11/23 Ducks \n4/8/23 Radiant Black \n5/13/23 Nice House on the Lake \n6/10/23 TMNT – Last Ronin \n7/8/23 Catwoman Lonely City \n8/12/23 Rain \n9/9/23 Chivalry \n10/14 /23 Always Never \n11/11/23 Swamp Thing Green Hell \n12/16/23 Monica \n1/13/24 Eight Billion Genies \n2/10/24 Aquaman: Andromeda \n3/9/24 Do A Powerbomb \n4/13/24 Wonder Woman Historia \n5/11/24 Shubeik Lubeik \n6/8/24 Godzilla Here Be Dragons
URL:https://comicquest.org/event/book-club-godzilla-here-be-dragons/
LOCATION:Comic Quest\, 23811 Bridger #111 CA 92630\, Lake Forest\, CA\, 92630\, United States
CATEGORIES:Book Club,Event
ATTACH;FMTTYPE=image/jpeg:https://comicquest.org/wp-content/uploads/2023/03/bookclub.jpg
END:VEVENT
BEGIN:VEVENT
DTSTART;TZID=America/Los_Angeles:20240608T120000
DTEND;TZID=America/Los_Angeles:20240608T190000
DTSTAMP:20260425T044336
CREATED:20240302T001517Z
LAST-MODIFIED:20240605T232825Z
UID:10000835-1717848000-1717873200@comicquest.org
SUMMARY:Magic Prerelease - PRERELEASE KIT -Modern Horizons 3
DESCRIPTION:Magic the Gathering Prerelease Event – PreRelease Kit (Sealed) \nModern Horizons 3 \n$55.99 \nSaturday June 8 Noon \nSunday June 9 Noon \n  \nShake up your favorite decks with new cards for the Modern format! Modern Horizons 3 delivers a powerful collection of new cards and exciting reprints that will make an immediate impact on one of Magic’s most celebrated formats. \nAttendees will receive an exclusive limited edition Comic Quest Energy Token! \n\n\n\n\nPreRelease Kit Contents:\n\n\n6 Modern Horizons 3 Play Boosters; each Play Booster contains 14 Magic cards\n1 foil\, year-stamped Rare or Mythic Rare\n1 Magic: The Gathering Arena code card (only available in select regions)\n1 deck box\n1 Spindown die\n\n\n\n\n 
URL:https://comicquest.org/event/magic-prerelease-modern-horizons-3/
LOCATION:Comic Quest\, 23811 Bridger #111 CA 92630\, Lake Forest\, CA\, 92630\, United States
CATEGORIES:Event,Magic,Tournament
ATTACH;FMTTYPE=image/jpeg:https://comicquest.org/wp-content/uploads/2023/03/magic_prerelease.jpg
END:VEVENT
END:VCALENDAR