BEGIN:VCALENDAR
VERSION:2.0
PRODID:-//Comic Quest - ECPv6.15.20//NONSGML v1.0//EN
CALSCALE:GREGORIAN
METHOD:PUBLISH
X-ORIGINAL-URL:https://comicquest.org
X-WR-CALDESC:Events for Comic Quest
REFRESH-INTERVAL;VALUE=DURATION:PT1H
X-Robots-Tag:noindex
X-PUBLISHED-TTL:PT1H
BEGIN:VTIMEZONE
TZID:Asia/Shanghai
BEGIN:STANDARD
TZOFFSETFROM:+0800
TZOFFSETTO:+0800
TZNAME:CST
DTSTART:20230101T000000
END:STANDARD
END:VTIMEZONE
BEGIN:VEVENT
DTSTART;VALUE=DATE:20240704
DTEND;VALUE=DATE:20240705
DTSTAMP:20260425T031904
CREATED:20231022T175527Z
LAST-MODIFIED:20240627T205646Z
UID:10000592-1720051200-1720137599@comicquest.org
SUMMARY:Open on Independence Day
DESCRIPTION:We are open: 10am to 7pm – on 4th of July.  \nFREE HOLIDAY DICE \nFREE CQ 4th of July Holiday Dice \nPick up your FREE CQ Limited Edition Holiday Dice. \nContinuing our tradition. While Supplies Last!! \n  \n 
URL:https://comicquest.org/event/open-4th-of-july-independence-day-2/
LOCATION:Comic Quest\, 23811 Bridger #111 CA 92630\, Lake Forest\, CA\, 92630\, United States
CATEGORIES:Event
ATTACH;FMTTYPE=image/gif:https://comicquest.org/wp-content/uploads/2023/03/july_fourth_waving_lg_nwm1.gif
END:VEVENT
BEGIN:VEVENT
DTSTART;VALUE=DATE:20240704
DTEND;VALUE=DATE:20240705
DTSTAMP:20260425T031904
CREATED:20240605T172735Z
LAST-MODIFIED:20240628T004754Z
UID:10000927-1720051200-1720137599@comicquest.org
SUMMARY:FREE 4th of July Dice 10am to 7pm
DESCRIPTION:  \nFREE dice.   While supplies last. \nNo purchase necessary. \nKeeping the holiday tradition going. \n\nThursday 4th of July. \n\n\n10:00am to 7:00pm = open special hours today! \n\n\n \n\n\nOur Holiday gift to you. \n\n\nRoll for Freedom!\n\n\nRoll for Liberty!\n\n\nRoll for Hot Dogs & Apple Pie.\n\n\nRoll for Truth\, Justice and the America Way!
URL:https://comicquest.org/event/free-4th-of-july-dice-3/
LOCATION:Comic Quest\, 23811 Bridger #111 CA 92630\, Lake Forest\, CA\, 92630\, United States
CATEGORIES:Event
ATTACH;FMTTYPE=image/png:https://comicquest.org/wp-content/uploads/2024/06/Dice-4th-july-1.png
END:VEVENT
END:VCALENDAR