BEGIN:VCALENDAR
VERSION:2.0
PRODID:-//Comic Quest - ECPv6.15.20//NONSGML v1.0//EN
CALSCALE:GREGORIAN
METHOD:PUBLISH
X-ORIGINAL-URL:https://comicquest.org
X-WR-CALDESC:Events for Comic Quest
REFRESH-INTERVAL;VALUE=DURATION:PT1H
X-Robots-Tag:noindex
X-PUBLISHED-TTL:PT1H
BEGIN:VTIMEZONE
TZID:Asia/Shanghai
BEGIN:STANDARD
TZOFFSETFROM:+0800
TZOFFSETTO:+0800
TZNAME:CST
DTSTART:20230101T000000
END:STANDARD
END:VTIMEZONE
BEGIN:VEVENT
DTSTART;VALUE=DATE:20241006
DTEND;VALUE=DATE:20241007
DTSTAMP:20260424T164954
CREATED:20240113T012507Z
LAST-MODIFIED:20240920T070606Z
UID:10000710-1728172800-1728259199@comicquest.org
SUMMARY:Mad Hatter Day
DESCRIPTION:10/6 on Hat.  Oct 6th
URL:https://comicquest.org/event/mad-hatter-day-2/
LOCATION:Comic Quest\, 23811 Bridger #111 CA 92630\, Lake Forest\, CA\, 92630\, United States
CATEGORIES:Event
ATTACH;FMTTYPE=image/jpeg:https://comicquest.org/wp-content/uploads/2023/07/mad-hatter-day.jpg
END:VEVENT
BEGIN:VEVENT
DTSTART;TZID=Asia/Shanghai:20241006T090000
DTEND;TZID=Asia/Shanghai:20241006T190000
DTSTAMP:20260424T164954
CREATED:20240911T023754Z
LAST-MODIFIED:20240925T004724Z
UID:10001202-1728205200-1728241200@comicquest.org
SUMMARY:Lorcana Store Set Championship - SHIMMERING SKIES
DESCRIPTION:Lorcana SHIMMERING SKIES Championship\n\nSunday October 6 👑 \nSIGN-UPS** – Store CHAMPIONSHIP – Disney Lorcana. \n– PrePay signups – **for League Members – Start in store Tuesday SEPT  24\n– PrePay signups – **General Public – Start in store Saturday SEPT 28 \n–Entry Fee: $28\n–Capacity: Max 28 players**\n-Rounds: 5 Rounds\, Best of 3. Then cut to Top 8 Playoffs (3 rounds).\n-Schedule: 9:00am check in. Play at 9:30am. 30min Break at end of round 5. Finish around 7:00p. *TBD Lunch Pizza break.\n–Format: Constructed. Minimum 60 card deck (no max limit). No more than 4 of the same card name\, and max 2 ink colors. \nPrizes: \nTOP 8 get Prizing!!! \n**Champion:** The winner receives:\n– 1 Mirabel Madrigal — Family Gatherer Champion Playmat.\n– 1 Mirabel Madrigal — Family Gatherer promo card. \n**Runner-Up:** The second-place finisher receives:\n– 1 Mirabel Madrigal — Family Gatherer Playmat.\n– 1 Mirabel Madrigal — Family Gatherer promo card. \n**Third- through Eighth-Place** Finishers each receive:\n– 1 Mirabel Madrigal — Family Gatherer promo card. \n**All Participants** will receive Booster Pack Shimmering Skies participation + a pack per match win thru Round 5. \nPlease join our Facebook Group: Comic Quest Lorcana\, for updates to events and league. \nLorcana weekly league meets every Tuesday 6pm to 9pm. \n \n 
URL:https://comicquest.org/event/lorcana-store-set-championship-shimmering-skies/
LOCATION:Comic Quest\, 23811 Bridger #111 CA 92630\, Lake Forest\, CA\, 92630\, United States
CATEGORIES:Event
ATTACH;FMTTYPE=image/jpeg:https://comicquest.org/wp-content/uploads/2023/04/loracana.jpg
END:VEVENT
END:VCALENDAR