BEGIN:VCALENDAR
VERSION:2.0
PRODID:-//Comic Quest - ECPv6.15.20//NONSGML v1.0//EN
CALSCALE:GREGORIAN
METHOD:PUBLISH
X-WR-CALNAME:Comic Quest
X-ORIGINAL-URL:https://comicquest.org
X-WR-CALDESC:Events for Comic Quest
REFRESH-INTERVAL;VALUE=DURATION:PT1H
X-Robots-Tag:noindex
X-PUBLISHED-TTL:PT1H
BEGIN:VTIMEZONE
TZID:America/Los_Angeles
BEGIN:DAYLIGHT
TZOFFSETFROM:-0800
TZOFFSETTO:-0700
TZNAME:PDT
DTSTART:20230312T100000
END:DAYLIGHT
BEGIN:STANDARD
TZOFFSETFROM:-0700
TZOFFSETTO:-0800
TZNAME:PST
DTSTART:20231105T090000
END:STANDARD
BEGIN:DAYLIGHT
TZOFFSETFROM:-0800
TZOFFSETTO:-0700
TZNAME:PDT
DTSTART:20240310T100000
END:DAYLIGHT
BEGIN:STANDARD
TZOFFSETFROM:-0700
TZOFFSETTO:-0800
TZNAME:PST
DTSTART:20241103T090000
END:STANDARD
BEGIN:DAYLIGHT
TZOFFSETFROM:-0800
TZOFFSETTO:-0700
TZNAME:PDT
DTSTART:20250309T100000
END:DAYLIGHT
BEGIN:STANDARD
TZOFFSETFROM:-0700
TZOFFSETTO:-0800
TZNAME:PST
DTSTART:20251102T090000
END:STANDARD
END:VTIMEZONE
BEGIN:VEVENT
DTSTART;TZID=America/Los_Angeles:20241117T104500
DTEND;TZID=America/Los_Angeles:20241117T153000
DTSTAMP:20260424T152729
CREATED:20240605T231412Z
LAST-MODIFIED:20241114T195231Z
UID:10000929-1731840300-1731857400@comicquest.org
SUMMARY:Lorcana New Set-Azurite Sea -Sealed Deck Tournament
DESCRIPTION:Lorcana New Set – Azurite Sea – SEALED Deck -Launch Event \nSUN NOV 17.\n\nCheck in: 10:45am\nGo time: 11:00am\n$39.99 + tax = 6packs/person.\nPrizes: 1 booster pack to all participations. Plus 1 pack per match win. Bo3\, 3 rounds.\n\n*Pre-paid SIGN UPS Happening Now!\nSealed deck. Players will purchase 6 booster packs\, and create their deck from those. Minimum 40 card deck. No limit on deck colors or quantity of each card type.\n\n(Product for the set launches on Friday November 15).\n\n\n\n\nLorcana new set Azurite Sea Sealed Deck Event on Nov 17 \n\n\n\n\n 
URL:https://comicquest.org/event/lorcana-new-set-sealed-deck-tournament-2/
LOCATION:Comic Quest\, 23811 Bridger #111 CA 92630\, Lake Forest\, CA\, 92630\, United States
CATEGORIES:Event
ATTACH;FMTTYPE=image/jpeg:https://comicquest.org/wp-content/uploads/2024/01/azurite-sea-sealed-deck.jpg
END:VEVENT
END:VCALENDAR