BEGIN:VCALENDAR
VERSION:2.0
PRODID:-//Comic Quest - ECPv6.15.20//NONSGML v1.0//EN
CALSCALE:GREGORIAN
METHOD:PUBLISH
X-ORIGINAL-URL:https://comicquest.org
X-WR-CALDESC:Events for Comic Quest
REFRESH-INTERVAL;VALUE=DURATION:PT1H
X-Robots-Tag:noindex
X-PUBLISHED-TTL:PT1H
BEGIN:VTIMEZONE
TZID:Asia/Shanghai
BEGIN:STANDARD
TZOFFSETFROM:+0800
TZOFFSETTO:+0800
TZNAME:CST
DTSTART:20240101T000000
END:STANDARD
END:VTIMEZONE
BEGIN:VEVENT
DTSTART;VALUE=DATE:20250202
DTEND;VALUE=DATE:20250203
DTSTAMP:20260424T083051
CREATED:20240828T021610Z
LAST-MODIFIED:20240828T021610Z
UID:10001063-1738454400-1738540799@comicquest.org
SUMMARY:Groundhog Day
DESCRIPTION:Happy Groundhog Day
URL:https://comicquest.org/event/groundhog-day-2/
LOCATION:Comic Quest\, 23811 Bridger #111 CA 92630\, Lake Forest\, CA\, 92630\, United States
CATEGORIES:Event
ATTACH;FMTTYPE=image/jpeg:https://comicquest.org/wp-content/uploads/2024/02/groundhog-day.jpg
END:VEVENT
BEGIN:VEVENT
DTSTART;TZID=Asia/Shanghai:20250202T090000
DTEND;TZID=Asia/Shanghai:20250202T190000
DTSTAMP:20260424T083051
CREATED:20241229T010620Z
LAST-MODIFIED:20250124T061201Z
UID:10001436-1738486800-1738522800@comicquest.org
SUMMARY:Lorcana Set Championship - AZURITE SEA
DESCRIPTION:Disney Lorcana AZURITE SEA Set Championship\n\nSunday February 2nd👑 \n– PrePay signups – **for League Members have begun!  \n\nPlease sign up in store. Please show staff your CQ Lorcana League Member ID in order to sign up. (No signups without the Member ID)\n\n–Entry Fee: $26\n-Rounds: 5 Rounds\, Best of 3. Then cut to Top 8 Playoffs (3 rounds).\n-Schedule: 9:00am check in. Play at 9:30am. 30min Break at end of round 3 or 4.  *TBD Lunch Pizza break.\n–Format: Constructed. Minimum 60 card deck (no max limit). No more than 4 of the same card name\, and max 2 ink colors. \n*Set Championships are only for Lorcana League Regulars. New? Wanna be a regular to enjoy this perk? Come out and play with us weekly on a regular basis. At least six weeks of attendance is required to obtain regular status* \nPrizes: \nTOP 8 get Prizing!!! \nChampion: The winner receives:\n1 Scar — Heartless Hunter Champion playmat\n1 Scar — Heartless Hunter promo card \nRunner-Up: The second-place finisher receives:\n1 Scar — Heartless Hunter playmat\n1 Scar — Heartless Hunter promo card \nThird- through Eighth-Place Finishers each receive:\n1 Scar — Heartless Hunter promo card \n**All Participants** will receive 1 Booster Pack Azurite Sea for participation + 1 pack per match win thru Top 4. \nPlease join our Facebook Group: Comic Quest Lorcana\, for updates to events and league. \nLorcana weekly league meets every Tuesday 6pm to 9pm. \n \n \n  \n 
URL:https://comicquest.org/event/lorcana-store-set-championship-azurite-sea/
LOCATION:Comic Quest\, 23811 Bridger #111 CA 92630\, Lake Forest\, CA\, 92630\, United States
CATEGORIES:Event
ATTACH;FMTTYPE=image/jpeg:https://comicquest.org/wp-content/uploads/2023/04/loracana.jpg
END:VEVENT
END:VCALENDAR