BEGIN:VCALENDAR
VERSION:2.0
PRODID:-//Comic Quest - ECPv6.15.20//NONSGML v1.0//EN
CALSCALE:GREGORIAN
METHOD:PUBLISH
X-ORIGINAL-URL:https://comicquest.org
X-WR-CALDESC:Events for Comic Quest
REFRESH-INTERVAL;VALUE=DURATION:PT1H
X-Robots-Tag:noindex
X-PUBLISHED-TTL:PT1H
BEGIN:VTIMEZONE
TZID:UTC
BEGIN:STANDARD
TZOFFSETFROM:+0000
TZOFFSETTO:+0000
TZNAME:UTC
DTSTART:20240101T000000
END:STANDARD
END:VTIMEZONE
BEGIN:VEVENT
DTSTART;TZID=UTC:20250223T090000
DTEND;TZID=UTC:20250223T183000
DTSTAMP:20260424T053635
CREATED:20241215T020223Z
LAST-MODIFIED:20250218T011953Z
UID:10001414-1740301200-1740335400@comicquest.org
SUMMARY:Star Wars Legion Tournament
DESCRIPTION:Star Wars Legion Tournament \nSunday Feb 23.  10:00am. \nEntry Fee = $10.00. Goes to Prize Pool. \nSign up on Longshanks at link below:\nhttps://www.longshanks.org/event/22925/ \nComic Quest is restarting their Legion tournaments for 2025.\n*3 rounds of Legion with traditional 1000 point armies. \n\nCheck in = 10am- 10:15am (15 Minute)\nRound 1 = 10:20am- 12:50am (2 Hour\, 30 Min)\n Lunch = 12:50pm- 1:30pm (40 Min)\nRound 2 = 1:30pm- 4:00pm (2 Hour\, 30 Min)\nRound 3 = 4:00pm- 6:30pm (2 Hour\, 30 Min)\n\nIf you have any questions don’t hesitate to ask. In our Discord or Facebook Groups \n \n  \n  \n  \n 
URL:https://comicquest.org/event/star-wars-legion-tournament/
LOCATION:Comic Quest\, 23811 Bridger #111 CA 92630\, Lake Forest\, CA\, 92630\, United States
CATEGORIES:Event,Star Wars Legion,Tournament
ATTACH;FMTTYPE=image/png:https://comicquest.org/wp-content/uploads/2023/03/star_wars_legion_image.png
END:VEVENT
END:VCALENDAR