BEGIN:VCALENDAR
VERSION:2.0
PRODID:-//Comic Quest - ECPv6.15.20//NONSGML v1.0//EN
CALSCALE:GREGORIAN
METHOD:PUBLISH
X-ORIGINAL-URL:https://comicquest.org
X-WR-CALDESC:Events for Comic Quest
REFRESH-INTERVAL;VALUE=DURATION:PT1H
X-Robots-Tag:noindex
X-PUBLISHED-TTL:PT1H
BEGIN:VTIMEZONE
TZID:Asia/Shanghai
BEGIN:STANDARD
TZOFFSETFROM:+0800
TZOFFSETTO:+0800
TZNAME:CST
DTSTART:20240101T000000
END:STANDARD
END:VTIMEZONE
BEGIN:VTIMEZONE
TZID:America/Los_Angeles
BEGIN:DAYLIGHT
TZOFFSETFROM:-0800
TZOFFSETTO:-0700
TZNAME:PDT
DTSTART:20240310T100000
END:DAYLIGHT
BEGIN:STANDARD
TZOFFSETFROM:-0700
TZOFFSETTO:-0800
TZNAME:PST
DTSTART:20241103T090000
END:STANDARD
BEGIN:DAYLIGHT
TZOFFSETFROM:-0800
TZOFFSETTO:-0700
TZNAME:PDT
DTSTART:20250309T100000
END:DAYLIGHT
BEGIN:STANDARD
TZOFFSETFROM:-0700
TZOFFSETTO:-0800
TZNAME:PST
DTSTART:20251102T090000
END:STANDARD
BEGIN:DAYLIGHT
TZOFFSETFROM:-0800
TZOFFSETTO:-0700
TZNAME:PDT
DTSTART:20260308T100000
END:DAYLIGHT
BEGIN:STANDARD
TZOFFSETFROM:-0700
TZOFFSETTO:-0800
TZNAME:PST
DTSTART:20261101T090000
END:STANDARD
END:VTIMEZONE
BEGIN:VEVENT
DTSTART;VALUE=DATE:20250405
DTEND;VALUE=DATE:20250406
DTSTAMP:20260424T041511
CREATED:20250316T200034Z
LAST-MODIFIED:20250330T204404Z
UID:10001499-1743811200-1743897599@comicquest.org
SUMMARY:Games Workshop Preorders
DESCRIPTION:  \nK/T: BLOOD & ZEAL    $130.00 \nK/T: RATLINGS               $65.00 \nK/T: WRECKA KREW  $65.00 \nK/T: DATACARDS: RATLINGS                $33.50 \nK/T: DATACARDS: WRECKA KREW   $33.50 \n \nS/GRAVELORDS: DEATHRATTLE ARMY SET               $230.00 \nHIGH ELF REALMS: HIGH ELF LORDS           $45.00 \nHIGH ELF REALMS: PHOENIX GUARD           $84.00 \nHIGH ELF REALMS: SISTERS OF AVELORN $53.00 \nSOULBLIGHT GRAVELORDS: MASTERS OF DEATH              $21.00
URL:https://comicquest.org/event/games-workshop-preorders-63/
LOCATION:Comic Quest\, 23811 Bridger #111 CA 92630\, Lake Forest\, CA\, 92630\, United States
CATEGORIES:Games Workshop Preorders
ATTACH;FMTTYPE=image/png:https://comicquest.org/wp-content/uploads/2024/01/GW_peorder_logo.png
END:VEVENT
BEGIN:VEVENT
DTSTART;TZID=America/Los_Angeles:20250405T120000
DTEND;TZID=America/Los_Angeles:20250405T170000
DTSTAMP:20260424T041511
CREATED:20241029T233332Z
LAST-MODIFIED:20250328T193222Z
UID:10001233-1743854400-1743872400@comicquest.org
SUMMARY:Magic Prerelease - Tarkir Dragonstorm
DESCRIPTION:There Be Dragons!\n\n\n\n\n\n\n\nPrerelease is your community’s first opportunity to get their hands on the newest Magic: The Gathering release and explore what the set has to offer\, and Prerelease Packs are the perfect product to fuel the first events of this new set. \n\n\n\n\n\nMagic the Gathering: Tarkir Dragonstorm \nPreRelease Event = Sat& Sun April 5 & April 6 = 12pm Noon both dates. \nPreOrders now available.\nBooster Boxes Play & Collector\nPreRelease Sign ups.\n*Commander Decks & Bundles available at Launch \n\n\n\n\n\n\n\n \n \n 
URL:https://comicquest.org/event/magic-prerelease-tarkir-dragonstorm/
LOCATION:Comic Quest\, 23811 Bridger #111 CA 92630\, Lake Forest\, CA\, 92630\, United States
CATEGORIES:Event,Magic,Tournament
ATTACH;FMTTYPE=image/jpeg:https://comicquest.org/wp-content/uploads/2023/03/magic_prerelease.jpg
END:VEVENT
END:VCALENDAR