BEGIN:VCALENDAR
VERSION:2.0
PRODID:-//Comic Quest - ECPv6.15.20//NONSGML v1.0//EN
CALSCALE:GREGORIAN
METHOD:PUBLISH
X-WR-CALNAME:Comic Quest
X-ORIGINAL-URL:https://comicquest.org
X-WR-CALDESC:Events for Comic Quest
REFRESH-INTERVAL;VALUE=DURATION:PT1H
X-Robots-Tag:noindex
X-PUBLISHED-TTL:PT1H
BEGIN:VTIMEZONE
TZID:Asia/Shanghai
BEGIN:STANDARD
TZOFFSETFROM:+0800
TZOFFSETTO:+0800
TZNAME:CST
DTSTART:20240101T000000
END:STANDARD
END:VTIMEZONE
BEGIN:VEVENT
DTSTART;VALUE=DATE:20250422
DTEND;VALUE=DATE:20250423
DTSTAMP:20260424T065929
CREATED:20240828T071302Z
LAST-MODIFIED:20240828T071302Z
UID:10001128-1745280000-1745366399@comicquest.org
SUMMARY:Earth Day
DESCRIPTION:  \n 
URL:https://comicquest.org/event/earth-day-3/
LOCATION:Comic Quest\, 23811 Bridger #111 CA 92630\, Lake Forest\, CA\, 92630\, United States
CATEGORIES:Event
ATTACH;FMTTYPE=image/gif:https://comicquest.org/wp-content/uploads/2023/03/earthday_earth_heart_lg_nwm1.gif
END:VEVENT
BEGIN:VEVENT
DTSTART;TZID=Asia/Shanghai:20250422T180000
DTEND;TZID=Asia/Shanghai:20250422T210000
DTSTAMP:20260424T065929
CREATED:20240828T064538Z
LAST-MODIFIED:20240828T064538Z
UID:10001082-1745344800-1745355600@comicquest.org
SUMMARY:Lorcana Night
DESCRIPTION:WEEKLY LORCANA at COMIC QUEST.\nTuesdays – 6pm to 9pm.\nOpen play and Casual League play – Swiss\, best of 3 rounds.\nConstructed – bring your own deck!\n*As previously talked about at our past store events\, we are officially starting Tuesdays as Lorcana night at Comic Quest.\nCome play with others.\n\n 
URL:https://comicquest.org/event/lorcana-night-64/
LOCATION:Comic Quest\, 23811 Bridger #111 CA 92630\, Lake Forest\, CA\, 92630\, United States
CATEGORIES:Event,Lorcana
ATTACH;FMTTYPE=image/jpeg:https://comicquest.org/wp-content/uploads/2023/04/loracana.jpg
END:VEVENT
END:VCALENDAR