BEGIN:VCALENDAR
VERSION:2.0
PRODID:-//Comic Quest - ECPv6.15.20//NONSGML v1.0//EN
CALSCALE:GREGORIAN
METHOD:PUBLISH
X-WR-CALNAME:Comic Quest
X-ORIGINAL-URL:https://comicquest.org
X-WR-CALDESC:Events for Comic Quest
REFRESH-INTERVAL;VALUE=DURATION:PT1H
X-Robots-Tag:noindex
X-PUBLISHED-TTL:PT1H
BEGIN:VTIMEZONE
TZID:UTC
BEGIN:STANDARD
TZOFFSETFROM:+0000
TZOFFSETTO:+0000
TZNAME:UTC
DTSTART:20240101T000000
END:STANDARD
END:VTIMEZONE
BEGIN:VEVENT
DTSTART;TZID=UTC:20250427T093000
DTEND;TZID=UTC:20250427T180000
DTSTAMP:20260424T042052
CREATED:20241215T020852Z
LAST-MODIFIED:20250422T035504Z
UID:10001412-1745746200-1745776800@comicquest.org
SUMMARY:Star Wars Legion Tournament
DESCRIPTION:Star Wars Legion \nStar Wars Legion Tournament \nSunday April 27.  9:30am Check-in; 9:50am Round 1. \n3 rounds of Legion with traditional 1000 point armies.   Casual Event \n$10 Dollar Entry fee goes to prize support. \nSign up on Longshanks: https://legion.longshanks.org/event/24966/ \n  \n\nSCHEDULE:\nCheck In 9:30 am- 9:45 am (15 Minute)\nRound 1 9:50 am- 12:20 pm (2 Hour\, 30 Min)\nLunch 12:20pm- 1pm (40 Min)\nRound 2 1:05pm- 3:35pm (2 Hour\, 30 Min)\nRound 3 3:40pm- 6pm (2 Hour\, 30 Min)\n\n\n  \n  \n 
URL:https://comicquest.org/event/star-wars-legion-tournament-edit-date-before-publish-2/
LOCATION:Comic Quest\, 23811 Bridger #111 CA 92630\, Lake Forest\, CA\, 92630\, United States
CATEGORIES:Event,Star Wars Legion,Tournament
ATTACH;FMTTYPE=image/png:https://comicquest.org/wp-content/uploads/2023/03/star_wars_legion_image.png
END:VEVENT
END:VCALENDAR