BEGIN:VCALENDAR
VERSION:2.0
PRODID:-//Comic Quest - ECPv6.15.20//NONSGML v1.0//EN
CALSCALE:GREGORIAN
METHOD:PUBLISH
X-ORIGINAL-URL:https://comicquest.org
X-WR-CALDESC:Events for Comic Quest
REFRESH-INTERVAL;VALUE=DURATION:PT1H
X-Robots-Tag:noindex
X-PUBLISHED-TTL:PT1H
BEGIN:VTIMEZONE
TZID:Asia/Shanghai
BEGIN:STANDARD
TZOFFSETFROM:+0800
TZOFFSETTO:+0800
TZNAME:CST
DTSTART:20240101T000000
END:STANDARD
END:VTIMEZONE
BEGIN:VTIMEZONE
TZID:UTC
BEGIN:STANDARD
TZOFFSETFROM:+0000
TZOFFSETTO:+0000
TZNAME:UTC
DTSTART:20240101T000000
END:STANDARD
END:VTIMEZONE
BEGIN:VEVENT
DTSTART;VALUE=DATE:20250524
DTEND;VALUE=DATE:20250525
DTSTAMP:20260424T042139
CREATED:20250504T153036Z
LAST-MODIFIED:20250518T194456Z
UID:10001517-1748044800-1748131199@comicquest.org
SUMMARY:Games Workshop Preorders
DESCRIPTION:  \nBATTLETOME: SOULBLIGHT GRAVELORDS               $60.00 \nSBLIGHT GRAVELRDS: DEATHRATTLE SKELETONS              $62.50 \nS/GRAVELORDS: BLADES OF THE HOLLOW KING                $65.00 \nS/G: PRINCE VHORDRAI LORD/CRIMSON KEEP    $195.00 \nS/G: VAMPIRE LORD ON NIGHTMARE STEED           $58.00 \nSOULBLIGHT GRAVELORDS: BARROW GUARD      $60.00 \nSOULBLIGHT GRAVELORDS: BARROW KNIGHTS  $62.50 \nSOULBLIGHT GRAVELORDS: CURSED SEPULCHRE           $80.00 \nSOULBLIGHT GRAVELORDS: MANIFESTATIONS    $58.00 \nAGE OF SIGMAR:SOULBLIGHT GRAVELORDS DICE            $33.50 \nSPEARHEAD: S/GRAVELORDS BLOODCRAVE HUNT          $145.00 \nWH UNDERWORLDS: KNIVES OF THE CRONE       $44.00 \nWHU RIVALS DECK:REALMSTONE RAIDERS             $30.00 \nTHE DEAD KINGDOM (PB)     $17.99 \nTAHLIA VEDRA: LIONESS OF THE PARCH (PB)        $17.99 \nAGE OF SIGMAR: DARKOATH (PB)   $17.99 \nUSHORAN: MORTARCH OF DELUSION (HB)             $21.00 \n \nSPACE WOLVES ARMY SET $230.00 \nCHAPTER APPROVED MISSION PACK       $35.00 \nWARHAMMER 40000: CRUSADE: ARMAGEDDON             $60.00 \nCHAPTER APPROVED: OBJECTIVES SET 2025-26             $35.00 
URL:https://comicquest.org/event/games-workshop-preorders-69/
LOCATION:Comic Quest\, 23811 Bridger #111 CA 92630\, Lake Forest\, CA\, 92630\, United States
CATEGORIES:Games Workshop Preorders
ATTACH;FMTTYPE=image/png:https://comicquest.org/wp-content/uploads/2024/01/GW_peorder_logo.png
END:VEVENT
BEGIN:VEVENT
DTSTART;TZID=UTC:20250524T093000
DTEND;TZID=UTC:20250524T194500
DTSTAMP:20260424T042139
CREATED:20241215T021402Z
LAST-MODIFIED:20250518T175926Z
UID:10001415-1748079000-1748115900@comicquest.org
SUMMARY:Star Wars Legion Tourney -Revenge of the Sith Event
DESCRIPTION:Star Wars Legion Tourney \nSpecial Revenge of the Sith Event for the 20th anniversary. \n(Similar to the Phantom Menace anniversary event we did last year) \n \nDATE: Saturday May 24.  9:30am. \nENTRY FEE: $10 Entry Fee.  Special Prizing. \nFORMAT: 1000 point list but there will be no battle forces allowed for this event.*See details below \nAll lists MUST contain 1 Force user. It can be an operative or commander but must be a unit with force upgrades (No Arfs). As a force user is used on many of the map for missions and support. \nSign up Link: https://www.longshanks.org/event/25665/ \nRegistration\n9:30-9:45 (15 min)\nOpening remarks\n9:45-10 (15 Min)\nRound 1\n10:05-1:05 (3 Hours)\nLunch\n1:05- 1:35 (30 Min)\nRound 2\n1:40-4:40 (3 Hours)\nRound 3\n4:45-7:45 (3 Hours) \n*Below are some of the summaries of the tables and some hints with their missions for the event. \nComic Quest May Legion Event: The Revenge Of The Sith (May 24th Saturday) All the tables at this event are inspired by scenes from the movie. From Order 66 to the duel on Mustafar. Very similar to the special event we held last year for Phantom Menace. \nDue to the special nature of this event we will be capping the player amount at 16. But if there is enough interest we will build more tables to accommodate more people. \nArmy building for this event will be a 1000 point list but there will be no battle forces allowed for this event. As some of the battle force’s special mechanics unbalance some of the special table rules. What table you will be at will be random each time so your army should be prepared for any of the tables and their special conditions. From altering terrain to possible duels of the fates. \nAll lists MUST contain 1 Force user. It can be an operative or commander but must be a unit with force upgrades (No Arfs). As a force user is used on many of the map for missions and support. \nCommander 1-3\nOperative 1-3\nCore 2-6\nSpecial Forces 0-3\nSupport 0-3\nHeavy 0-1 \nOnly command cards are needed to be picked\, no need to pick any Objectives\, Secondary’s or Advantages are needed as each mission and condition is unique to each table. \nDue to the importance of the role he played\, Emperor Palpatine And Imperial Royal Guards are allowed to be played at the event. \nHaving units that were in the movie itself gain special bonuses depending on the table you are at. Don’t worry Rebels still have RD-D2\, Chewie and Ahsoka have special rules depending on their table. \n  \nSummaries of the tables will be given closer to the event along with some hints of what the table’s rules can. Hope to see you out there. IF you have any questions don’t hesitate to ask. \nJoin our Facebook Group: Comic Quest Star Wars Legion and/or our Discord. \n \n  \n  \n 
URL:https://comicquest.org/event/star-wars-legion-revenge-of-the-sith-event/
LOCATION:Comic Quest\, 23811 Bridger #111 CA 92630\, Lake Forest\, CA\, 92630\, United States
CATEGORIES:Event,Star Wars Legion,Tournament
ATTACH;FMTTYPE=image/png:https://comicquest.org/wp-content/uploads/2023/03/star_wars_legion_image.png
END:VEVENT
BEGIN:VEVENT
DTSTART;TZID=Asia/Shanghai:20250524T110000
DTEND;TZID=Asia/Shanghai:20250524T140000
DTSTAMP:20260424T042139
CREATED:20250517T233358Z
LAST-MODIFIED:20250517T233358Z
UID:10001524-1748084400-1748095200@comicquest.org
SUMMARY:Board Game Demo - Onirim
DESCRIPTION:FREE Board Game Demo: Onirim \n  \nSaturday May 24 Noon  – 3pm \nComic Quest is providing FREE demos of a fun board game. Learn in a couple of minutes\, it might be your next favorite game. \nPlus\, a discount on the game all day! \n  \nYou are a Dreamwalker\, lost in a mysterious labyrinth\, and you must discover the oneiric doors before your dreamtime runs out – or you will remain trapped forever! \nYou may wander through the chambers of dreams\, hoping that chance will reveal the doors\, or you can linger in each type of room. In both cases\, you will have to deal with the slithering Nightmares\, which haunt the hallways of the labyrinth. \nOnirim is a solo/cooperative card game. You (and a partner) must work (together) against the game to gather the eight Door cards before the deck runs out; you can obtain those Door cards either by playing cards of the same color three turns in a row\, or by discarding (under specific circumstances) one of your powerful Key cards. In both cases you will have to decide the best use of each card in your hand and carefully play around the Nightmares. Those cards are hidden in the deck and will trigger painful dilemmas when drawn…
URL:https://comicquest.org/event/board-game-demo-onirim-2/
LOCATION:Comic Quest\, 23811 Bridger #111 CA 92630\, Lake Forest\, CA\, 92630\, United States
CATEGORIES:Demo,Event
ATTACH;FMTTYPE=image/png:https://comicquest.org/wp-content/uploads/2025/05/ohnirim-2025-banner.png
END:VEVENT
END:VCALENDAR