BEGIN:VCALENDAR
VERSION:2.0
PRODID:-//Comic Quest - ECPv6.15.20//NONSGML v1.0//EN
CALSCALE:GREGORIAN
METHOD:PUBLISH
X-ORIGINAL-URL:https://comicquest.org
X-WR-CALDESC:Events for Comic Quest
REFRESH-INTERVAL;VALUE=DURATION:PT1H
X-Robots-Tag:noindex
X-PUBLISHED-TTL:PT1H
BEGIN:VTIMEZONE
TZID:Asia/Shanghai
BEGIN:STANDARD
TZOFFSETFROM:+0800
TZOFFSETTO:+0800
TZNAME:CST
DTSTART:20240101T000000
END:STANDARD
END:VTIMEZONE
BEGIN:VEVENT
DTSTART;VALUE=DATE:20250609
DTEND;VALUE=DATE:20250610
DTSTAMP:20260424T004007
CREATED:20240831T023136Z
LAST-MODIFIED:20250319T013334Z
UID:10001162-1749427200-1749513599@comicquest.org
SUMMARY:Donald Duck Day
DESCRIPTION:National Donald Duck Day on June 9th each year commemorates the birthday of a funny animated cartoon character. Donald Duck made his first screen debut on June 9\, 1934\, in The Wise Little Hen \n 
URL:https://comicquest.org/event/donald-duck-day-3/
LOCATION:Comic Quest\, 23811 Bridger #111 CA 92630\, Lake Forest\, CA\, 92630\, United States
CATEGORIES:Event
ATTACH;FMTTYPE=image/jpeg:https://comicquest.org/wp-content/uploads/2023/03/donald_duck_day.jpg
END:VEVENT
END:VCALENDAR