BEGIN:VCALENDAR
VERSION:2.0
PRODID:-//Comic Quest - ECPv6.15.20//NONSGML v1.0//EN
CALSCALE:GREGORIAN
METHOD:PUBLISH
X-ORIGINAL-URL:https://comicquest.org
X-WR-CALDESC:Events for Comic Quest
REFRESH-INTERVAL;VALUE=DURATION:PT1H
X-Robots-Tag:noindex
X-PUBLISHED-TTL:PT1H
BEGIN:VTIMEZONE
TZID:Asia/Shanghai
BEGIN:STANDARD
TZOFFSETFROM:+0800
TZOFFSETTO:+0800
TZNAME:CST
DTSTART:20240101T000000
END:STANDARD
END:VTIMEZONE
BEGIN:VTIMEZONE
TZID:UTC
BEGIN:STANDARD
TZOFFSETFROM:+0000
TZOFFSETTO:+0000
TZNAME:UTC
DTSTART:20240101T000000
END:STANDARD
END:VTIMEZONE
BEGIN:VEVENT
DTSTART;VALUE=DATE:20250614
DTEND;VALUE=DATE:20250615
DTSTAMP:20260424T004008
CREATED:20250525T192203Z
LAST-MODIFIED:20250608T191845Z
UID:10001529-1749859200-1749945599@comicquest.org
SUMMARY:Games Workshop Preorders
DESCRIPTION:  \nAGE OF SIGMAR: GENERAL’S HANDBOOK $60.00 \nAOS: SAND AND BONE GAMING PACK         $65.00 \nSPEARHEAD:CITIES OF SIGMAR FUSIL-PLATOON                $145.00 \nSPEARHEAD: O/BONEREAPERS MORTISAN ELITE               $145.00 \nSPEARHEAD: OGOR MAWTRIBES SCRAPGLUTT    $145.00 \nSPEARHEAD: SERAPHON SUNBLOODED PROWLERS      $145.00 \nARCANE JOURNAL: BEASTMEN BRAYHERDS          $28.00 \nTHE OLD WORLD: BEASTMEN BRAYHERDS DICE $44.00 \nBATTALION: BEASTMEN BRAYHERDS           $185.00 \nBEASTMEN BRAYHERDS: BEASTMAN SHAMAN      $30.00 \nBEASTMEN BRAYHERDS: BESTIGOR HERD               $85.00 \nBEASTMEN BRAYHERDS: GOR HERD            $85.00 \nMIDDLE-EARTH SBG: HÉRA DAUGHTER OF HELM               $35.00 \nMIDDLE-EARTH SBG: ARMIES OF MIDDLE-EARTH                $58.00 \nM-E SBG: PRINCE IMRAHIL OF DOL AMROTH         $35.00 \nMIDDLE-EARTH SBG: DOL AMROTH DICE SET        $20.50 \nM-E SBG: BOLG SPAWN OF AZOG   $35.00 \n \nKILL TEAM: TYPHON  $170.00 \nKILL TEAM: GOREMONGERS               $65.00 \nKILL TEAM: GOREMONGERS DATACARDS $33.50 \nKILL TEAM: SANCTIFIERS       $65.00 \nKILL TEAM: SANCTIFIERS DATACARDS         $33.50 \nLEGIONES ASTARTES:RAPIER LASER DESTROYER               $70.00 \nL/ASTARTES: RAPIER QUAD HEAVY BOLTERS          $70.00 \nL/ASTARTES: TARANTULA MISSILE BATTERY             $60.00 \nLEGIONES ASTARTES: TARANTULA SENTRY GUNS               $60.00 \nTHE FIRST FOUNDING (HB)  $75.00 \nCARCHARODONS: VOID EXILE (HB)              $30.00 \nGROTSNIK: DA MAD DOK (HB)           $21.00 \nDOMINION GENESIS (PB)     $17.99
URL:https://comicquest.org/event/games-workshop-preorders-73/
LOCATION:Comic Quest\, 23811 Bridger #111 CA 92630\, Lake Forest\, CA\, 92630\, United States
CATEGORIES:Games Workshop Preorders
ATTACH;FMTTYPE=image/png:https://comicquest.org/wp-content/uploads/2024/01/GW_peorder_logo.png
END:VEVENT
BEGIN:VEVENT
DTSTART;TZID=UTC:20250614T093000
DTEND;TZID=UTC:20250614T193000
DTSTAMP:20260424T004008
CREATED:20241114T222929Z
LAST-MODIFIED:20250610T221728Z
UID:10001343-1749893400-1749929400@comicquest.org
SUMMARY:Warhammer 40k RTT Tourney
DESCRIPTION:Comic Quest 40k RTT Tourney by Dicehammer. \nSaturday JUNE 14.  \nEntry Fee: $22.00 \n3 round ITC event. We will be using missions from the new mission pack. Missions and GW terrain layout TBD. \n2\,000 points. All players will receive 10 points for being Battle Ready. \n2h45m rounds. 30 minute lunch. Round 1 starts at 10AM. Chess clocks are recommended to keep games on track. \nSign-ups will be on BCP (Best Coast Pairings). It is usually posted on BCP a couple of weeks before the event. \nSign up Link: https://www.bestcoastpairings.com/event/0eVoB6g5oHGY \nSchedule: \n\n9:30 Setup\n10:00-1:00 Round 1 (extra 15 minute buffer for round 1)\n1:00-1:30 Lunch\n1:30 – 4:15 Round 2\n4:30 – 7:15 Round 3\n\nPrizes for the Top 4 \nMore details on the BCP link above
URL:https://comicquest.org/event/warhammer-40k-rtt-tourney-5/
LOCATION:Comic Quest\, 23811 Bridger #111 CA 92630\, Lake Forest\, CA\, 92630\, United States
CATEGORIES:40K,Event,Tournament
ATTACH;FMTTYPE=image/jpeg:https://comicquest.org/wp-content/uploads/2023/01/40k-logo.jpg
END:VEVENT
BEGIN:VEVENT
DTSTART;TZID=Asia/Shanghai:20250614T120000
DTEND;TZID=Asia/Shanghai:20250614T130000
DTSTAMP:20260424T004008
CREATED:20250511T012637Z
LAST-MODIFIED:20250511T012637Z
UID:10001519-1749902400-1749906000@comicquest.org
SUMMARY:Book Club - In Utero
DESCRIPTION:Each month we select a notable graphic novel for the book club.  It is 25% Off to everyone all month.  At the end of the month we meet to discuss. \nThis month’s selection is \nIn Utero \n(W) Michael Walsh (A) Michael Walsh\, Toni-Marie Griffin \nMeeting Saturday June 14th.  Noon. \nTwelve years after a disastrous explosion\, young Hailey is dropped off by her mum at a holiday camp in a dilapidated shopping mall. Alienated from the other kids\, she connects with an eerie older teen named Jen… but soon dark horrors awaken\, and the two new friends are caught up in a cataclysmic battle between two terrifying creatures who have been lying dormant all this time. \nOne of Australia’s most acclaimed young graphic novelists\, Chris Gooch expertly crafts a taut and intimate thriller about mothers and daughters\, the monstrous and the mundane\, and the power of friendship in the midst of catastrophe. \n\n\nPAST SELECTIONS: \n6/4/11 Morning Glories \n7/9/11 Irredeemable \n8/6/11 Chew \n9/10/11 Batwoman: Elegy \n10/8/11 Fables 1 Legends in Exile \n11/5/11 Marvel Zombies 1 \n12/3/11 Green Hornet: Sins of our Fathers 1 \n2/11/12 Sandman 1: Preludes & Nocturnes \n3/3/12  The New Teen Titans: Games \n4/12/12 Return of the Dapper Men \n6/2/12  Asterios Polyp \n8/22/12  Watchmen \n10/12/12 Locke & Key 1 \n12/12/12 Christmas Carole \n2/13/13 Invincible \n4/13/13 Building Stories \n6/18/13 Prophet \n8/3/13 Young Inhumans \n9/16/13 Midnight Nation \n10/13/13 Hawkeye: 1 My life as a weapon \n12/28/13  Blacksad \n2/12/14 Porcelain \n3/29/14 Saga 1 \n5/17/14 Fatale 1 \n6/25/14 The Property \n8/2/14 Good Dog \n9/3/14 Trillium \n10/1/14 Rat Queens \n11/8/14 WinterWorld \n12/5/14 Black Widow 1 \n1/10/15 Astro City: Life in the Big City \n2/28/15 Beautiful Darkness \n3/28/15 Seconds \n4/25/15 The Wake \n5/24/15 Here \n6/27/15 This One Summer \n7/25/15 Gigantic Beard That Was Evil \n9/5/15 The Wicked and the Divine \n10/3/15 Black Science: 1 \n11/7/15 Wytches \n12/5/15 Nimona \n1/30/16 Jessica Jones: AKA Alias \n3/5/16 Supermutant Magic Academy \n4/19/16 Private Eye \n5/14/16 Southern Bastard \n6/11/16 Lady Killer \n7/16/16 Long Walk to Valhalla \n8/13/16 Monstress \n9/10/16 Paper Girls \n10/15/16 Panther \n11/12/16 Afterlife with Archie \n12/10/16 Ruins \n1/7/17 Klaus \n2/17/17 Mooncop \n4/1/17 Sheriff of Babylon \n5/13/17 Vision: 1 \n6/27/17 Eartha \n7/29/17 Lennon \n8/26/17 Wonder Woman: A True Amazon \n9/30/17  Patience \n10/28/17 Halloween Tales \n11/25/17 My Favorite Things is Monsters \n1/6/18 Daytripper \n2/10/18 Snotgirl: Green Hair Don’t Care \n3/17/18 Black Panther \n4/7/18 Niourk \n5/12/18 Killing & Dying \n6/9/18 Infinity Gauntlet \n7/14/18 Black Hammer \n8/11/18 Boundless \n9/8/18 I Kill Giants \n10/20/18 Rome West \n12/1/18 Dark Nights Metal \n12/29/18 Skyward \n2/2/19 Roughneck \n3/2/19 Upgrade Soul \n4/6/19 WaterSnakes \n5/11/19 The Lie and How We Told It \n6/8/19 Mister Miracle \n7/13/19 Immortal Hulk \n8/10/19 Come Again \n9/14/19 My Heroes Have Always Been Junkies \n10/5/19 Batman White Knight \n11/2/19 Bone Parish 1 & 2 \n12/14/19 Exit Stage Left \n1/4/20 Heroes in Crisis \n2/1/20 Sabrina \n3/7/20 Green Lantern: Intergalactic Lawman \n4/18/20 Star Trek Next Generation Mirror Broken \n6/13/20 DIE \n7/11/20 Something is Killing the Children \n8/8/20 Once & Future \n9/12/20 Freedom Fighters \n10/10/20 Are you Listening? \n11/14/20 Uzamaki \n12/12/20 Cats of the Louvre \n1/4/21 4 Kids Walk Into a Bank \n2/13/21 The House \n3/13/21 Dracula MotherF**cker \n4/10/21 Superman’s Pal Jimmy Olsen \n5/8/21 Dead Day \n6/18/21 Rogue Planet \n7/10/21 We Only Find Them When They Are Dead \n8/7/21 Eight-Lane Runaways \n9/11/21 Resistance \n10/9/21 Pulp \n11/13/21 Basketful of Heads \n12/11/21 Department of Truth \n1/8/22 Last Stand of the Tin Can Sailors \n2/19/22 Stray Dogs \n3/12/22 Graveneye \n4/9/22 Oksi \n5/14 Carthago \n6/11/22 I want to eat your pancreas \n7/9/22 Bubble \n8/13/22 Ballad of Sophie \n9-10 In. \n10/8/22 Destroy All Monsters \n11/12/22 You Died an Anthology of the Afterlife \n12/10/22 Monsters \n1/14/23 Goblin Girl \n2/11/23 Fantastic Four Full Circle \n3/11/23 Ducks \n4/8/23 Radiant Black \n5/13/23 Nice House on the Lake \n6/10/23 TMNT – Last Ronin \n7/8/23 Catwoman Lonely City \n8/12/23 Rain \n9/9/23 Chivalry \n10/14 /23 Always Never \n11/11/23 Swamp Thing Green Hell \n12/16/23 Monica \n1/13/24 Eight Billion Genies \n2/10/24 Aquaman: Andromeda \n3/9/24 Do A Powerbomb \n4/13/24 Wonder Woman Historia \n5/11/24 Shubeik Lubeik \n6/8/24 Godzilla Here Be Dragons \n7/13/24 Ashes \n8/10/24 Eden II \n9/14/24 Supergirl Woman of Tomorrow \n10/12/24 Houses of the Unholy \n11/924 Beneath the Trees Where Nobody Sees \n12/14/24 Somna \n1/11/25 Batman – Santa Claus: Silent Knight \n2/8/25 Dawnrunner \n3/15/25 Power Fantasy \n4/12/25 One Hand Six Fingers \n5/10/25 Universal Monsters Frankenstein \n6/14/25 In Utero
URL:https://comicquest.org/event/book-club-in-utero/
LOCATION:Comic Quest\, 23811 Bridger #111 CA 92630\, Lake Forest\, CA\, 92630\, United States
CATEGORIES:Book Club,Event
ATTACH;FMTTYPE=image/jpeg:https://comicquest.org/wp-content/uploads/2023/03/bookclub.jpg
END:VEVENT
BEGIN:VEVENT
DTSTART;TZID=Asia/Shanghai:20250614T120000
DTEND;TZID=Asia/Shanghai:20250614T150000
DTSTAMP:20260424T004008
CREATED:20250608T012453Z
LAST-MODIFIED:20250608T012453Z
UID:10001540-1749902400-1749913200@comicquest.org
SUMMARY:Board Game Demo - Magic The Gathering
DESCRIPTION:FREE Board Game Demo: Magic The Gathering \n  \nSaturday Jun 14 Noon  – 3pm \nComic Quest is providing FREE demos of a fun board game. Learn in a couple of minutes\, it might be your next favorite game. \nFREE Welcome Deck (while supplies last) \n  \nLearn-to-Play Magic. Or get a refresher. Brush up on the best practices of deck building. Free Welcome Decks to take home! \nMagic: The Gathering is a trading card game where players battle each other using decks of cards\, summoning creatures and casting spells to eliminate their opponent’s life points. The game involves drawing cards\, playing lands to generate mana\, and using mana to cast spells and attack the opponent.
URL:https://comicquest.org/event/board-game-demo-magic-the-gathering/
LOCATION:Comic Quest\, 23811 Bridger #111 CA 92630\, Lake Forest\, CA\, 92630\, United States
CATEGORIES:Demo,Event
ATTACH;FMTTYPE=image/png:https://comicquest.org/wp-content/uploads/2025/06/magic-banner.png
END:VEVENT
END:VCALENDAR