BEGIN:VCALENDAR
VERSION:2.0
PRODID:-//Comic Quest - ECPv6.15.20//NONSGML v1.0//EN
CALSCALE:GREGORIAN
METHOD:PUBLISH
X-WR-CALNAME:Comic Quest
X-ORIGINAL-URL:https://comicquest.org
X-WR-CALDESC:Events for Comic Quest
REFRESH-INTERVAL;VALUE=DURATION:PT1H
X-Robots-Tag:noindex
X-PUBLISHED-TTL:PT1H
BEGIN:VTIMEZONE
TZID:UTC
BEGIN:STANDARD
TZOFFSETFROM:+0000
TZOFFSETTO:+0000
TZNAME:UTC
DTSTART:20240101T000000
END:STANDARD
END:VTIMEZONE
BEGIN:VTIMEZONE
TZID:Asia/Shanghai
BEGIN:STANDARD
TZOFFSETFROM:+0800
TZOFFSETTO:+0800
TZNAME:CST
DTSTART:20240101T000000
END:STANDARD
END:VTIMEZONE
BEGIN:VEVENT
DTSTART;VALUE=DATE:20250703
DTEND;VALUE=DATE:20250704
DTSTAMP:20260423T232620
CREATED:20250402T231156Z
LAST-MODIFIED:20250630T224603Z
UID:10001503-1751500800-1751587199@comicquest.org
SUMMARY:Star Wars Unlimited - Legends of the Force
DESCRIPTION:Star Wars Unlimited-Legends of the Force \n \nGet your hands on the new cards before they are available to the general public the following week.  See the cards in action before anyone else.  See popular characters fight for your amusement. Great for new players to the game and folks who have been already been playing. Easy to jump in anytime. There are starter decks as well as boosters for easy entry. \n 
URL:https://comicquest.org/event/star-wars-unlimited-legends-of-the-force/
LOCATION:Comic Quest\, 23811 Bridger #111 CA 92630\, Lake Forest\, CA\, 92630\, United States
CATEGORIES:Event,Star Wars Unlimited,Tournament
ATTACH;FMTTYPE=image/jpeg:https://comicquest.org/wp-content/uploads/2023/10/star-wars-unlimited.jpg
END:VEVENT
BEGIN:VEVENT
DTSTART;TZID=Asia/Shanghai:20250703T180000
DTEND;TZID=Asia/Shanghai:20250703T220000
DTSTAMP:20260423T232620
CREATED:20240831T024850Z
LAST-MODIFIED:20240831T024850Z
UID:10001182-1751565600-1751580000@comicquest.org
SUMMARY:Tactical Thursday
DESCRIPTION:This event is for Tactical Thursday! Come and join the fun! \nAn evening dedicated to all popular miniature games. \n  \nSome Facebook Groups \nGames Workshop \nInfinity \nStar Wars Legion \nBattletech \nMiniature Club
URL:https://comicquest.org/event/tactical-thursday-125/
LOCATION:Comic Quest\, 23811 Bridger #111 CA 92630\, Lake Forest\, CA\, 92630\, United States
CATEGORIES:Event
ATTACH;FMTTYPE=image/jpeg:https://comicquest.org/wp-content/uploads/2023/01/Tactical_thursday.jpg
END:VEVENT
END:VCALENDAR