BEGIN:VCALENDAR
VERSION:2.0
PRODID:-//Comic Quest - ECPv6.15.20//NONSGML v1.0//EN
CALSCALE:GREGORIAN
METHOD:PUBLISH
X-WR-CALNAME:Comic Quest
X-ORIGINAL-URL:https://comicquest.org
X-WR-CALDESC:Events for Comic Quest
REFRESH-INTERVAL;VALUE=DURATION:PT1H
X-Robots-Tag:noindex
X-PUBLISHED-TTL:PT1H
BEGIN:VTIMEZONE
TZID:Asia/Shanghai
BEGIN:STANDARD
TZOFFSETFROM:+0800
TZOFFSETTO:+0800
TZNAME:CST
DTSTART:20240101T000000
END:STANDARD
END:VTIMEZONE
BEGIN:VTIMEZONE
TZID:America/Los_Angeles
BEGIN:DAYLIGHT
TZOFFSETFROM:-0800
TZOFFSETTO:-0700
TZNAME:PDT
DTSTART:20240310T100000
END:DAYLIGHT
BEGIN:STANDARD
TZOFFSETFROM:-0700
TZOFFSETTO:-0800
TZNAME:PST
DTSTART:20241103T090000
END:STANDARD
BEGIN:DAYLIGHT
TZOFFSETFROM:-0800
TZOFFSETTO:-0700
TZNAME:PDT
DTSTART:20250309T100000
END:DAYLIGHT
BEGIN:STANDARD
TZOFFSETFROM:-0700
TZOFFSETTO:-0800
TZNAME:PST
DTSTART:20251102T090000
END:STANDARD
BEGIN:DAYLIGHT
TZOFFSETFROM:-0800
TZOFFSETTO:-0700
TZNAME:PDT
DTSTART:20260308T100000
END:DAYLIGHT
BEGIN:STANDARD
TZOFFSETFROM:-0700
TZOFFSETTO:-0800
TZNAME:PST
DTSTART:20261101T090000
END:STANDARD
END:VTIMEZONE
BEGIN:VEVENT
DTSTART;VALUE=DATE:20250726
DTEND;VALUE=DATE:20250727
DTSTAMP:20260423T232619
CREATED:20250707T225459Z
LAST-MODIFIED:20250720T191531Z
UID:10001567-1753488000-1753574399@comicquest.org
SUMMARY:Games Workshop Preorders
DESCRIPTION:  \nHH: AGE OF DARKNESS: SATURNINE            $315.00 \nTHH: AGE OF DARKNESS RULEBOOK           $70.00 \nHORUS HERESY: LIBER ASTARTES   $65.00 \nHORUS HERESY: LIBER HERETICUS               $65.00 \nJOURNAL TACTICA: ISSTVAN V: PART 1         $28.00 \nHORUS HERESY: LIBER MECHANICUM        $52.00 \nHORUS HERESY: LIBER QUESTORIS              $52.00 \nHORUS HERESY: LIBER AUXILIA        $52.00 \nLEGIONES ASTARTES: MKII TACTICAL SQUAD         $85.00 \nSOT: THE END AND THE DEATH (VOL 2) (PB)            $16.00 \n \nCODEX: GREY KNIGHTS          $60.00 \nCODEX SUPPLEMENT: BLACK TEMPLARS  $35.00 \nDATASHEET CARDS: GREY KNIGHTS              $35.00 \nDATASHEET CARDS: BLACK TEMPLARS       $35.00 \nWARHAMMER 40000: GREY KNIGHTS DICE              $33.50 \nWARHAMMER 40000: BLACK TEMPLARS DICE       $33.50 \nCOMBAT PATROL: GREY KNIGHTS   $170.00 \nCOMBAT PATROL: BLACK TEMPLARS            $170.00 \nCOMBAT PATROL: SPACE WOLVES $170.00 \nCOMBAT PATROL: TYRANID ASSAULT BROOD        $170.00 \nGREY KNIGHTS: SANCTIC CONCLAVE         $240.00 \nBLACK TEMPLARS: CRUSADE ANCIENT      $42.00 \nBLACK TEMPLARS: EXECRATOR       $40.00 \nGREY KNIGHTS: THE OMNIBUS (PB)              $21.00 \nBROKEN CRUSADE (PB)         $17.99
URL:https://comicquest.org/event/games-workshop-preorders-79/
LOCATION:Comic Quest\, 23811 Bridger #111 CA 92630\, Lake Forest\, CA\, 92630\, United States
CATEGORIES:Games Workshop Preorders
ATTACH;FMTTYPE=image/png:https://comicquest.org/wp-content/uploads/2024/01/GW_peorder_logo.png
END:VEVENT
BEGIN:VEVENT
DTSTART;TZID=America/Los_Angeles:20250726T120000
DTEND;TZID=America/Los_Angeles:20250726T170000
DTSTAMP:20260423T232619
CREATED:20241029T233756Z
LAST-MODIFIED:20250723T030607Z
UID:10001237-1753531200-1753549200@comicquest.org
SUMMARY:Magic Prerelease - Edge of Eternities
DESCRIPTION:Prerelease is your first opportunity to get your hands on the newest Magic: The Gathering release and explore what the set has to offer\, and Prerelease Kits are the perfect product to fuel the first events of this new set. \n\n\n\n\n\nMagic the Gathering: Edge of Eternities \n*Preorder Sign -ups for PreRelease Events (Fri/Sat/Sun July 25\, July 26 & July 27)= Begin July 11. \n*PreRelease Entry Fee = $37.99 + tax. Per Person. Per Event. You can sign up for multiple events. Price includes PreRelease Kit and any applicable promos. \n*Preorders for PRODUCT = Begin July 11. \n\n*Friday 7/25 PreRelease Event = Sealed 2 Headed Giant format (Play in 2-player teams. This is a hugely popular format). Still use the PreRelease Kit. Still a sealed event. 6:00pm to 10:00pm\n*Sat 7/26 & Sun 7/27 PreRelease Events = are regular Sealed Format using the PreRelease Kits. 12pm Noon\n\nAll Product available starting at PreRelease. (AKA Launch at FLGS). \n \nMore details TBA
URL:https://comicquest.org/event/magic-prerelease-edge-of-eternities/
LOCATION:Comic Quest\, 23811 Bridger #111 CA 92630\, Lake Forest\, CA\, 92630\, United States
CATEGORIES:Event,Magic,Tournament
ATTACH;FMTTYPE=image/jpeg:https://comicquest.org/wp-content/uploads/2023/03/magic_prerelease.jpg
END:VEVENT
END:VCALENDAR