BEGIN:VCALENDAR
VERSION:2.0
PRODID:-//Comic Quest - ECPv6.15.20//NONSGML v1.0//EN
CALSCALE:GREGORIAN
METHOD:PUBLISH
X-ORIGINAL-URL:https://comicquest.org
X-WR-CALDESC:Events for Comic Quest
REFRESH-INTERVAL;VALUE=DURATION:PT1H
X-Robots-Tag:noindex
X-PUBLISHED-TTL:PT1H
BEGIN:VTIMEZONE
TZID:Asia/Shanghai
BEGIN:STANDARD
TZOFFSETFROM:+0800
TZOFFSETTO:+0800
TZNAME:CST
DTSTART:20240101T000000
END:STANDARD
END:VTIMEZONE
BEGIN:VTIMEZONE
TZID:UTC
BEGIN:STANDARD
TZOFFSETFROM:+0000
TZOFFSETTO:+0000
TZNAME:UTC
DTSTART:20240101T000000
END:STANDARD
END:VTIMEZONE
BEGIN:VEVENT
DTSTART;VALUE=DATE:20250802
DTEND;VALUE=DATE:20250803
DTSTAMP:20260423T220908
CREATED:20250714T024210Z
LAST-MODIFIED:20250728T175502Z
UID:10001573-1754092800-1754179199@comicquest.org
SUMMARY:Games Workshop Preorders
DESCRIPTION:  \nBATTLETOME: KHARADRON OVERLORDS $60 \nBATTLETOME: BLADES OF KHORNE               $60 \nWHU: RAGING SLAYERS RIVALS DECK         $30 \nWARSCROLL CARDS: BLADES OF KHORNE             $35 \nWSR CARDS: KHARADRON OVERLORDS   $35 \nAGE OF SIGMAR: KHARADRON OVERLORDS DICE              $34 \nAGE OF SIGMAR: BLADES OF KHORNE DICE           $34 \nWARHAMMER UNDERWORLDS:KAMANDORA’S BLADES                $44 \nSPEARHEAD: B/K: FANGS OF THE BLOOD GOD     $145 \nSPEARHEAD: K/O: GRUNDSTOK TRAILBLAZERS   $145 \nBLADES OF KHORNE: THE RED REVELATION          $90 \nBLADES OF KHORNE: DEATHBRINGER       $35 \nK/OVERLORDS: VONGRIM HARPOON CREW          $60 \nKHARADRON OVERLORDS: NULL-KHEMIST            $45 \nKHARADRON OVERLORDS: DREKKI’S PRIVATEERS             $140 \nKHARADRON OVERLORDS: ZONTARI ENDRIN DOCK        $63 \nQUEEN OF THE ROSE THRONE (HB)              $30 \n \nLEGIONES ASTARTES: SATURNINE TERMINATORS               $80.00 \nLEGIONES ASTARTES: SATURNINE PRAETOR           $52.00 \nLEGIONES ASTARTES CENTURION W/POWER MAUL         $38.00 \nAGE OF DARKNESS: MARKERS AND TOKENS          $25.00 \nL/ASTARTES: SATURNINE DREADNOUGHT OPHION           $112.00 \nLEGIONES ASTARTES: DROP POD   $58.00 \nHORUS HERESY: AGE OF DARKNESS DICE SET      $45.00 \nTHE END AND THE DEATH: VOLUME III (PB)             $16.00
URL:https://comicquest.org/event/games-workshop-preorders-80/
LOCATION:Comic Quest\, 23811 Bridger #111 CA 92630\, Lake Forest\, CA\, 92630\, United States
CATEGORIES:Games Workshop Preorders
ATTACH;FMTTYPE=image/png:https://comicquest.org/wp-content/uploads/2024/01/GW_peorder_logo.png
END:VEVENT
BEGIN:VEVENT
DTSTART;TZID=UTC:20250802T093000
DTEND;TZID=UTC:20250802T193000
DTSTAMP:20260423T220908
CREATED:20250227T075454Z
LAST-MODIFIED:20250730T234020Z
UID:10001490-1754127000-1754163000@comicquest.org
SUMMARY:Blood Bowl Tournament - Couples Cup
DESCRIPTION:Saturday August 2\, 2025 \nThe event will be Couples Cup V. It’ll be a Blood Bowl 11s tournament that will take up the whole day. Details below. \nJoin our Discord server: https://discord.com/invite/jsCQRHaVAr \n\nDiscord has player packet with more details. Or can request by email when register.\n\nCouples Cup Rules Sheet Date:  \n\nSATURDAY\, August 2nd\, 2025 AT 10 AM – 7 PM\n\nThe Gimmick: On Thursday\, July 24th\, a Star Player “Draft” will be held. See: special rules in player packet. \nTeam Draft Budget: 1\,150\,000 gold pieces+ \nTeam Selection: All Blood Bowl 2020 rule books and supplements including Slann are usable excluding Death Zone and any forms of mercenaries \nTools of the Trade: Models\, Roster\, Dice\, Rulebook\, Pitch and Dugouts. \nRegistration: To register email bloodbowlcouplescup@gmail.com. \nRegistration is $25. You are considered registered when you have paid\, and not before. If you have not paid before July 24th\, you will not be assigned a Star Player\, and you will not get to take part in the tournament. Payment may be given to the tournament organizer (Bradley) anytime before July 4 in person\, or by paypal at bloodbowlcouplescup@gmail.com $5 is a non-refundable deposit (meant to discourage people dropping after being assigned their Star Player). When you show up in person\, on August 2nd\, you will receive $5 cash. When you register\, you may choose up to 2 Star Players to be your mulligan. We will be capping the tournament at 26. NAF/WCGP: This tournament is NAF approved and is a stop on the West Coast Grand Prix.. \n 
URL:https://comicquest.org/event/blood-bowl-tournament-2/
LOCATION:Comic Quest\, 23811 Bridger #111 CA 92630\, Lake Forest\, CA\, 92630\, United States
CATEGORIES:Bloodbowl,Event
ATTACH;FMTTYPE=image/png:https://comicquest.org/wp-content/uploads/2023/03/Bloodbowl_logo.png
END:VEVENT
END:VCALENDAR