BEGIN:VCALENDAR
VERSION:2.0
PRODID:-//Comic Quest - ECPv6.15.20//NONSGML v1.0//EN
CALSCALE:GREGORIAN
METHOD:PUBLISH
X-ORIGINAL-URL:https://comicquest.org
X-WR-CALDESC:Events for Comic Quest
REFRESH-INTERVAL;VALUE=DURATION:PT1H
X-Robots-Tag:noindex
X-PUBLISHED-TTL:PT1H
BEGIN:VTIMEZONE
TZID:Asia/Shanghai
BEGIN:STANDARD
TZOFFSETFROM:+0800
TZOFFSETTO:+0800
TZNAME:CST
DTSTART:20240101T000000
END:STANDARD
END:VTIMEZONE
BEGIN:VTIMEZONE
TZID:America/Los_Angeles
BEGIN:DAYLIGHT
TZOFFSETFROM:-0800
TZOFFSETTO:-0700
TZNAME:PDT
DTSTART:20240310T100000
END:DAYLIGHT
BEGIN:STANDARD
TZOFFSETFROM:-0700
TZOFFSETTO:-0800
TZNAME:PST
DTSTART:20241103T090000
END:STANDARD
BEGIN:DAYLIGHT
TZOFFSETFROM:-0800
TZOFFSETTO:-0700
TZNAME:PDT
DTSTART:20250309T100000
END:DAYLIGHT
BEGIN:STANDARD
TZOFFSETFROM:-0700
TZOFFSETTO:-0800
TZNAME:PST
DTSTART:20251102T090000
END:STANDARD
BEGIN:DAYLIGHT
TZOFFSETFROM:-0800
TZOFFSETTO:-0700
TZNAME:PDT
DTSTART:20260308T100000
END:DAYLIGHT
BEGIN:STANDARD
TZOFFSETFROM:-0700
TZOFFSETTO:-0800
TZNAME:PST
DTSTART:20261101T090000
END:STANDARD
END:VTIMEZONE
BEGIN:VEVENT
DTSTART;VALUE=DATE:20250920
DTEND;VALUE=DATE:20250921
DTSTAMP:20260423T205414
CREATED:20241112T044813Z
LAST-MODIFIED:20241112T044832Z
UID:10001297-1758326400-1758412799@comicquest.org
SUMMARY:Batman Day
DESCRIPTION:  \n\n\n\n\nBatman Day\n\n\nCelebrate the awesomeness of Batman\n\n\n20% OFF all Batman Graphic Novels\n\n\n20% OFF all Batman Statues\, Miniatures\, and Games.
URL:https://comicquest.org/event/batman-day-3/
LOCATION:Comic Quest\, 23811 Bridger #111 CA 92630\, Lake Forest\, CA\, 92630\, United States
CATEGORIES:Event
ATTACH;FMTTYPE=image/jpeg:https://comicquest.org/wp-content/uploads/2023/03/batman_day_all_years.jpg
END:VEVENT
BEGIN:VEVENT
DTSTART;VALUE=DATE:20250920
DTEND;VALUE=DATE:20250921
DTSTAMP:20260423T205414
CREATED:20250831T185735Z
LAST-MODIFIED:20250914T170724Z
UID:10003590-1758326400-1758412799@comicquest.org
SUMMARY:Games Workshop Preorders
DESCRIPTION:IMPERIAL KNIGHTS: KNIGHT QUESTORIS  $194.00 \nIMPERIAL FISTS: DARNATH LYSANDER         $45.00 \nRAVEN GUARD: AETHON SHAAN     $45.00 \nG/K: GRANDMASTER IN NEMESIS DREADKNIGHT                $80.00 \nTHOUSAND SONS: SEKHETAR ROBOTS      $50.00 \nCOMBAT PATROL: IMPERIAL FISTS  $170.00 \nCOMBAT PATROL: RAVEN GUARD   $170.00 \nCODEX: IMPERIAL KNIGHTS                $60.00 \nKILL TEAM: APPROVED OPS CARDS 2025  $25.00 \nDATASHEET CARDS: IMPERIAL KNIGHTS     $27.00 \nWARHAMMER 40000: IMPERIAL KNIGHTS DICE    $33.50 \nWARHAMMER 40000: IMPERIAL FISTS DICE             $33.50 \nWARHAMMER 40000: RAVEN GUARD DICE              $33.50 \nCIAPHAS CAIN: THE ANTHOLOGY (PB)        $17.99 \n \nLEGIONES ASTARTES: MKII ASSAULT SQUAD          $73.50 \nL/A: FELLBLADE SUPER-HEAVY BATTLE TANK          $210.00 \nJOURNAL TACTICA: THE FORGES OF SATURN        $29.00 \nHORUS HERESY: MECHANICUM COMBAT FORCE               $170.00 \nHORUS HERESY: L/ASTARTES COMBAT FORCE      $170.00 \nHORUS HERESY: SOLAR AUXILIA COMBAT FORCE              $170.00 \nM-E SBG JOURNAL: THE WAR OF THE ROHIRRIM $29.00 \nM-E SBG: HELM HAMMERHAND KING OF ROHAN               $36.50 \nM-E SBG:FRÉALEÁF HILDESON & OLWYN & LIEF  $53.00 \nMIDDLE-EARTH SBG:HILL TRIBESMEN DICE SET  $20.50 \nMIDDLE-EARTH SBG: ROHIRRIM DICE SET                $20.50 \nVOIDSCARRED (HB)  $30.00 \nDARKNESS ETERNAL (PB)     $17.99 \nTHE REMNANT BLADE (HB)  $30.00 \nELEMENTAL COUNCIL (PB)  $17.99
URL:https://comicquest.org/event/games-workshop-preorders-87/
LOCATION:Comic Quest\, 23811 Bridger #111 CA 92630\, Lake Forest\, CA\, 92630\, United States
CATEGORIES:Games Workshop Preorders
ATTACH;FMTTYPE=image/png:https://comicquest.org/wp-content/uploads/2024/01/GW_peorder_logo.png
END:VEVENT
BEGIN:VEVENT
DTSTART;TZID=America/Los_Angeles:20250920T120000
DTEND;TZID=America/Los_Angeles:20250920T170000
DTSTAMP:20260423T205414
CREATED:20250420T011643Z
LAST-MODIFIED:20250902T171021Z
UID:10001514-1758369600-1758387600@comicquest.org
SUMMARY:Magic Prerelease - Marvel's Spider-Man
DESCRIPTION:Prerelease is your community’s first opportunity to get their hands on the newest Magic: The Gathering release and explore what the set has to offer\, and Prerelease Packs are the perfect product to fuel the first events of this new set. \n\n\n\n\n\nMagic the Gathering: Marvel’s Spider-Man \nPreRelease Event = Fri\, Sat& Sun September 19\, 20 &  21. Fri 6pm. Sat/Sun 12pm Noon. Sign ups start Aug 29 (Sept 1) \n\nFriday PreRelease = 9/19 = 2HG (Two Headed Giant) Sign up and Play with a partner!\nSat/Sun PreRelease Event= 9/20\, 9/21 = Regular Sealed event.\nAll events use the PreRelease Kit\n\nAll Product available starting at PreRelease. (AKA Launch at FLGS). \n \nMore details TBA
URL:https://comicquest.org/event/magic-prerelease-marvels-spider-man/
LOCATION:Comic Quest\, 23811 Bridger #111 CA 92630\, Lake Forest\, CA\, 92630\, United States
CATEGORIES:Event,Magic,Tournament
ATTACH;FMTTYPE=image/jpeg:https://comicquest.org/wp-content/uploads/2023/03/magic_prerelease.jpg
END:VEVENT
END:VCALENDAR