BEGIN:VCALENDAR
VERSION:2.0
PRODID:-//Comic Quest - ECPv6.15.20//NONSGML v1.0//EN
CALSCALE:GREGORIAN
METHOD:PUBLISH
X-WR-CALNAME:Comic Quest
X-ORIGINAL-URL:https://comicquest.org
X-WR-CALDESC:Events for Comic Quest
REFRESH-INTERVAL;VALUE=DURATION:PT1H
X-Robots-Tag:noindex
X-PUBLISHED-TTL:PT1H
BEGIN:VTIMEZONE
TZID:Asia/Shanghai
BEGIN:STANDARD
TZOFFSETFROM:+0800
TZOFFSETTO:+0800
TZNAME:CST
DTSTART:20240101T000000
END:STANDARD
END:VTIMEZONE
BEGIN:VTIMEZONE
TZID:UTC
BEGIN:STANDARD
TZOFFSETFROM:+0000
TZOFFSETTO:+0000
TZNAME:UTC
DTSTART:20240101T000000
END:STANDARD
END:VTIMEZONE
BEGIN:VEVENT
DTSTART;VALUE=DATE:20251004
DTEND;VALUE=DATE:20251005
DTSTAMP:20260423T165921
CREATED:20250914T170830Z
LAST-MODIFIED:20250928T180129Z
UID:10003646-1759536000-1759622399@comicquest.org
SUMMARY:Games Workshop Preorders
DESCRIPTION:LEGIONES ASTARTES: MKII ASSAULT SQUAD          $73.50 \nL/A: FELLBLADE SUPER-HEAVY BATTLE TANK          $210.00 \nJOURNAL TACTICA: THE FORGES OF SATURN        $29.00 \nHORUS HERESY: MECHANICUM COMBAT FORCE               $170.00 \nHORUS HERESY: L/ASTARTES COMBAT FORCE      $170.00 \nHORUS HERESY: SOLAR AUXILIA COMBAT FORCE              $170.00 \nM-E SBG JOURNAL: THE WAR OF THE ROHIRRIM $29.00 \nM-E SBG: HELM HAMMERHAND KING OF ROHAN               $36.50 \nM-E SBG:FRÉALEÁF HILDESON & OLWYN & LIEF  $53.00 \nMIDDLE-EARTH SBG:HILL TRIBESMEN DICE SET  $20.50 \nMIDDLE-EARTH SBG: ROHIRRIM DICE SET                $20.50 \nVOIDSCARRED (HB)  $30.00 \nDARKNESS ETERNAL (PB)     $17.99 \nTHE REMNANT BLADE (HB)  $30.00 \nELEMENTAL COUNCIL (PB)  $17.99 \n \nWARHAMMER UNDERWORLDS: SEEKERS IN SHADOW   $102.00 \nWARHAMMER UNDERWORLDS: REAVERS OF RUIN           $102.00 \nWARHAMMER UNDERWORLDS: MORBID MINIONS           $102.00 \nWARHAMMER UNDERWORLDS: GITZ AND GOLIATHS      $102.00 \nWARHAMMER UNDERWORLDS: SPITEWOOD        $85.00 \nARCANE JOURNAL: THE WAR OF SETTRA’S FURY $29.00 \nL/I: LEGIONES ASTARTES COMBAT FORCE                $170.00 \nL/IMPERIALIS: MECHANICUM COMBAT FORCE     $170.00 \nL/IMPERIALIS: SOLAR AUXILIA COMBAT FORCE    $170.00 \nTOMB KINGS OF KHEMRI: ROYAL HERALDS             $53.00 \nTOMB KINGS OF KHEMRI: LICHE PRIESTS  $53.001
URL:https://comicquest.org/event/games-workshop-preorders-89/
LOCATION:Comic Quest\, 23811 Bridger #111 CA 92630\, Lake Forest\, CA\, 92630\, United States
CATEGORIES:Games Workshop Preorders
ATTACH;FMTTYPE=image/png:https://comicquest.org/wp-content/uploads/2024/01/GW_peorder_logo.png
END:VEVENT
BEGIN:VEVENT
DTSTART;TZID=UTC:20251004T110000
DTEND;TZID=UTC:20251004T200000
DTSTAMP:20260423T165921
CREATED:20250802T002714Z
LAST-MODIFIED:20251004T014631Z
UID:10002105-1759575600-1759608000@comicquest.org
SUMMARY:D&D Learn to Play (and Other RPGS)
DESCRIPTION:SAVE THE DATE!! SATURDAY October 4th\nD&D and other RPG’s = LEARN TO PLAY day.\n\nSignups Have Begun!!\n\n\n\nComic Quest’s next Learn-to-Play D&D and Roleplaying Games (RPGs) Day is on Saturday October 4th\nCome try out Dungeons and Dragons (D&D) or see what other roleplaying games  you can play.\nSign up on Discord.\n********************************************\n*Limited space available. Sign-ups recommended. Sign up via the Comic Quest D&D Discord. Use the link below. Once in\, scroll down to the “Learn to Play Oct 4” category. (Or “Start Here”). Each game has a time slot. Sign up in the specific channel for the game(s) and session(s) time you want.\nhttps://discord.gg/gp6ynfnHkC\n\n\n\nTHREE SESSION TIMES available (each game may have more than 1 session):\n\n11am to 1pm\n2pm to 4pm\n5pm to 7pm\n\nREAD about each game system and SIGNUP FOR GAMES in the specific signup channel for each game and time session you want.\n\nLIST of RPG GAMES: \nD&D 5e – The famous fantasy role playing game.\nAt its heart\, D&D is a storytelling game. Each player creates a character to represent them in the game. Everything is your decision\, from what you look like\, to what you say\, to how you act. Together\, the Dungeon Master and players create an exciting story. \nMarvel Multiverse Roleplaying uses the simple and fast-paced D616 System to allow players to save the day or conquer the world as their favorite superheroes and villains as well as make their own character in the Marvel Comics Multiverse. \nPathfinder 2e is a fantasy tabletop roleplaying game where you tell heroic tales in a world of quests\, magic\, monsters\, and treasures. \nStarfinder 2e – Launch into an exciting universe of science fantasy adventure! Captured by a nefarious space pirate\, and attacked by the terrifying Corpse Fleet\, it’s up to you to wrest control of the ship ‘Nova Rush’\, and escape with your lives! \nSavage Worlds: Fast\, Furious\, Fun- Adventure Edition is a universal system designed for quick\, cinematic action in any world you can imagine. This session will dive into the premier setting of the system: supernatural Western Deadlands\, inviting players to enter an alternate Wild West populated by magic and monsters! \nMonster of the Week – Most people don’t believe monsters are real\, but you know better. Hunt monsters and save people in the modern day in this narrative game inspired by shows such as Supernatural and Buffy the Vampire Slayer
URL:https://comicquest.org/event/dd-learn-to-play-and-other-rpgs-4/
LOCATION:Comic Quest\, 23811 Bridger #111 CA 92630\, Lake Forest\, CA\, 92630\, United States
CATEGORIES:D&D,Event
ATTACH;FMTTYPE=image/jpeg:https://comicquest.org/wp-content/uploads/2023/03/DND_LEARN_TO_PLAY.jpg
END:VEVENT
BEGIN:VEVENT
DTSTART;TZID=Asia/Shanghai:20251004T120000
DTEND;TZID=Asia/Shanghai:20251004T150000
DTSTAMP:20260423T165921
CREATED:20250928T002341Z
LAST-MODIFIED:20250928T002341Z
UID:10003651-1759579200-1759590000@comicquest.org
SUMMARY:Board Game Demo - Dreadful Meadows
DESCRIPTION:FREE Board Game Demo: Dreadful Meadows \n  \nSaturday Oct 4 Noon  – 3pm \nComic Quest is providing FREE demos of a fun board game. Learn in a couple of minutes\, it might be your next favorite game. \nPlus\, a discount on the game all day! \n  \nYou play a Confectioner\, sowing and growing sinister seeds to create the most bountiful candy crops\, through crafty candy patch placement. As rounds progress\, cultivating your candy crops allows for exciting expansion and experimentation! Conjure up a crew of magic Sugar Sprites who can lend a hand with their abnormal abilities. As you prosper\, summon your horrid Harvesters to intensify turnover\, or utilize your Candy to discover new Concoctions. \nEach game is unique through your choice of Confectioner and the strategies you utilize. Actions and patch varieties are limited\, so your success in the meadow will rely on calculated decisions in the expansion of your meadow\, the concoctions you create\, and how you utilize your Sugar Sprites and Harvesters. \n  \nWill your Dreadful Meadow be an abomination\, or this season’s sweetest sensation?
URL:https://comicquest.org/event/board-game-demo-dreadful-meadows/
LOCATION:Comic Quest\, 23811 Bridger #111 CA 92630\, Lake Forest\, CA\, 92630\, United States
CATEGORIES:Demo,Event
ATTACH;FMTTYPE=image/png:https://comicquest.org/wp-content/uploads/2025/09/dreadful-meadows-banner.png
END:VEVENT
END:VCALENDAR