BEGIN:VCALENDAR
VERSION:2.0
PRODID:-//Comic Quest - ECPv6.15.20//NONSGML v1.0//EN
CALSCALE:GREGORIAN
METHOD:PUBLISH
X-ORIGINAL-URL:https://comicquest.org
X-WR-CALDESC:Events for Comic Quest
REFRESH-INTERVAL;VALUE=DURATION:PT1H
X-Robots-Tag:noindex
X-PUBLISHED-TTL:PT1H
BEGIN:VTIMEZONE
TZID:Asia/Shanghai
BEGIN:STANDARD
TZOFFSETFROM:+0800
TZOFFSETTO:+0800
TZNAME:CST
DTSTART:20240101T000000
END:STANDARD
END:VTIMEZONE
BEGIN:VEVENT
DTSTART;VALUE=DATE:20251019
DTEND;VALUE=DATE:20251020
DTSTAMP:20260423T170052
CREATED:20241112T051818Z
LAST-MODIFIED:20250319T014526Z
UID:10001331-1760832000-1760918399@comicquest.org
SUMMARY:Durin's Day
DESCRIPTION:In J.R.R. Tolkien’s Middle-earth\, Durin’s Day\, a significant event for Dwarves\, is the first day of their New Year\, which falls on the first day of the last moon of Autumn\, and is October 29th in the Shire calendar \n 
URL:https://comicquest.org/event/durins-day-3/
LOCATION:Comic Quest\, 23811 Bridger #111 CA 92630\, Lake Forest\, CA\, 92630\, United States
CATEGORIES:Event
ATTACH;FMTTYPE=image/jpeg:https://comicquest.org/wp-content/uploads/2023/03/durins-day.jpg
END:VEVENT
END:VCALENDAR