BEGIN:VCALENDAR
VERSION:2.0
PRODID:-//Comic Quest - ECPv6.15.20//NONSGML v1.0//EN
CALSCALE:GREGORIAN
METHOD:PUBLISH
X-ORIGINAL-URL:https://comicquest.org
X-WR-CALDESC:Events for Comic Quest
REFRESH-INTERVAL;VALUE=DURATION:PT1H
X-Robots-Tag:noindex
X-PUBLISHED-TTL:PT1H
BEGIN:VTIMEZONE
TZID:Asia/Shanghai
BEGIN:STANDARD
TZOFFSETFROM:+0800
TZOFFSETTO:+0800
TZNAME:CST
DTSTART:20240101T000000
END:STANDARD
END:VTIMEZONE
BEGIN:VEVENT
DTSTART;TZID=Asia/Shanghai:20251027T180000
DTEND;TZID=Asia/Shanghai:20251027T210000
DTSTAMP:20260423T153636
CREATED:20250723T004046Z
LAST-MODIFIED:20250723T004046Z
UID:10001854-1761588000-1761598800@comicquest.org
SUMMARY:Card Game TCG Night (SWU & Gundam)
DESCRIPTION:Card Game TCG Night \n\nWEEKLY Card Game TCG at COMIC QUEST.\nMondays – 6pm to 9pm.\nOpen play and Casual weekly play\, best of 3 rounds.\nConstructed – bring your own deck!\n\n\nStar Wars Unlimited\nGundam TCG\n\n\nWe will feature SWU and Gundam to start. This is for weekly play. SWU Prize packs will be given out.  Gundam weekly play prizing to follow soon.\n\n*Join our Discord for updates \n\n\n  \n 
URL:https://comicquest.org/event/card-game-tcg-night-swu-gundam-3/2025-10-27/
LOCATION:Comic Quest\, 23811 Bridger #111 CA 92630\, Lake Forest\, CA\, 92630\, United States
CATEGORIES:Event,Lorcana
ATTACH;FMTTYPE=image/png:https://comicquest.org/wp-content/uploads/2025/07/monday-madness2.png
END:VEVENT
END:VCALENDAR