BEGIN:VCALENDAR
VERSION:2.0
PRODID:-//Comic Quest - ECPv6.15.20//NONSGML v1.0//EN
CALSCALE:GREGORIAN
METHOD:PUBLISH
X-ORIGINAL-URL:https://comicquest.org
X-WR-CALDESC:Events for Comic Quest
REFRESH-INTERVAL;VALUE=DURATION:PT1H
X-Robots-Tag:noindex
X-PUBLISHED-TTL:PT1H
BEGIN:VTIMEZONE
TZID:Asia/Shanghai
BEGIN:STANDARD
TZOFFSETFROM:+0800
TZOFFSETTO:+0800
TZNAME:CST
DTSTART:20240101T000000
END:STANDARD
END:VTIMEZONE
BEGIN:VTIMEZONE
TZID:America/Los_Angeles
BEGIN:DAYLIGHT
TZOFFSETFROM:-0800
TZOFFSETTO:-0700
TZNAME:PDT
DTSTART:20240310T100000
END:DAYLIGHT
BEGIN:STANDARD
TZOFFSETFROM:-0700
TZOFFSETTO:-0800
TZNAME:PST
DTSTART:20241103T090000
END:STANDARD
BEGIN:DAYLIGHT
TZOFFSETFROM:-0800
TZOFFSETTO:-0700
TZNAME:PDT
DTSTART:20250309T100000
END:DAYLIGHT
BEGIN:STANDARD
TZOFFSETFROM:-0700
TZOFFSETTO:-0800
TZNAME:PST
DTSTART:20251102T090000
END:STANDARD
BEGIN:DAYLIGHT
TZOFFSETFROM:-0800
TZOFFSETTO:-0700
TZNAME:PDT
DTSTART:20260308T100000
END:DAYLIGHT
BEGIN:STANDARD
TZOFFSETFROM:-0700
TZOFFSETTO:-0800
TZNAME:PST
DTSTART:20261101T090000
END:STANDARD
END:VTIMEZONE
BEGIN:VEVENT
DTSTART;VALUE=DATE:20251031
DTEND;VALUE=DATE:20251101
DTSTAMP:20260423T153637
CREATED:20241112T052057Z
LAST-MODIFIED:20251028T203456Z
UID:10001333-1761868800-1761955199@comicquest.org
SUMMARY:Halloween - FREE Dice
DESCRIPTION:Oct 31\nComic Quest limited edition holiday dice.\nOur Halloween gift to you.\nNo purchase needed.\nOver 10 years of FREE holiday dice! \n\nFREE Dice!
URL:https://comicquest.org/event/halloween-free-dice-2/
LOCATION:Comic Quest\, 23811 Bridger #111 CA 92630\, Lake Forest\, CA\, 92630\, United States
CATEGORIES:Event
ATTACH;FMTTYPE=image/gif:https://comicquest.org/wp-content/uploads/2023/03/halloween_ghost.gif
END:VEVENT
BEGIN:VEVENT
DTSTART;VALUE=DATE:20251031
DTEND;VALUE=DATE:20251101
DTSTAMP:20260423T153637
CREATED:20250911T172303Z
LAST-MODIFIED:20250911T172303Z
UID:10003644-1761868800-1761955199@comicquest.org
SUMMARY:Riftbound Release
DESCRIPTION: 
URL:https://comicquest.org/event/riftbound-release/
LOCATION:Comic Quest\, 23811 Bridger #111 CA 92630\, Lake Forest\, CA\, 92630\, United States
CATEGORIES:Event
ATTACH;FMTTYPE=image/jpeg:https://comicquest.org/wp-content/uploads/2025/09/RiftboundOG.jpg
END:VEVENT
BEGIN:VEVENT
DTSTART;VALUE=DATE:20251031
DTEND;VALUE=DATE:20251101
DTSTAMP:20260423T153637
CREATED:20251231T180445Z
LAST-MODIFIED:20251231T180445Z
UID:10004131-1761868800-1761955199@comicquest.org
SUMMARY:Halloween - FREE Dice
DESCRIPTION:Oct 31\nComic Quest limited edition holiday dice.\nOur Halloween gift to you.\nNo purchase needed.\nOver 10 years of FREE holiday dice! \n\nFREE Dice!
URL:https://comicquest.org/event/halloween-free-dice-3/2025-10-31/
LOCATION:Comic Quest\, 23811 Bridger #111 CA 92630\, Lake Forest\, CA\, 92630\, United States
CATEGORIES:Event
ATTACH;FMTTYPE=image/gif:https://comicquest.org/wp-content/uploads/2023/03/halloween_ghost.gif
END:VEVENT
BEGIN:VEVENT
DTSTART;TZID=America/Los_Angeles:20251031T180000
DTEND;TZID=America/Los_Angeles:20251031T220000
DTSTAMP:20260423T153637
CREATED:20241112T043240Z
LAST-MODIFIED:20250815T015729Z
UID:10003329-1761933600-1761948000@comicquest.org
SUMMARY:Friday Night Magic
DESCRIPTION:Friday Night Magic! Come Join the fun! \nStandard and Commander Formats. \nFree\, unless a draft or sealed event. \nOn Demand Drafts – just ask the TO. \nOn occasion sealed & draft around new set launches. \nPlease join our Facebook group & Discord. \nhttps://www.facebook.com/groups/426423864154241/
URL:https://comicquest.org/event/friday-night-magic-128/2025-10-31/
LOCATION:Comic Quest\, 23811 Bridger #111 CA 92630\, Lake Forest\, CA\, 92630\, United States
CATEGORIES:Event,Magic,Tournament
ATTACH;FMTTYPE=image/jpeg:https://comicquest.org/wp-content/uploads/2023/01/Friday-Night-Magic.jpg
END:VEVENT
END:VCALENDAR