BEGIN:VCALENDAR
VERSION:2.0
PRODID:-//Comic Quest - ECPv6.15.20//NONSGML v1.0//EN
CALSCALE:GREGORIAN
METHOD:PUBLISH
X-WR-CALNAME:Comic Quest
X-ORIGINAL-URL:https://comicquest.org
X-WR-CALDESC:Events for Comic Quest
REFRESH-INTERVAL;VALUE=DURATION:PT1H
X-Robots-Tag:noindex
X-PUBLISHED-TTL:PT1H
BEGIN:VTIMEZONE
TZID:America/Los_Angeles
BEGIN:DAYLIGHT
TZOFFSETFROM:-0800
TZOFFSETTO:-0700
TZNAME:PDT
DTSTART:20240310T100000
END:DAYLIGHT
BEGIN:STANDARD
TZOFFSETFROM:-0700
TZOFFSETTO:-0800
TZNAME:PST
DTSTART:20241103T090000
END:STANDARD
BEGIN:DAYLIGHT
TZOFFSETFROM:-0800
TZOFFSETTO:-0700
TZNAME:PDT
DTSTART:20250309T100000
END:DAYLIGHT
BEGIN:STANDARD
TZOFFSETFROM:-0700
TZOFFSETTO:-0800
TZNAME:PST
DTSTART:20251102T090000
END:STANDARD
BEGIN:DAYLIGHT
TZOFFSETFROM:-0800
TZOFFSETTO:-0700
TZNAME:PDT
DTSTART:20260308T100000
END:DAYLIGHT
BEGIN:STANDARD
TZOFFSETFROM:-0700
TZOFFSETTO:-0800
TZNAME:PST
DTSTART:20261101T090000
END:STANDARD
END:VTIMEZONE
BEGIN:VTIMEZONE
TZID:Asia/Shanghai
BEGIN:STANDARD
TZOFFSETFROM:+0800
TZOFFSETTO:+0800
TZNAME:CST
DTSTART:20240101T000000
END:STANDARD
END:VTIMEZONE
BEGIN:VEVENT
DTSTART;VALUE=DATE:20251114
DTEND;VALUE=DATE:20251115
DTSTAMP:20260423T153623
CREATED:20250526T231043Z
LAST-MODIFIED:20251001T002030Z
UID:10001534-1763078400-1763164799@comicquest.org
SUMMARY:New Magic Set Early Release - AVATAR: THE LAST AIRBENDER
DESCRIPTION:AVATAR: THE LAST AIRBENDER – New Magic Set Early Release\n\n\n\n\n  \nNew Magic Set Early Release Date = Friday November 14\, For FLGS stores \n  \n*PreOrders for Product = begin Oct 31 \n*Preorder Sign -ups for PreRelease Events (Fri/Sat/Sun = Nov 14\, 15 & Nov 16)= begin Oct 31 \nPreRelease Friday 11/14 = 2HG (2 Headed Giant\, Sign up with a partner) \nPreRelease Sat/Sun 11/15 & 11/16 = regular sealed. \nStay tuned to our Socials and Discords for updates and news. \n**NOTE: These preorder dates are tentative and may occur earlier. Please stay tuned. \n\n\n\n  \n\n  \n  \n  \n  \n  \n 
URL:https://comicquest.org/event/new-magic-set-early-release-avatar-the-last-airbender/
LOCATION:Comic Quest\, 23811 Bridger #111 CA 92630\, Lake Forest\, CA\, 92630\, United States
CATEGORIES:Event,Magic,Tournament
ATTACH;FMTTYPE=image/png:https://comicquest.org/wp-content/uploads/2023/09/magic_the_gathering_logo.png
END:VEVENT
BEGIN:VEVENT
DTSTART;VALUE=DATE:20251114
DTEND;VALUE=DATE:20251115
DTSTAMP:20260423T153623
CREATED:20251022T015238Z
LAST-MODIFIED:20251022T015238Z
UID:10003725-1763078400-1763164799@comicquest.org
SUMMARY:Pokemon Release - Phantasmal Flames
DESCRIPTION: 
URL:https://comicquest.org/event/pokemon-release-phantasmal-flames/
LOCATION:Comic Quest\, 23811 Bridger #111 CA 92630\, Lake Forest\, CA\, 92630\, United States
CATEGORIES:Event
ATTACH;FMTTYPE=image/jpeg:https://comicquest.org/wp-content/uploads/2025/10/Phantasmal_Flames_Tile.jpg
END:VEVENT
BEGIN:VEVENT
DTSTART;TZID=America/Los_Angeles:20251114T180000
DTEND;TZID=America/Los_Angeles:20251114T210000
DTSTAMP:20260423T153623
CREATED:20251001T002321Z
LAST-MODIFIED:20251001T002321Z
UID:10003655-1763143200-1763154000@comicquest.org
SUMMARY:Magic Prerelease - AVATAR: THE LAST AIRBENDER
DESCRIPTION:Prerelease is your first opportunity to get your hands on the newest Magic: The Gathering release and explore what the set has to offer\, and Prerelease Packs are the perfect product to fuel the first events of this new set. \n\n\n\n\n\nMagic the Gathering: AVATAR: THE LAST AIRBENDER  \nPreRelease Event = Fri\, Sat& Sun November 14\, 15 & 16. Fri 6pm. Sat/Sun 12pm Noon. Sign ups start Oct 31. \n\nFriday PreRelease = 11/14 = 2HG (Two Headed Giant) Sign up and Play with a partner!\nSat/Sun PreRelease Event= 11/15 & 11/16 = Regular Sealed events.\nAll events use the PreRelease Kit\n\nAll Product available starting at PreRelease. (AKA Launch at FLGS). \n  \nMore details TBA
URL:https://comicquest.org/event/magic-prerelease-avatar-the-last-airbender-4/
LOCATION:Comic Quest\, 23811 Bridger #111 CA 92630\, Lake Forest\, CA\, 92630\, United States
CATEGORIES:Event,Magic,Tournament
ATTACH;FMTTYPE=image/jpeg:https://comicquest.org/wp-content/uploads/2023/03/magic_prerelease.jpg
END:VEVENT
BEGIN:VEVENT
DTSTART;TZID=America/Los_Angeles:20251114T180000
DTEND;TZID=America/Los_Angeles:20251114T220000
DTSTAMP:20260423T153623
CREATED:20241112T043240Z
LAST-MODIFIED:20250815T015729Z
UID:10003331-1763143200-1763157600@comicquest.org
SUMMARY:Friday Night Magic
DESCRIPTION:Friday Night Magic! Come Join the fun! \nStandard and Commander Formats. \nFree\, unless a draft or sealed event. \nOn Demand Drafts – just ask the TO. \nOn occasion sealed & draft around new set launches. \nPlease join our Facebook group & Discord. \nhttps://www.facebook.com/groups/426423864154241/
URL:https://comicquest.org/event/friday-night-magic-128/2025-11-14/
LOCATION:Comic Quest\, 23811 Bridger #111 CA 92630\, Lake Forest\, CA\, 92630\, United States
CATEGORIES:Event,Magic,Tournament
ATTACH;FMTTYPE=image/jpeg:https://comicquest.org/wp-content/uploads/2023/01/Friday-Night-Magic.jpg
END:VEVENT
END:VCALENDAR