BEGIN:VCALENDAR
VERSION:2.0
PRODID:-//Comic Quest - ECPv6.15.20//NONSGML v1.0//EN
CALSCALE:GREGORIAN
METHOD:PUBLISH
X-ORIGINAL-URL:https://comicquest.org
X-WR-CALDESC:Events for Comic Quest
REFRESH-INTERVAL;VALUE=DURATION:PT1H
X-Robots-Tag:noindex
X-PUBLISHED-TTL:PT1H
BEGIN:VTIMEZONE
TZID:Asia/Shanghai
BEGIN:STANDARD
TZOFFSETFROM:+0800
TZOFFSETTO:+0800
TZNAME:CST
DTSTART:20240101T000000
END:STANDARD
END:VTIMEZONE
BEGIN:VEVENT
DTSTART;VALUE=DATE:20251118
DTEND;VALUE=DATE:20251119
DTSTAMP:20260423T153635
CREATED:20241119T015512Z
LAST-MODIFIED:20241119T015512Z
UID:10001376-1763424000-1763510399@comicquest.org
SUMMARY:Mickey Mouse Birthday
DESCRIPTION:Mickey and Minnie’s birthdays are celebrated on November 18th because this date marks their film debut in the Walt Disney classic short film Steamboat Willie. \n 
URL:https://comicquest.org/event/mickey-mouse-birthday-3/
LOCATION:Comic Quest\, 23811 Bridger #111 CA 92630\, Lake Forest\, CA\, 92630\, United States
CATEGORIES:Event
ATTACH;FMTTYPE=image/jpeg:https://comicquest.org/wp-content/uploads/2023/03/mickey_mouse_bithday.jpg
END:VEVENT
BEGIN:VEVENT
DTSTART;TZID=Asia/Shanghai:20251118T120000
DTEND;TZID=Asia/Shanghai:20251118T150000
DTSTAMP:20260423T153635
CREATED:20251105T013851Z
LAST-MODIFIED:20251118T040301Z
UID:10003737-1763467200-1763478000@comicquest.org
SUMMARY:Lake Forest Gift Card new Phase starts
DESCRIPTION:New Batch of BOGO Cards. Expected Tuesday Nov 18th\n\n\n \n\n\nDouble your money to spend at Comic Quest!\n\n\nFor the same money\, you can get double the cool stuff.\n\n\nA new round of Lake Forest gift cards will begin\, don’t miss out before this round ends.\n\n\nGo to ” https://app.yiftee.com/gift-card/city-of-lake-forest-lake-forest”\n\n\n \n\n\nHow:\n\n\nThe city of Lake Forest is offering gift cards. You can use these gift cards at specific stores in Lake Forest.\n\n\nBuy a gift card and you get ANOTHER gift card of equal value for FREE. Basically doubling your money\, the wrinkle is that it has to be used only at select Lake Forest stores and restaurants. HINT: Comic Quest is one of those stores!\n\n\nThe city has a good supply\, but may run out at some point.\n\n\nDenominations in $50 and $100.\n\n\n \n\n\nDetails:\n\n\nGo to ” https://app.yiftee.com/gift-card/city-of-lake-forest-lake-forest”\n\n\nSelect the denominations ($50 or $100)\, and select ‘Buy egift cards’)\n\n\n \n\n\nNotes:\n\n\n• Bonus cards are usable for 6 Months.\n\n\n• Cards are only usable at participating stores and restaurants in Lake Forest (Includes Comic Quest)\n\n\n• You will receive a code via email that you can use like a credit card (at places like Comic Quest). Print and supply at purchase\, or read it from your phone at purchase.
URL:https://comicquest.org/event/lake-forest-gift-card-new-phase-starts/
LOCATION:Comic Quest\, 23811 Bridger #111 CA 92630\, Lake Forest\, CA\, 92630\, United States
CATEGORIES:Holiday
ATTACH;FMTTYPE=image/png:https://comicquest.org/wp-content/uploads/2023/11/Double-Your-Money-New-Round.png
END:VEVENT
BEGIN:VEVENT
DTSTART;TZID=Asia/Shanghai:20251118T180000
DTEND;TZID=Asia/Shanghai:20251118T210000
DTSTAMP:20260423T153635
CREATED:20241112T041919Z
LAST-MODIFIED:20250902T234227Z
UID:10003634-1763488800-1763499600@comicquest.org
SUMMARY:Lorcana Night
DESCRIPTION:WEEKLY LORCANA at COMIC QUEST.\nTuesdays – 6pm to 9pm.\nCasual League play\, two game format\, 3 – 4 rounds. Casual/Manual pairings.\nConstructed – bring your own deck!\n\nEarn Points for Disney swag and promo cards.\nEXTRA POINTS: Earn points besides game wins/losses- in the following ways:\n• 1. Theme Deck  Each week we have a different deck theme. If you accomplish this during a match\, you get a point.\n• 2. Wear your Disney garb/merch. Wear something with Disney on it. Pins\, Hats\, Socks\, Shirts\, Shoes\, etc\n• 3. Bring a friend new to league\n• 4. Teach someone to play\n• 5. Come to league.\n• 6. Trade\n• 7. Play a group game!\nCome Play With Us!\n\n*Join our Discord and our Comic Quest Lorcana Facebook group for updates and the weekly deck theme. \n\n\n 
URL:https://comicquest.org/event/lorcana-night-83/2025-11-18/
LOCATION:Comic Quest\, 23811 Bridger #111 CA 92630\, Lake Forest\, CA\, 92630\, United States
CATEGORIES:Event,Lorcana
ATTACH;FMTTYPE=image/jpeg:https://comicquest.org/wp-content/uploads/2023/04/loracana.jpg
END:VEVENT
END:VCALENDAR