BEGIN:VCALENDAR
VERSION:2.0
PRODID:-//Comic Quest - ECPv6.15.20//NONSGML v1.0//EN
CALSCALE:GREGORIAN
METHOD:PUBLISH
X-ORIGINAL-URL:https://comicquest.org
X-WR-CALDESC:Events for Comic Quest
REFRESH-INTERVAL;VALUE=DURATION:PT1H
X-Robots-Tag:noindex
X-PUBLISHED-TTL:PT1H
BEGIN:VTIMEZONE
TZID:Asia/Shanghai
BEGIN:STANDARD
TZOFFSETFROM:+0800
TZOFFSETTO:+0800
TZNAME:CST
DTSTART:20240101T000000
END:STANDARD
END:VTIMEZONE
BEGIN:VEVENT
DTSTART;VALUE=DATE:20251122
DTEND;VALUE=DATE:20251123
DTSTAMP:20260423T153638
CREATED:20241112T051526Z
LAST-MODIFIED:20251104T013655Z
UID:10001329-1763769600-1763855999@comicquest.org
SUMMARY:Bad Dice Day
DESCRIPTION:Bad Dice Day\n\n\n\n\n\n \n\n\nBring your BAD dice in\, and make them pay for their traitorous roles. Some dice let you down when you need them most. Punish your bad dice and replace them.\n\n\n \n\n\nBad dice will be placed in the Chamber of Punishment:\n\n\nForced to Endure Nickelback all day.\n\n\n \n\n\nSale of New Replacement Dice.\n\n\n20% All Dice\n\n\n 
URL:https://comicquest.org/event/bad-dice-day-3/
LOCATION:Comic Quest\, 23811 Bridger #111 CA 92630\, Lake Forest\, CA\, 92630\, United States
CATEGORIES:Event
ATTACH;FMTTYPE=image/jpeg:https://comicquest.org/wp-content/uploads/2023/03/bad_dice.jpg
END:VEVENT
BEGIN:VEVENT
DTSTART;VALUE=DATE:20251122
DTEND;VALUE=DATE:20251123
DTSTAMP:20260423T153638
CREATED:20251102T230737Z
LAST-MODIFIED:20251116T220933Z
UID:10003729-1763769600-1763855999@comicquest.org
SUMMARY:Games Workshop Preorders
DESCRIPTION:KILL TEAM: DEAD SILENCE   $112.00 \nKILL TEAM: CANOPTEK CIRCLE         $77.00 \nK/T DATACARDS: CANOPTEK CIRCLE            $34.00 \nKILL TEAM: DEATHWATCH    $69.00 \nKILL TEAM DATACARDS: DEATHWATCH       $34.00 \nKILLZONE: TOMB WORLD     $165.00 \nTHE TWICE-DEAD KING: THE OMNIBUS (PB)           $21.00 \nHERETICUS (ILLUSTRATED HB)         $40.00 \nBELISARIUS CAWL: ARCHMAGOS (HB)       $30.00 \n \nSPACE MARINES: TERMINATOR ASSAULT SQUAD $69.00 \nS/M: ANCIENT IN TERMINATOR ARMOUR   $47.00 \nULTRAMARINES: FERREN AREIOS   $45.00 \nWHITE SCARS: SUBODEN KHAN      $65.00 \nARCANE JOURNAL: THE RAZING OF WESTERLAND            $29.00 \nCHAOS MARAUDERS ARMY REINFORCEMENT SET             $180.00 \nTHE SCOURING: ASHES OF THE IMPERIUM (HB)  $35.00 \nFERREN AREIOS: MASTER OF RITES (HB)   $30.00 \nSTEEL TREAD (HB)      $30.00 \nMINKA LESK: HELL’S LAST (PB)          $17.99
URL:https://comicquest.org/event/games-workshop-preorders-96/
LOCATION:Comic Quest\, 23811 Bridger #111 CA 92630\, Lake Forest\, CA\, 92630\, United States
CATEGORIES:Games Workshop Preorders
ATTACH;FMTTYPE=image/png:https://comicquest.org/wp-content/uploads/2024/01/GW_peorder_logo.png
END:VEVENT
BEGIN:VEVENT
DTSTART;VALUE=DATE:20251122
DTEND;VALUE=DATE:20251123
DTSTAMP:20260423T153638
CREATED:20251201T050800Z
LAST-MODIFIED:20251201T050800Z
UID:10003760-1763769600-1763855999@comicquest.org
SUMMARY:Games Workshop Preorders
DESCRIPTION:KILL TEAM: DEAD SILENCE   $112.00 \nKILL TEAM: CANOPTEK CIRCLE         $77.00 \nK/T DATACARDS: CANOPTEK CIRCLE            $34.00 \nKILL TEAM: DEATHWATCH    $69.00 \nKILL TEAM DATACARDS: DEATHWATCH       $34.00 \nKILLZONE: TOMB WORLD     $165.00 \nTHE TWICE-DEAD KING: THE OMNIBUS (PB)           $21.00 \nHERETICUS (ILLUSTRATED HB)         $40.00 \nBELISARIUS CAWL: ARCHMAGOS (HB)       $30.00 \n \nSPACE MARINES: TERMINATOR ASSAULT SQUAD $69.00 \nS/M: ANCIENT IN TERMINATOR ARMOUR   $47.00 \nULTRAMARINES: FERREN AREIOS   $45.00 \nWHITE SCARS: SUBODEN KHAN      $65.00 \nARCANE JOURNAL: THE RAZING OF WESTERLAND            $29.00 \nCHAOS MARAUDERS ARMY REINFORCEMENT SET             $180.00 \nTHE SCOURING: ASHES OF THE IMPERIUM (HB)  $35.00 \nFERREN AREIOS: MASTER OF RITES (HB)   $30.00 \nSTEEL TREAD (HB)      $30.00 \nMINKA LESK: HELL’S LAST (PB)          $17.99
URL:https://comicquest.org/event/games-workshop-preorders-102/
LOCATION:Comic Quest\, 23811 Bridger #111 CA 92630\, Lake Forest\, CA\, 92630\, United States
CATEGORIES:Games Workshop Preorders
ATTACH;FMTTYPE=image/png:https://comicquest.org/wp-content/uploads/2024/01/GW_peorder_logo.png
END:VEVENT
BEGIN:VEVENT
DTSTART;TZID=Asia/Shanghai:20251122T120000
DTEND;TZID=Asia/Shanghai:20251122T150000
DTSTAMP:20260423T153638
CREATED:20251117T050941Z
LAST-MODIFIED:20251117T050941Z
UID:10003743-1763812800-1763823600@comicquest.org
SUMMARY:Board Game Demo - Taco Cat Goat Cheese Pizza
DESCRIPTION:FREE Board Game Demo: Taco Cat Goat Cheese Pizza \n  \nSaturday Nov 22 Noon  – 3pm \nComic Quest is providing FREE demos of a fun board game. Learn in a couple of minutes\, it might be your next favorite game. \nPlus\, a discount on the game all day! \n  \nTaco Cat Goat Cheese Pizza is filled to the brim with hand-slapping mayhem! As in Snap and Dobble\, each player places a card from their hand face up into a community pile while saying taco/cat/goat/cheese/pizza in player sequence. When the card matches the mantra — boom! — everyone slaps their hand on the deck\, with the last one to slap picking up the cards. Whoever rids themselves of cards first wins! \nFor extra fun\, special action cards – the gorilla\, narwhal\, and groundhog — force players to make certain gestures before racing to slap the deck! \nAWARDS & HONORS:\n2021 Palme d’Or for Best Party Game
URL:https://comicquest.org/event/board-game-demo-taco-cat-goat-cheese-pizza/
LOCATION:Comic Quest\, 23811 Bridger #111 CA 92630\, Lake Forest\, CA\, 92630\, United States
CATEGORIES:Demo,Event
ATTACH;FMTTYPE=image/png:https://comicquest.org/wp-content/uploads/2025/11/taco-cat-banner-dec-2025.png
END:VEVENT
END:VCALENDAR