BEGIN:VCALENDAR
VERSION:2.0
PRODID:-//Comic Quest - ECPv6.15.20//NONSGML v1.0//EN
CALSCALE:GREGORIAN
METHOD:PUBLISH
X-WR-CALNAME:Comic Quest
X-ORIGINAL-URL:https://comicquest.org
X-WR-CALDESC:Events for Comic Quest
REFRESH-INTERVAL;VALUE=DURATION:PT1H
X-Robots-Tag:noindex
X-PUBLISHED-TTL:PT1H
BEGIN:VTIMEZONE
TZID:America/Los_Angeles
BEGIN:DAYLIGHT
TZOFFSETFROM:-0800
TZOFFSETTO:-0700
TZNAME:PDT
DTSTART:20240310T100000
END:DAYLIGHT
BEGIN:STANDARD
TZOFFSETFROM:-0700
TZOFFSETTO:-0800
TZNAME:PST
DTSTART:20241103T090000
END:STANDARD
BEGIN:DAYLIGHT
TZOFFSETFROM:-0800
TZOFFSETTO:-0700
TZNAME:PDT
DTSTART:20250309T100000
END:DAYLIGHT
BEGIN:STANDARD
TZOFFSETFROM:-0700
TZOFFSETTO:-0800
TZNAME:PST
DTSTART:20251102T090000
END:STANDARD
BEGIN:DAYLIGHT
TZOFFSETFROM:-0800
TZOFFSETTO:-0700
TZNAME:PDT
DTSTART:20260308T100000
END:DAYLIGHT
BEGIN:STANDARD
TZOFFSETFROM:-0700
TZOFFSETTO:-0800
TZNAME:PST
DTSTART:20261101T090000
END:STANDARD
END:VTIMEZONE
BEGIN:VTIMEZONE
TZID:Asia/Shanghai
BEGIN:STANDARD
TZOFFSETFROM:+0800
TZOFFSETTO:+0800
TZNAME:CST
DTSTART:20240101T000000
END:STANDARD
END:VTIMEZONE
BEGIN:VEVENT
DTSTART;VALUE=DATE:20251125
DTEND;VALUE=DATE:20251126
DTSTAMP:20260423T153624
CREATED:20250129T072320Z
LAST-MODIFIED:20250902T233520Z
UID:10001465-1764028800-1764115199@comicquest.org
SUMMARY:Dungeons & Dragons - Eberron: Forge of the Artificer- New Launch
DESCRIPTION:Dungeons & Dragons – Eberron: Forge of the Artificer\nLaunching at LGS on Tuesday November 25\, 2025\n\n \n                                                                        Alternate Art Cover\n\n  \nEberron: Forge of the Artificer Releases TUESDAY NOVEMBER 25\, 2025 at FLGS\n(Mass market December 9\, 2025)\n\n\nFor a lot of players\, the artificer class is critical to the game\, so when it seemed to have been forgotten with the 2024 Player’s Handbook\, fan disappointment was hard to overlook. Little did players know\, there were big plans for the artificer to get a major glow up\, just like the other classes\, and it would all be revealed in an upcoming Eberron-focused companion book to 2019’s Eberron: Rising from the Last War\, titled Eberron: Forge of the Artificer. \nJames Wyatt returns to consult with Keith baker\, revisiting the classic species of Eberron\, along with a new approach to the Dragon Marks\, which will now be treated as feats so they more easily fit into the new backgrounds and feat system introduced in the 2024 rules. In addition to these updates\, there will be information on creating bastions set in Eberron\, along with three full chapters tying directly to the 2024 DMG to help DMs build campaigns in the Eberron world-setting. \nAirships will also be expanded upon\, including information on campaigns set outside Eberron. \nServing as a companion to Eberron: Rising from the Last War\, Forge of the Artificer is not meant as a replacement\, and will focus on new concepts that weren’t explored previously. This will mark the first time Wizards has returned to a world and expanded upon it in 5e\, which will hopefully set a precedent for other worlds and settings seeing the same treatment moving forward. \n\n\nForge and use wondrous creations as you adventure through the magic-fueled city of Eberron. Eberron: Forge of the Artificer introduces the revised Artificer class\, now updated for the new Core Rules and with five subclasses—including the new Cartographer subclass—for you to explore. Build your Artificer\, choose from over 40 imaginative player options\, and fuel your adventures with an inspiring fusion of technology and magic. \nContents: \n\nBecome a master of magical inventions with the revised Artificer class\, redesigned for the new Core Rules.\nChoose from 4 revised Artificer subclasses and 1 new subclass: the Cartographer.\nExplore 5 revised species\, 18 backgrounds\, and 28 feats\, including the redesigned Dragonmarks\, which are no longer species-locked.\nExperiment with new spells\, bastions\, and magic items.\nUse 3 different campaign models with guidance for building fantasy noir\, political thriller\, and pulp adventure campaigns in the world of Eberron.\nCreate imaginative encounters with over 20 new monsters\, each inspired by a campaign model.\n\n\nSee how to join future D&D games at the CQ D&D Discord. We play weekly on Wednesdays:\nhttps://discord.gg/gp6ynfnHkC\n\n**Note: Original launch date was in August\, but moved to November due to product errors and production delays.
URL:https://comicquest.org/event/dungeons-dragons-eberron-forge-of-the-artificer/
LOCATION:Comic Quest\, 23811 Bridger #111 CA 92630\, Lake Forest\, CA\, 92630\, United States
CATEGORIES:D&D,Event
ATTACH;FMTTYPE=image/jpeg:https://comicquest.org/wp-content/uploads/2023/03/dungeons_and_dragons.jpg
END:VEVENT
BEGIN:VEVENT
DTSTART;TZID=Asia/Shanghai:20251125T180000
DTEND;TZID=Asia/Shanghai:20251125T210000
DTSTAMP:20260423T153624
CREATED:20241112T041919Z
LAST-MODIFIED:20250902T234227Z
UID:10003635-1764093600-1764104400@comicquest.org
SUMMARY:Lorcana Night
DESCRIPTION:WEEKLY LORCANA at COMIC QUEST.\nTuesdays – 6pm to 9pm.\nCasual League play\, two game format\, 3 – 4 rounds. Casual/Manual pairings.\nConstructed – bring your own deck!\n\nEarn Points for Disney swag and promo cards.\nEXTRA POINTS: Earn points besides game wins/losses- in the following ways:\n• 1. Theme Deck  Each week we have a different deck theme. If you accomplish this during a match\, you get a point.\n• 2. Wear your Disney garb/merch. Wear something with Disney on it. Pins\, Hats\, Socks\, Shirts\, Shoes\, etc\n• 3. Bring a friend new to league\n• 4. Teach someone to play\n• 5. Come to league.\n• 6. Trade\n• 7. Play a group game!\nCome Play With Us!\n\n*Join our Discord and our Comic Quest Lorcana Facebook group for updates and the weekly deck theme. \n\n\n 
URL:https://comicquest.org/event/lorcana-night-83/2025-11-25/
LOCATION:Comic Quest\, 23811 Bridger #111 CA 92630\, Lake Forest\, CA\, 92630\, United States
CATEGORIES:Event,Lorcana
ATTACH;FMTTYPE=image/jpeg:https://comicquest.org/wp-content/uploads/2023/04/loracana.jpg
END:VEVENT
END:VCALENDAR