BEGIN:VCALENDAR
VERSION:2.0
PRODID:-//Comic Quest - ECPv6.15.20//NONSGML v1.0//EN
CALSCALE:GREGORIAN
METHOD:PUBLISH
X-ORIGINAL-URL:https://comicquest.org
X-WR-CALDESC:Events for Comic Quest
REFRESH-INTERVAL;VALUE=DURATION:PT1H
X-Robots-Tag:noindex
X-PUBLISHED-TTL:PT1H
BEGIN:VTIMEZONE
TZID:Asia/Shanghai
BEGIN:STANDARD
TZOFFSETFROM:+0800
TZOFFSETTO:+0800
TZNAME:CST
DTSTART:20240101T000000
END:STANDARD
END:VTIMEZONE
BEGIN:VEVENT
DTSTART;VALUE=DATE:20251129
DTEND;VALUE=DATE:20251130
DTSTAMP:20260423T153637
CREATED:20251123T223905Z
LAST-MODIFIED:20251123T223905Z
UID:10003761-1764374400-1764460799@comicquest.org
SUMMARY:Games Workshop Preorders
DESCRIPTION:Release early this week.  Released on Friday. \n \nWARHAMMER QUEST: DARKWATER              $255.00 \nPATH TO GLORY: BLIGHTED WILDS $60.00 \nDEMOLISHER (HB)     $30.00 \nTHE OLD WORLD: THE RISE OF NAGASH (PB)        $25.00
URL:https://comicquest.org/event/games-workshop-preorders-100/
LOCATION:Comic Quest\, 23811 Bridger #111 CA 92630\, Lake Forest\, CA\, 92630\, United States
CATEGORIES:Games Workshop Preorders
ATTACH;FMTTYPE=image/png:https://comicquest.org/wp-content/uploads/2024/01/GW_peorder_logo.png
END:VEVENT
END:VCALENDAR