BEGIN:VCALENDAR
VERSION:2.0
PRODID:-//Comic Quest - ECPv6.15.20//NONSGML v1.0//EN
CALSCALE:GREGORIAN
METHOD:PUBLISH
X-ORIGINAL-URL:https://comicquest.org
X-WR-CALDESC:Events for Comic Quest
REFRESH-INTERVAL;VALUE=DURATION:PT1H
X-Robots-Tag:noindex
X-PUBLISHED-TTL:PT1H
BEGIN:VTIMEZONE
TZID:Asia/Shanghai
BEGIN:STANDARD
TZOFFSETFROM:+0800
TZOFFSETTO:+0800
TZNAME:CST
DTSTART:20240101T000000
END:STANDARD
END:VTIMEZONE
BEGIN:VEVENT
DTSTART;VALUE=DATE:20251220
DTEND;VALUE=DATE:20251221
DTSTAMP:20260423T141320
CREATED:20251130T223543Z
LAST-MODIFIED:20251130T223543Z
UID:10003782-1766188800-1766275199@comicquest.org
SUMMARY:Games Workshop Preorders
DESCRIPTION:JOURNAL STRATEGIA: RUIN O/T SALAMANDERS   $29.00 \nL/I S/AUXILIA COMBINED ARMS BATTLE GROUP   $215.00 \nL/IMPERIALIS: L/A:SATURNINE BATTLE GROUP      $215.00 \nL/I: L/A: COMBINED ARMS BATTLE GROUP               $215.00 \nL/I: L/A: SATURNINE HEAVY ASSAULT CADRE          $53.00 \nL/I: ARAKNAE WEAPONS PLATFORM BATTERIES   $53.00 \nL/I: FELLBLADE/GLAIVE SUPER-HEAVY TANKS       $53.00 \nL/I: FALCHION/ASCALON SUPER-HEAVY TANKS   $53.00 \nIRONHEAD SQUAT CHARTER & DRILL MASTERS   $53.00 \nNECROMUNDA: OZOSTIUM ARANTHUS     $40.00 \nNECROMUNDA: PALANITE JUSTICARS         $43.50 \nNECROMUNDA: UNDERHIVE HANGERS-ON           $43.50 \nNECROMUNDA: SPIRE OF PRIMUS $53.00 \nNECROMUNDA: ENFORCER WEAPONS & UPGRADES      $32.00
URL:https://comicquest.org/event/games-workshop-preorders-101/
LOCATION:Comic Quest\, 23811 Bridger #111 CA 92630\, Lake Forest\, CA\, 92630\, United States
CATEGORIES:Games Workshop Preorders
ATTACH;FMTTYPE=image/png:https://comicquest.org/wp-content/uploads/2024/01/GW_peorder_logo.png
END:VEVENT
BEGIN:VEVENT
DTSTART;TZID=Asia/Shanghai:20251220T100000
DTEND;TZID=Asia/Shanghai:20251220T170000
DTSTAMP:20260423T141320
CREATED:20251111T013221Z
LAST-MODIFIED:20251209T213845Z
UID:10003741-1766224800-1766250000@comicquest.org
SUMMARY:Riftbound League of Legends TCG - Summoner Skirmish
DESCRIPTION:Riftbound League of Legends NEW TCG Summoner Skirmishes\n10:00am Check in.\n10:30am Round 1 \nFormat:\n1v1 Constructed\, Best of 3 Matches; Tournament Rules are available for reference \nSwiss Rounds with Top Cut \n**Entry Fee =  $12 \nPrizes = \n\nEach player will receive 1 Summoner Skirmish Participation Promo.\nThe top 8 players will each receive an exclusive Summoner Skirmish Top 8 Promo. The winner of the event will receive an exclusive Champion playmat\nAddt’l prizing in store credit and booster pack prizing. Specifics TBA\n\nJoin our Discord: https://discord.gg/4HdabgF9gp
URL:https://comicquest.org/event/riftbound-league-of-legends-tcg-summoner-skirmish/
LOCATION:Comic Quest\, 23811 Bridger #111 CA 92630\, Lake Forest\, CA\, 92630\, United States
CATEGORIES:Event
ATTACH;FMTTYPE=image/jpeg:https://comicquest.org/wp-content/uploads/2025/09/RiftboundOG.jpg
END:VEVENT
END:VCALENDAR