BEGIN:VCALENDAR
VERSION:2.0
PRODID:-//Comic Quest - ECPv6.15.20//NONSGML v1.0//EN
CALSCALE:GREGORIAN
METHOD:PUBLISH
X-WR-CALNAME:Comic Quest
X-ORIGINAL-URL:https://comicquest.org
X-WR-CALDESC:Events for Comic Quest
REFRESH-INTERVAL;VALUE=DURATION:PT1H
X-Robots-Tag:noindex
X-PUBLISHED-TTL:PT1H
BEGIN:VTIMEZONE
TZID:Asia/Shanghai
BEGIN:STANDARD
TZOFFSETFROM:+0800
TZOFFSETTO:+0800
TZNAME:CST
DTSTART:20240101T000000
END:STANDARD
END:VTIMEZONE
BEGIN:VTIMEZONE
TZID:UTC
BEGIN:STANDARD
TZOFFSETFROM:+0000
TZOFFSETTO:+0000
TZNAME:UTC
DTSTART:20240101T000000
END:STANDARD
END:VTIMEZONE
BEGIN:VEVENT
DTSTART;VALUE=DATE:20251227
DTEND;VALUE=DATE:20251228
DTSTAMP:20260423T124842
CREATED:20251208T025303Z
LAST-MODIFIED:20251208T025303Z
UID:10003793-1766793600-1766879999@comicquest.org
SUMMARY:Games Workshop Preorders
DESCRIPTION:L/ASTARTES: SIEGE ASSAULT BATTLE GROUP         $215
URL:https://comicquest.org/event/games-workshop-preorders-104/
LOCATION:Comic Quest\, 23811 Bridger #111 CA 92630\, Lake Forest\, CA\, 92630\, United States
CATEGORIES:Games Workshop Preorders
ATTACH;FMTTYPE=image/png:https://comicquest.org/wp-content/uploads/2024/01/GW_peorder_logo.png
END:VEVENT
BEGIN:VEVENT
DTSTART;TZID=UTC:20251227T093000
DTEND;TZID=UTC:20251227T190000
DTSTAMP:20260423T124842
CREATED:20250902T232619Z
LAST-MODIFIED:20251220T222540Z
UID:10003623-1766827800-1766862000@comicquest.org
SUMMARY:Holiday Havoc Blood Bowl Tournament
DESCRIPTION:Saturday December 27\, 2025 \nHoliday Havoc Blood Bowl Tournament \nSoCal Gridlock Gauntlet ‘25 Winter Wonderland #1: Holiday Havoc \nDate: SATURDAY\, December 27\, 2024 AT 10 AM – 7 PM \nLocation: Comic Quest at 23811 Bridger Unit 111\, Lake Forest\, CA 92630 \nFormat: The 1st of 3 tournaments in the SoCal Gridlock Gauntlet ‘25 series of tournaments! This year’s theme is Winter Wonderland\, and will be held between December 27-29th in Southern California. \nRuleset: This tournament will be played with 2020 rules.\nTeam Draft Budget: 1\,150\,000 gold\nTeam Selection: All Blood Bowl 2020 rule books and supplements including Slann are usable excluding any forms of mercenaries\, other than giants.\nTools of the Trade: Models\, Roster\, Dice\, Rulebook\, Pitch and Dugouts.\nRegistration: To register email bloodbowlcouplescup@gmail.com.\nCost: $30. $5 off if you pre-register (by December 24th). If you pre-register for all 3 of Winter Wonderland events\, you will receive $5 each of the tournaments\, for a savings of $15. You may pay ahead of time or on the day of the tournament. Both discounts stack. \n**You do NOT have to play in all 3 events. You may play in 1 or 2 or 3. Your choice.  \nSpecial Rules\n-All Coaches will be given a special present.\n-Highlander rule is in effect (if both coaches take the same star player(s)\, that player plays for neither team\, and instead\, pockets the money and skips town). \n*Additional Questions and details can be found here: https://member.thenaf.net/index.php?module=NAF&type=tournaments&func=view&id=10759 \nAnd in the CQ Blood Bowl Discord (link below) and asked at the Registration Email.  \nJoin our CQ Blood Bowl Discord server: https://discord.com/invite/jsCQRHaVAr \nSoCal Gridlock Gauntlet ‘25\nA 3-day tournament series held in 3 different Southern California locations. Attend one\, two\, or all 3 tournaments! Each has it’s own rules\, results\, and standings. There will also be an overall standings winner! The first stop along this path to glory is Holiday Havoc! \nSCHEDULE:\n09:30 – 10:00 Registration and Setup\n10:15 – 12:40 Round 1\n12:40 – 01:10 Lunch\n01:10 – 03:40 Round 2\n03:45 – 06:10 Round 3\n06:15 – 06:30 Score Tally and Award Ceremony\nRounds have been given a slightly extended time\, and times will be strictly enforced. Probably. \nKeep up to date by Joining our CQ Blood Bowl Discord server: https://discord.com/invite/jsCQRHaVAr \n \n  \n  \n  \n 
URL:https://comicquest.org/event/holiday-havoc-blood-bowl-tournament/
LOCATION:Comic Quest\, 23811 Bridger #111 CA 92630\, Lake Forest\, CA\, 92630\, United States
CATEGORIES:Bloodbowl,Event
ATTACH;FMTTYPE=image/png:https://comicquest.org/wp-content/uploads/2023/03/Bloodbowl_logo.png
END:VEVENT
END:VCALENDAR