BEGIN:VCALENDAR
VERSION:2.0
PRODID:-//Comic Quest - ECPv6.15.20//NONSGML v1.0//EN
CALSCALE:GREGORIAN
METHOD:PUBLISH
X-WR-CALNAME:Comic Quest
X-ORIGINAL-URL:https://comicquest.org
X-WR-CALDESC:Events for Comic Quest
REFRESH-INTERVAL;VALUE=DURATION:PT1H
X-Robots-Tag:noindex
X-PUBLISHED-TTL:PT1H
BEGIN:VTIMEZONE
TZID:Asia/Shanghai
BEGIN:STANDARD
TZOFFSETFROM:+0800
TZOFFSETTO:+0800
TZNAME:CST
DTSTART:20250101T000000
END:STANDARD
END:VTIMEZONE
BEGIN:VTIMEZONE
TZID:America/Los_Angeles
BEGIN:DAYLIGHT
TZOFFSETFROM:-0800
TZOFFSETTO:-0700
TZNAME:PDT
DTSTART:20250309T100000
END:DAYLIGHT
BEGIN:STANDARD
TZOFFSETFROM:-0700
TZOFFSETTO:-0800
TZNAME:PST
DTSTART:20251102T090000
END:STANDARD
BEGIN:DAYLIGHT
TZOFFSETFROM:-0800
TZOFFSETTO:-0700
TZNAME:PDT
DTSTART:20260308T100000
END:DAYLIGHT
BEGIN:STANDARD
TZOFFSETFROM:-0700
TZOFFSETTO:-0800
TZNAME:PST
DTSTART:20261101T090000
END:STANDARD
BEGIN:DAYLIGHT
TZOFFSETFROM:-0800
TZOFFSETTO:-0700
TZNAME:PDT
DTSTART:20270314T100000
END:DAYLIGHT
BEGIN:STANDARD
TZOFFSETFROM:-0700
TZOFFSETTO:-0800
TZNAME:PST
DTSTART:20271107T090000
END:STANDARD
END:VTIMEZONE
BEGIN:VEVENT
DTSTART;VALUE=DATE:20260117
DTEND;VALUE=DATE:20260118
DTSTAMP:20260423T123915
CREATED:20251229T003202Z
LAST-MODIFIED:20260111T235610Z
UID:10003796-1768608000-1768694399@comicquest.org
SUMMARY:Games Workshop Preorders
DESCRIPTION:MAGGOTKIN OF NURGLE:FESTUS THE LEECHLORD         $94.00 \nSPEARHEAD: H/HASHUT: HELFORGE HOST            $150.00 \nSPEARHEAD: MAGGOTKIN/NURGLE:BUBONIC CELL        $150.00 \nMAGGOTKIN OF NURGLE: ROTSWORDS    $65.00 \nMAGGOTKIN OF NURGLE: SLOVEN KNIGHTS          $69.00 \nMAGGOTKIN OF NURGLE: PUTRID BLIGHTKINGS $65.00 \nMAGGOTKIN OF NURGLE: PESTIGORS        $60.00 \nMAGGOTKIN OF NURGLE: THE PUSTULES $94.00 \nBATTLETOME: MAGGOTKIN OF NURGLE (ENG)      $60.00 \nWARSCROLLS: MAGGOTKIN OF NURGLE (ENG)   $35.00 \nAGE OF SIGMAR: MAGGOTKIN OF NURGLE DICE $34.00 \nGROMBRINDAL: ANCESTOR’S BURDEN (PB)           $17.99 \nGOTREK GURNISSON: VERMINSLAYER (PB)            $17.99 \n \nJ/TACTICA: SKITARII: STEEL HAND OF MARS             $29.00 \nMECHANICUM: SKITARII BATTLE GROUP    $140.00 \nM-E SBG JOURNAL: THE TREACHERY OF GOLLUM              $29.00 \nTHE PATH OF CIRITH UNGOL:SHELOB & GOLLUM              $53.00 \nMIDDLE-EARTH SBG: CIRITH UNGOL DICE SET     $20.50
URL:https://comicquest.org/event/games-workshop-preorders-105/
LOCATION:Comic Quest\, 23811 Bridger #111 CA 92630\, Lake Forest\, CA\, 92630\, United States
CATEGORIES:Games Workshop Preorders
ATTACH;FMTTYPE=image/png:https://comicquest.org/wp-content/uploads/2024/01/GW_peorder_logo.png
END:VEVENT
BEGIN:VEVENT
DTSTART;TZID=America/Los_Angeles:20260117T120000
DTEND;TZID=America/Los_Angeles:20260117T180000
DTSTAMP:20260423T123915
CREATED:20250815T011602Z
LAST-MODIFIED:20250913T230428Z
UID:10003316-1768651200-1768672800@comicquest.org
SUMMARY:Magic Prerelease - Lorwyn Eclipsed
DESCRIPTION:Prerelease is your first opportunity to get your hands on the newest Magic: The Gathering release and explore what the set has to offer\, and Prerelease Packs are the perfect product to fuel the first events of this new set. \n\n\n\n\n\nMagic the Gathering:  Lorwyn Eclipsed \nPreRelease Events Fri\, Sat& Sun Jan 16-18.. Fri 6pm. Sat/Sun 12pm. Sign ups soon.. \n\nFriday PreRelease Event = 1/16 = 2HG format (Two Headed Giant). Sign up & Play with a Partner!\nSat/Sun PreRelease Event= 1/17\, 1/18 = Regular Sealed event.\nAll events use the PreRelease Kit\n\nAll Product available starting at PreRelease.. \nMore details TBA
URL:https://comicquest.org/event/magic-prerelease-avatar-the-last-airbender-3/
LOCATION:Comic Quest\, 23811 Bridger #111 CA 92630\, Lake Forest\, CA\, 92630\, United States
CATEGORIES:Event,Magic,Tournament
ATTACH;FMTTYPE=image/jpeg:https://comicquest.org/wp-content/uploads/2023/03/magic_prerelease.jpg
END:VEVENT
END:VCALENDAR