BEGIN:VCALENDAR
VERSION:2.0
PRODID:-//Comic Quest - ECPv6.15.20//NONSGML v1.0//EN
CALSCALE:GREGORIAN
METHOD:PUBLISH
X-ORIGINAL-URL:https://comicquest.org
X-WR-CALDESC:Events for Comic Quest
REFRESH-INTERVAL;VALUE=DURATION:PT1H
X-Robots-Tag:noindex
X-PUBLISHED-TTL:PT1H
BEGIN:VTIMEZONE
TZID:Asia/Shanghai
BEGIN:STANDARD
TZOFFSETFROM:+0800
TZOFFSETTO:+0800
TZNAME:CST
DTSTART:20250101T000000
END:STANDARD
END:VTIMEZONE
BEGIN:VTIMEZONE
TZID:America/Los_Angeles
BEGIN:DAYLIGHT
TZOFFSETFROM:-0800
TZOFFSETTO:-0700
TZNAME:PDT
DTSTART:20250309T100000
END:DAYLIGHT
BEGIN:STANDARD
TZOFFSETFROM:-0700
TZOFFSETTO:-0800
TZNAME:PST
DTSTART:20251102T090000
END:STANDARD
BEGIN:DAYLIGHT
TZOFFSETFROM:-0800
TZOFFSETTO:-0700
TZNAME:PDT
DTSTART:20260308T100000
END:DAYLIGHT
BEGIN:STANDARD
TZOFFSETFROM:-0700
TZOFFSETTO:-0800
TZNAME:PST
DTSTART:20261101T090000
END:STANDARD
BEGIN:DAYLIGHT
TZOFFSETFROM:-0800
TZOFFSETTO:-0700
TZNAME:PDT
DTSTART:20270314T100000
END:DAYLIGHT
BEGIN:STANDARD
TZOFFSETFROM:-0700
TZOFFSETTO:-0800
TZNAME:PST
DTSTART:20271107T090000
END:STANDARD
END:VTIMEZONE
BEGIN:VEVENT
DTSTART;VALUE=DATE:20260131
DTEND;VALUE=DATE:20260201
DTSTAMP:20260423T125223
CREATED:20260111T235531Z
LAST-MODIFIED:20260125T221431Z
UID:10004211-1769817600-1769903999@comicquest.org
SUMMARY:Games Workshop Preorders
DESCRIPTION:J/TACTICA: SKITARII: STEEL HAND OF MARS             $29.00 \nMECHANICUM: SKITARII BATTLE GROUP    $140.00 \nM-E SBG JOURNAL: THE TREACHERY OF GOLLUM              $29.00 \nTHE PATH OF CIRITH UNGOL:SHELOB & GOLLUM              $53.00 \nMIDDLE-EARTH SBG: CIRITH UNGOL DICE SET     $20.50 \n \nEMPEROR’S CHILDREN: LORDS OF EXCESS        $250.00 \nTHOUSAND SONS: SEKHMET COVEN       $250.00 \nDEATH GUARD: VILE VECTORIUM $250.00 \nWORLD EATERS B/FORCE: KHORNE DAEMONKIN          $250.00 \nL/A: CATAPHRACTII TERMINATORS: PWR FISTS $69.00 \nL/A: CATAPHRACTII TERMINATORS: PWR MAULS             $69.00 \nHORUS HERESY: MKIII BREACHER SQUAD           $73.50 \nL/ASTARTES: BREACHER SQUAD UPGRADE SET               $48.50 \nWARRIORS OF CHAOS: CHAOS MARAUDERS     $90.00 \nWARRIORS O/CHAOS:CHAOS MARAUDER HORSEMEN             $90.00 \nAPOSTLE (HB)              $30.00
URL:https://comicquest.org/event/games-workshop-preorders-108/
LOCATION:Comic Quest\, 23811 Bridger #111 CA 92630\, Lake Forest\, CA\, 92630\, United States
CATEGORIES:Games Workshop Preorders
ATTACH;FMTTYPE=image/png:https://comicquest.org/wp-content/uploads/2024/01/GW_peorder_logo.png
END:VEVENT
BEGIN:VEVENT
DTSTART;TZID=America/Los_Angeles:20260131T100000
DTEND;TZID=America/Los_Angeles:20260131T170000
DTSTAMP:20260423T125223
CREATED:20251123T065609Z
LAST-MODIFIED:20260124T225006Z
UID:10003754-1769853600-1769878800@comicquest.org
SUMMARY:Riftbound TCG - Summoner Skirmish
DESCRIPTION:Riftbound League of Legends TCG Summoner Skirmish \nSaturday January 31\, 2026\nCheck in: 10:00am\nRound 1: 10:30am \nEntry Fee = $5.00 (goes to Prize Support store credit) \nFormat:\n1v1 Constructed\, Best of 3 Matches; Tournament Rules are available for reference \nSwiss Rounds with Top Cut \n* \nPrizes: \nEach player will receive 1 Summoner Skirmish Participation Promo. \nThe top 8 players will each receive an exclusive Summoner Skirmish Top 8 Promo. \nThe winner of the event will receive an exclusive Champion playmat. \nPLUS: Additional prizing in store credit for Top 3 finishers
URL:https://comicquest.org/event/riftbound-league-of-legends-tcg-summoner-skirmish-2/
LOCATION:Comic Quest\, 23811 Bridger #111 CA 92630\, Lake Forest\, CA\, 92630\, United States
CATEGORIES:Event
ATTACH;FMTTYPE=image/jpeg:https://comicquest.org/wp-content/uploads/2025/09/RiftboundOG.jpg
END:VEVENT
BEGIN:VEVENT
DTSTART;TZID=Asia/Shanghai:20260131T120000
DTEND;TZID=Asia/Shanghai:20260131T150000
DTSTAMP:20260423T125223
CREATED:20260125T200752Z
LAST-MODIFIED:20260125T200752Z
UID:10004227-1769860800-1769871600@comicquest.org
SUMMARY:Board Game Demo - Flip 7
DESCRIPTION:FREE Board Game Demo: Flip 7 \n  \nSaturday Jan 31 Noon  – 3pm \nComic Quest is providing FREE demos of a fun board game. Learn in a couple of minutes\, it might be your next favorite game. \nPlus\, a discount on the game all day! \n  \nFlip over cards one by one without flipping the same number twice. \nSound easy? Think again! This isn’t just any deck of cards… In Flip 7 there’s only one 1 card\, two 2’s\, three 3’s\, etc plus a bunch of special cards that can score you extra points\, give you a second chance\, or freeze you or your opponents in your tracks. \nAre you the type of player to play it safe and bank points before you bust\, or are you going to risk it all and go for the bonus points by flipping over seven in a row? Press your luck meets strategy in this addictive card game that’s sure to be the greatest card game you’ve ever played!
URL:https://comicquest.org/event/board-game-demo-flip-7-2/
LOCATION:Comic Quest\, 23811 Bridger #111 CA 92630\, Lake Forest\, CA\, 92630\, United States
CATEGORIES:Demo,Event
ATTACH;FMTTYPE=image/png:https://comicquest.org/wp-content/uploads/2026/01/flip-7-jan-2026-banner.png
END:VEVENT
END:VCALENDAR