BEGIN:VCALENDAR
VERSION:2.0
PRODID:-//Comic Quest - ECPv6.15.20//NONSGML v1.0//EN
CALSCALE:GREGORIAN
METHOD:PUBLISH
X-ORIGINAL-URL:https://comicquest.org
X-WR-CALDESC:Events for Comic Quest
REFRESH-INTERVAL;VALUE=DURATION:PT1H
X-Robots-Tag:noindex
X-PUBLISHED-TTL:PT1H
BEGIN:VTIMEZONE
TZID:Asia/Shanghai
BEGIN:STANDARD
TZOFFSETFROM:+0800
TZOFFSETTO:+0800
TZNAME:CST
DTSTART:20250101T000000
END:STANDARD
END:VTIMEZONE
BEGIN:VEVENT
DTSTART;VALUE=DATE:20260219
DTEND;VALUE=DATE:20260220
DTSTAMP:20260423T113152
CREATED:20250807T234139Z
LAST-MODIFIED:20250807T234139Z
UID:10003109-1771459200-1771545599@comicquest.org
SUMMARY:Batman's Birthday
DESCRIPTION:Happy Birthday Batman! \nAccording to official DC documents\,  Feb 19th is Bruce Wayne’s Birthday. \nIn order to celebrate we are giving away FREE copies of Batman White Knight Special Edition \nAnd 50% OFF the graphic novel Batman Last Knight on Earth \nCelebrate the coolness of Batman.  While supplies last. \n 
URL:https://comicquest.org/event/batmans-birthday-4/2026-02-19/
LOCATION:Comic Quest\, 23811 Bridger #111 CA 92630\, Lake Forest\, CA\, 92630\, United States
CATEGORIES:Event
ATTACH;FMTTYPE=image/jpeg:https://comicquest.org/wp-content/uploads/2023/03/Batmans-BIrthday.jpg
END:VEVENT
BEGIN:VEVENT
DTSTART;TZID=Asia/Shanghai:20260219T180000
DTEND;TZID=Asia/Shanghai:20260219T220000
DTSTAMP:20260423T113152
CREATED:20250807T232709Z
LAST-MODIFIED:20250807T232709Z
UID:10002844-1771524000-1771538400@comicquest.org
SUMMARY:Tactical Thursday
DESCRIPTION:This event is for Tactical Thursday! Come and join the fun! \nAn evening dedicated to all popular miniature games. \n  \nSome Facebook Groups \nGames Workshop \nInfinity \nStar Wars Legion \nBattletech \nMiniature Club
URL:https://comicquest.org/event/tactical-thursday-149/2026-02-19/
LOCATION:Comic Quest\, 23811 Bridger #111 CA 92630\, Lake Forest\, CA\, 92630\, United States
CATEGORIES:Event
ATTACH;FMTTYPE=image/jpeg:https://comicquest.org/wp-content/uploads/2023/01/Tactical_thursday.jpg
END:VEVENT
END:VCALENDAR