BEGIN:VCALENDAR
VERSION:2.0
PRODID:-//Comic Quest - ECPv6.15.20//NONSGML v1.0//EN
CALSCALE:GREGORIAN
METHOD:PUBLISH
X-ORIGINAL-URL:https://comicquest.org
X-WR-CALDESC:Events for Comic Quest
REFRESH-INTERVAL;VALUE=DURATION:PT1H
X-Robots-Tag:noindex
X-PUBLISHED-TTL:PT1H
BEGIN:VTIMEZONE
TZID:UTC
BEGIN:STANDARD
TZOFFSETFROM:+0000
TZOFFSETTO:+0000
TZNAME:UTC
DTSTART:20250101T000000
END:STANDARD
END:VTIMEZONE
BEGIN:VTIMEZONE
TZID:Asia/Shanghai
BEGIN:STANDARD
TZOFFSETFROM:+0800
TZOFFSETTO:+0800
TZNAME:CST
DTSTART:20250101T000000
END:STANDARD
END:VTIMEZONE
BEGIN:VTIMEZONE
TZID:America/Los_Angeles
BEGIN:DAYLIGHT
TZOFFSETFROM:-0800
TZOFFSETTO:-0700
TZNAME:PDT
DTSTART:20250309T100000
END:DAYLIGHT
BEGIN:STANDARD
TZOFFSETFROM:-0700
TZOFFSETTO:-0800
TZNAME:PST
DTSTART:20251102T090000
END:STANDARD
BEGIN:DAYLIGHT
TZOFFSETFROM:-0800
TZOFFSETTO:-0700
TZNAME:PDT
DTSTART:20260308T100000
END:DAYLIGHT
BEGIN:STANDARD
TZOFFSETFROM:-0700
TZOFFSETTO:-0800
TZNAME:PST
DTSTART:20261101T090000
END:STANDARD
BEGIN:DAYLIGHT
TZOFFSETFROM:-0800
TZOFFSETTO:-0700
TZNAME:PDT
DTSTART:20270314T100000
END:DAYLIGHT
BEGIN:STANDARD
TZOFFSETFROM:-0700
TZOFFSETTO:-0800
TZNAME:PST
DTSTART:20271107T090000
END:STANDARD
END:VTIMEZONE
BEGIN:VEVENT
DTSTART;VALUE=DATE:20260508
DTEND;VALUE=DATE:20260509
DTSTAMP:20260423T085124
CREATED:20260419T192800Z
LAST-MODIFIED:20260419T192800Z
UID:10004310-1778198400-1778284799@comicquest.org
SUMMARY:Star Wars Unlimited - Twin Suns
DESCRIPTION:Star Wars Unlimited- Twin Suns \nWhy Play Twin Suns?\n\nThe primary multiplayer format of Star Wars: Unlimited  \nA fun and unpredictable format to play with friends\nSpecial deckbuilding rules allow for a unique experience compared to other formats\n\nTwin Suns Overview\nA constructed format utilizing the game’s multiplayer rules\, Twin Suns is a fun alternative way to play Star Wars: Unlimited with a unique approach to deckbuilding. Take on multiple opponents in a free-for-all and see if you can emerge victorious! \nTo play in the Twin Suns format\, you must build your deck ahead of time\, adhering to the following rules: \nYour deck must include exactly two leaders. The faceup sides of these leaders at the start of the game cannot have both the Heroism (white) and Villainy (black) aspects. You will start the game with both leaders in play\, and you’ll be able to use both of their abilities throughout the game. \nYour deck must include exactly one base. \nYour deck must include a minimum 80-card draw deck. You cannot have more than one copy of any card in your deck. \nTypically\, the winner of a Twin Suns match is determined by best-of-one game. Each game should take an average of 45 to 80 minutes to complete\, depending on the player count. \n 
URL:https://comicquest.org/event/star-wars-unlimited-twin-suns/
LOCATION:Comic Quest\, 23811 Bridger #111 CA 92630\, Lake Forest\, CA\, 92630\, United States
CATEGORIES:Event,Star Wars Unlimited,Tournament
ATTACH;FMTTYPE=image/jpeg:https://comicquest.org/wp-content/uploads/2023/10/star-wars-unlimited.jpg
END:VEVENT
BEGIN:VEVENT
DTSTART;VALUE=DATE:20260508
DTEND;VALUE=DATE:20260509
DTSTAMP:20260423T085124
CREATED:20251203T165644Z
LAST-MODIFIED:20260317T214925Z
UID:10003785-1778198400-1778284799@comicquest.org
SUMMARY:Riftbound  New Set - Unleashed
DESCRIPTION:New Set Launch – UNLEASHED: May 8\, 2026 \nPreRelease Event: May 3\, Sunday. *Prepay Sign-ups TBA soon. \nThe set will include over 220 cards and over 30 alternate arts\, adding new Legends\, a new mechanic\, powerful plays\, and more popular League of Legends champions such as Rengar\, Vi\, Poppy\, and LeBlanc. \nBooster packs include 7 Commons\, 3 Uncommons\, 2 foil Rares or better\, 1 foil of any rarity\, and 1 token slot. \nRiot and UVS will also release: \nRiftbound – League of Legends TCG: Unleashed Champion Deck: Vi. Vi has one goal in her Champion Deck: Punch. Really. Hard. This preconstructed 56-card deck shines by buffing units and slamming them around the battlefields\, exactly how Vi likes to do business. Whether you’re a new player ready to jump in or a proficient player looking for a fresh deck\, Vi is ready to overcome any odds straight out of the box. Includes 1 Riftbound: Unleashed booster! \nRiftbound – League of Legends TCG: Unleashed Champion Deck: Vex.  Vex drags her foes down into despairing depths with this Champion Deck.This preconstructed 56-card deck is built to thwart your opponent at every turn\, forcing them to make difficult decision after decision. Whether you’re a new player ready to jump in or a seasoned schemer looking for a fresh deck\, Vex is ready to make your opponent miserable straight out of the box. Includes 1 Riftbound: Unleashed booster! \nRiftbound TCG – League of Legends: The Unleashed Vault will include 6 Unleashed booster packs\, 3 copies of a double-sided full-art token card\, 2 punch-out art dividers\, 6 of each Rune type\, and custom card storage box \nRiftbound – League of Legends TCG: Unleashed Pre-Rift Kit. each player gets one of six varieties of a mini-preconstructed deck with a Champion Legend\, Champion Unit\, and the runes a Champion needs to operate; and five Unleashed booster packs. *NOTE: PreRelease Event signups TBA soon. \n 
URL:https://comicquest.org/event/riftbound-new-set-unleashed/
LOCATION:Comic Quest\, 23811 Bridger #111 CA 92630\, Lake Forest\, CA\, 92630\, United States
CATEGORIES:Riftbound
ATTACH;FMTTYPE=image/jpeg:https://comicquest.org/wp-content/uploads/2025/12/Riftbound-TCG-Unleashed-Set-3-Key-Art-1024x576_small.jpg
END:VEVENT
BEGIN:VEVENT
DTSTART;VALUE=DATE:20260508
DTEND;VALUE=DATE:20260509
DTSTAMP:20260423T085124
CREATED:20260329T002708Z
LAST-MODIFIED:20260329T002724Z
UID:10004302-1778198400-1778284799@comicquest.org
SUMMARY:Wilds Unknown - Lorcana New Set 12 Release
DESCRIPTION:Lorcana New Set 12 Release –  WILDS UNKNOWN \nFLGS early product release Friday May 8.\nComic Quest PreRelease event Saturday May 9.  Details on the May 9 calendar slot. Sign-ups in store TBA soon!\n\n  \nProduct Preorders – Details TBA soon.
URL:https://comicquest.org/event/wilds-unknown-lorcana-new-set-12-release/
LOCATION:Comic Quest\, 23811 Bridger #111 CA 92630\, Lake Forest\, CA\, 92630\, United States
CATEGORIES:Event
ATTACH;FMTTYPE=image/jpeg:https://comicquest.org/wp-content/uploads/2023/04/loracana.jpg
END:VEVENT
BEGIN:VEVENT
DTSTART;TZID=America/Los_Angeles:20260508T180000
DTEND;TZID=America/Los_Angeles:20260508T220000
DTSTAMP:20260423T085124
CREATED:20241112T043240Z
LAST-MODIFIED:20250815T015729Z
UID:10003356-1778263200-1778277600@comicquest.org
SUMMARY:Friday Night Magic
DESCRIPTION:Friday Night Magic! Come Join the fun! \nStandard and Commander Formats. \nFree\, unless a draft or sealed event. \nOn Demand Drafts – just ask the TO. \nOn occasion sealed & draft around new set launches. \nPlease join our Facebook group & Discord. \nhttps://www.facebook.com/groups/426423864154241/
URL:https://comicquest.org/event/friday-night-magic-128/2026-05-08/
LOCATION:Comic Quest\, 23811 Bridger #111 CA 92630\, Lake Forest\, CA\, 92630\, United States
CATEGORIES:Event,Magic,Tournament
ATTACH;FMTTYPE=image/jpeg:https://comicquest.org/wp-content/uploads/2023/01/Friday-Night-Magic.jpg
END:VEVENT
END:VCALENDAR