BEGIN:VCALENDAR
VERSION:2.0
PRODID:-//Comic Quest - ECPv6.15.20//NONSGML v1.0//EN
CALSCALE:GREGORIAN
METHOD:PUBLISH
X-WR-CALNAME:Comic Quest
X-ORIGINAL-URL:https://comicquest.org
X-WR-CALDESC:Events for Comic Quest
REFRESH-INTERVAL;VALUE=DURATION:PT1H
X-Robots-Tag:noindex
X-PUBLISHED-TTL:PT1H
BEGIN:VTIMEZONE
TZID:Asia/Shanghai
BEGIN:STANDARD
TZOFFSETFROM:+0800
TZOFFSETTO:+0800
TZNAME:CST
DTSTART:20250101T000000
END:STANDARD
END:VTIMEZONE
BEGIN:VEVENT
DTSTART;VALUE=DATE:20260518
DTEND;VALUE=DATE:20260519
DTSTAMP:20260423T085140
CREATED:20250808T000844Z
LAST-MODIFIED:20250808T000844Z
UID:10003206-1779062400-1779148799@comicquest.org
SUMMARY:Miracle Monday
DESCRIPTION:Miracle Monday is a novel written by Elliot S. Maggin\, starring the DC Comics superhero Superman. It was published in 1981. \nThe novel introduces the holiday Miracle Monday\, which occurs annually on the third Monday of May. \nKristin Wells\, a history graduate student from the far future\, uses time travel technology to arrive in the present\, for the purpose of finding out the origin of the holiday known as Miracle Monday\, which is known only to be somehow connected to Superman. \nUltimately\, Superman refuses to kill Kristin\, even if it means he would have to spend the rest of his life battling Saturn. At that moment\, because of the rules that bind demons\, Saturn is defeated\, and forced to grant Superman a wish. He asks that everything that happened since Saturn’s arrival be undone\, and it is granted\, with Saturn then being banished back to Hell. However\, a lingering memory of the events remained within the souls of humanity\, causing them to begin celebrating the day every year\, on the third Monday of May\, starting the Miracle Monday tradition. Kristin then returns to the future to reveal this fact to the public. \n 
URL:https://comicquest.org/event/miracle-monday-4/2026-05-18/
LOCATION:Comic Quest\, 23811 Bridger #111 CA 92630\, Lake Forest\, CA\, 92630\, United States
CATEGORIES:Event
ATTACH;FMTTYPE=image/jpeg:https://comicquest.org/wp-content/uploads/2023/03/Miracle_monday.jpg
END:VEVENT
BEGIN:VEVENT
DTSTART;TZID=Asia/Shanghai:20260518T180000
DTEND;TZID=Asia/Shanghai:20260518T210000
DTSTAMP:20260423T085140
CREATED:20251125T012317Z
LAST-MODIFIED:20251125T012318Z
UID:10001883-1779127200-1779138000@comicquest.org
SUMMARY:Card Game TCG Night (SWU & Gundam & Riftbound)
DESCRIPTION:Card Game TCG Night \n\nWEEKLY Card Game TCG at COMIC QUEST.\nMondays – 6pm to 9pm.\n\nConstructed – bring your own deck!\n\n\nStar Wars Unlimited\nGundam TCG – Best of 1\, 3 to 4 rounds\nRiftbound TCG – Best of 3\, 3 to 4 rounds\n\n\n\n\n*Join our Discord for updates \n\n\n  \n 
URL:https://comicquest.org/event/card-game-tcg-night-swu-gundam-3-2/2026-05-18/
LOCATION:Comic Quest\, 23811 Bridger #111 CA 92630\, Lake Forest\, CA\, 92630\, United States
CATEGORIES:Event,Lorcana
ATTACH;FMTTYPE=image/png:https://comicquest.org/wp-content/uploads/2025/07/monday-madness2.png
END:VEVENT
END:VCALENDAR