BEGIN:VCALENDAR
VERSION:2.0
PRODID:-//Comic Quest - ECPv6.15.20//NONSGML v1.0//EN
CALSCALE:GREGORIAN
METHOD:PUBLISH
X-WR-CALNAME:Comic Quest
X-ORIGINAL-URL:https://comicquest.org
X-WR-CALDESC:Events for Comic Quest
REFRESH-INTERVAL;VALUE=DURATION:PT1H
X-Robots-Tag:noindex
X-PUBLISHED-TTL:PT1H
BEGIN:VTIMEZONE
TZID:Asia/Shanghai
BEGIN:STANDARD
TZOFFSETFROM:+0800
TZOFFSETTO:+0800
TZNAME:CST
DTSTART:20250101T000000
END:STANDARD
END:VTIMEZONE
BEGIN:VTIMEZONE
TZID:America/Los_Angeles
BEGIN:DAYLIGHT
TZOFFSETFROM:-0800
TZOFFSETTO:-0700
TZNAME:PDT
DTSTART:20250309T100000
END:DAYLIGHT
BEGIN:STANDARD
TZOFFSETFROM:-0700
TZOFFSETTO:-0800
TZNAME:PST
DTSTART:20251102T090000
END:STANDARD
BEGIN:DAYLIGHT
TZOFFSETFROM:-0800
TZOFFSETTO:-0700
TZNAME:PDT
DTSTART:20260308T100000
END:DAYLIGHT
BEGIN:STANDARD
TZOFFSETFROM:-0700
TZOFFSETTO:-0800
TZNAME:PST
DTSTART:20261101T090000
END:STANDARD
BEGIN:DAYLIGHT
TZOFFSETFROM:-0800
TZOFFSETTO:-0700
TZNAME:PDT
DTSTART:20270314T100000
END:DAYLIGHT
BEGIN:STANDARD
TZOFFSETFROM:-0700
TZOFFSETTO:-0800
TZNAME:PST
DTSTART:20271107T090000
END:STANDARD
END:VTIMEZONE
BEGIN:VEVENT
DTSTART;VALUE=DATE:20260605
DTEND;VALUE=DATE:20260606
DTSTAMP:20260423T085051
CREATED:20260421T030414Z
LAST-MODIFIED:20260421T030414Z
UID:10004322-1780617600-1780703999@comicquest.org
SUMMARY:Pokemon Release - Pokémon 2025 World Championship
DESCRIPTION: 
URL:https://comicquest.org/event/pokemon-release-pokemon-2025-world-championship/
LOCATION:Comic Quest\, 23811 Bridger #111 CA 92630\, Lake Forest\, CA\, 92630\, United States
CATEGORIES:Pokemon
ATTACH;FMTTYPE=image/jpeg:https://comicquest.org/wp-content/uploads/2026/04/Pokemon-2025-World-Championship.jpg
END:VEVENT
BEGIN:VEVENT
DTSTART;VALUE=DATE:20260605
DTEND;VALUE=DATE:20260606
DTSTAMP:20260423T085051
CREATED:20250808T061508Z
LAST-MODIFIED:20250808T061508Z
UID:10003238-1780617600-1780703999@comicquest.org
SUMMARY:Ferris Bueller's Day Off
DESCRIPTION:  \nJune 5th is “Ferris Bueller’s Day Off” day because the movie depicts Ferris and his friends taking a day off from school and spending it in Chicago\, and the movie’s baseball game scene was filmed during an actual Cubs game against the Atlanta Braves on that date
URL:https://comicquest.org/event/ferris-buellers-day-off-4/2026-06-05/
LOCATION:Comic Quest\, 23811 Bridger #111 CA 92630\, Lake Forest\, CA\, 92630\, United States
CATEGORIES:Event
ATTACH;FMTTYPE=image/jpeg:https://comicquest.org/wp-content/uploads/2023/03/ferris.jpg
END:VEVENT
BEGIN:VEVENT
DTSTART;TZID=America/Los_Angeles:20260605T180000
DTEND;TZID=America/Los_Angeles:20260605T220000
DTSTAMP:20260423T085051
CREATED:20241112T043240Z
LAST-MODIFIED:20250815T015729Z
UID:10003360-1780682400-1780696800@comicquest.org
SUMMARY:Friday Night Magic
DESCRIPTION:Friday Night Magic! Come Join the fun! \nStandard and Commander Formats. \nFree\, unless a draft or sealed event. \nOn Demand Drafts – just ask the TO. \nOn occasion sealed & draft around new set launches. \nPlease join our Facebook group & Discord. \nhttps://www.facebook.com/groups/426423864154241/
URL:https://comicquest.org/event/friday-night-magic-128/2026-06-05/
LOCATION:Comic Quest\, 23811 Bridger #111 CA 92630\, Lake Forest\, CA\, 92630\, United States
CATEGORIES:Event,Magic,Tournament
ATTACH;FMTTYPE=image/jpeg:https://comicquest.org/wp-content/uploads/2023/01/Friday-Night-Magic.jpg
END:VEVENT
END:VCALENDAR