BEGIN:VCALENDAR
VERSION:2.0
PRODID:-//Comic Quest - ECPv6.15.20//NONSGML v1.0//EN
CALSCALE:GREGORIAN
METHOD:PUBLISH
X-WR-CALNAME:Comic Quest
X-ORIGINAL-URL:https://comicquest.org
X-WR-CALDESC:Events for Comic Quest
REFRESH-INTERVAL;VALUE=DURATION:PT1H
X-Robots-Tag:noindex
X-PUBLISHED-TTL:PT1H
BEGIN:VTIMEZONE
TZID:Asia/Shanghai
BEGIN:STANDARD
TZOFFSETFROM:+0800
TZOFFSETTO:+0800
TZNAME:CST
DTSTART:20250101T000000
END:STANDARD
END:VTIMEZONE
BEGIN:VTIMEZONE
TZID:America/Los_Angeles
BEGIN:DAYLIGHT
TZOFFSETFROM:-0800
TZOFFSETTO:-0700
TZNAME:PDT
DTSTART:20250309T100000
END:DAYLIGHT
BEGIN:STANDARD
TZOFFSETFROM:-0700
TZOFFSETTO:-0800
TZNAME:PST
DTSTART:20251102T090000
END:STANDARD
BEGIN:DAYLIGHT
TZOFFSETFROM:-0800
TZOFFSETTO:-0700
TZNAME:PDT
DTSTART:20260308T100000
END:DAYLIGHT
BEGIN:STANDARD
TZOFFSETFROM:-0700
TZOFFSETTO:-0800
TZNAME:PST
DTSTART:20261101T090000
END:STANDARD
BEGIN:DAYLIGHT
TZOFFSETFROM:-0800
TZOFFSETTO:-0700
TZNAME:PDT
DTSTART:20270314T100000
END:DAYLIGHT
BEGIN:STANDARD
TZOFFSETFROM:-0700
TZOFFSETTO:-0800
TZNAME:PST
DTSTART:20271107T090000
END:STANDARD
END:VTIMEZONE
BEGIN:VEVENT
DTSTART;VALUE=DATE:20260731
DTEND;VALUE=DATE:20260801
DTSTAMP:20260423T110031
CREATED:20260419T194008Z
LAST-MODIFIED:20260419T194008Z
UID:10004311-1785456000-1785542399@comicquest.org
SUMMARY:Riftbound  New Set - Vendetta
DESCRIPTION:  \nNew Set Launch – Vendetta \n  \n 
URL:https://comicquest.org/event/riftbound-new-set-vendetta/
LOCATION:Comic Quest\, 23811 Bridger #111 CA 92630\, Lake Forest\, CA\, 92630\, United States
CATEGORIES:Riftbound
ATTACH;FMTTYPE=image/jpeg:https://comicquest.org/wp-content/uploads/2025/12/Riftbound-TCG-Unleashed-Set-3-Key-Art-1024x576_small.jpg
END:VEVENT
BEGIN:VEVENT
DTSTART;VALUE=DATE:20260731
DTEND;VALUE=DATE:20260801
DTSTAMP:20260423T110031
CREATED:20250808T142937Z
LAST-MODIFIED:20250808T142937Z
UID:10003305-1785456000-1785542399@comicquest.org
SUMMARY:Harry Potter Day
DESCRIPTION:  \n 
URL:https://comicquest.org/event/harry-potter-day-4/2026-07-31/
LOCATION:Comic Quest\, 23811 Bridger #111 CA 92630\, Lake Forest\, CA\, 92630\, United States
CATEGORIES:Event
ATTACH;FMTTYPE=image/png:https://comicquest.org/wp-content/uploads/2023/03/harry_potter.png
END:VEVENT
BEGIN:VEVENT
DTSTART;TZID=America/Los_Angeles:20260731T180000
DTEND;TZID=America/Los_Angeles:20260731T220000
DTSTAMP:20260423T110031
CREATED:20241112T043240Z
LAST-MODIFIED:20250815T015729Z
UID:10003368-1785520800-1785535200@comicquest.org
SUMMARY:Friday Night Magic
DESCRIPTION:Friday Night Magic! Come Join the fun! \nStandard and Commander Formats. \nFree\, unless a draft or sealed event. \nOn Demand Drafts – just ask the TO. \nOn occasion sealed & draft around new set launches. \nPlease join our Facebook group & Discord. \nhttps://www.facebook.com/groups/426423864154241/
URL:https://comicquest.org/event/friday-night-magic-128/2026-07-31/
LOCATION:Comic Quest\, 23811 Bridger #111 CA 92630\, Lake Forest\, CA\, 92630\, United States
CATEGORIES:Event,Magic,Tournament
ATTACH;FMTTYPE=image/jpeg:https://comicquest.org/wp-content/uploads/2023/01/Friday-Night-Magic.jpg
END:VEVENT
BEGIN:VEVENT
DTSTART;TZID=Asia/Shanghai:20260731T190000
DTEND;TZID=Asia/Shanghai:20260731T210000
DTSTAMP:20260423T110031
CREATED:20260102T065759Z
LAST-MODIFIED:20260211T040852Z
UID:10004196-1785524400-1785531600@comicquest.org
SUMMARY:Movie Release - Spider-Man Brand New Day
DESCRIPTION:  \n 
URL:https://comicquest.org/event/movie-release-supergirl/
LOCATION:Comic Quest\, 23811 Bridger #111 CA 92630\, Lake Forest\, CA\, 92630\, United States
CATEGORIES:Movie Release
ATTACH;FMTTYPE=image/jpeg:https://comicquest.org/wp-content/uploads/2026/01/spiderman-brand-new-day.jpg
END:VEVENT
END:VCALENDAR