BEGIN:VCALENDAR
VERSION:2.0
PRODID:-//Comic Quest - ECPv6.15.20//NONSGML v1.0//EN
CALSCALE:GREGORIAN
METHOD:PUBLISH
X-ORIGINAL-URL:https://comicquest.org
X-WR-CALDESC:Events for Comic Quest
REFRESH-INTERVAL;VALUE=DURATION:PT1H
X-Robots-Tag:noindex
X-PUBLISHED-TTL:PT1H
BEGIN:VTIMEZONE
TZID:Asia/Shanghai
BEGIN:STANDARD
TZOFFSETFROM:+0800
TZOFFSETTO:+0800
TZNAME:CST
DTSTART:20250101T000000
END:STANDARD
END:VTIMEZONE
BEGIN:VTIMEZONE
TZID:America/Los_Angeles
BEGIN:DAYLIGHT
TZOFFSETFROM:-0800
TZOFFSETTO:-0700
TZNAME:PDT
DTSTART:20250309T100000
END:DAYLIGHT
BEGIN:STANDARD
TZOFFSETFROM:-0700
TZOFFSETTO:-0800
TZNAME:PST
DTSTART:20251102T090000
END:STANDARD
BEGIN:DAYLIGHT
TZOFFSETFROM:-0800
TZOFFSETTO:-0700
TZNAME:PDT
DTSTART:20260308T100000
END:DAYLIGHT
BEGIN:STANDARD
TZOFFSETFROM:-0700
TZOFFSETTO:-0800
TZNAME:PST
DTSTART:20261101T090000
END:STANDARD
BEGIN:DAYLIGHT
TZOFFSETFROM:-0800
TZOFFSETTO:-0700
TZNAME:PDT
DTSTART:20270314T100000
END:DAYLIGHT
BEGIN:STANDARD
TZOFFSETFROM:-0700
TZOFFSETTO:-0800
TZNAME:PST
DTSTART:20271107T090000
END:STANDARD
END:VTIMEZONE
BEGIN:VEVENT
DTSTART;TZID=Asia/Shanghai:20260925T103000
DTEND;TZID=Asia/Shanghai:20260925T180000
DTSTAMP:20260423T133138
CREATED:20260419T200252Z
LAST-MODIFIED:20260419T200252Z
UID:10004313-1790332200-1790359200@comicquest.org
SUMMARY:Gundam Release - ST11-14
DESCRIPTION:ST11\, ST12\, ST13\, ST14 \n  \n \n4 types of starter decks are coming\, each with a different “battle style”.\n11 \nA Blue‑Purple starter deck that includes many units skilled in underwater combat\, such as “Char’s Z’gok”.\nIn addition to being strong in 1‑on‑1 battles\, it also contains many cards that truly shine in multiplayer matches. \n12 \nA Red‑Purple starter deck that includes many units skilled in close combat\, such as “Gundam Epyon”.\nIn addition to being strong in 1‑on‑1 battles\, it also contains many cards that truly shine in multiplayer matche \n13 \nA Green‑Red starter deck that includes many units skilled in bit/funnel combat\, such as “Qubeley”.\nIn addition to being strong in 1‑on‑1 battles\, it also contains many cards that truly shine in multiplayer matches. \n14 \nA Green‑White starter deck that includes many heavily‑armed units\, such as “The-O”.\nIn addition to being strong in 1‑on‑1 battles\, it also contains many cards that truly shine in multiplayer matches.
URL:https://comicquest.org/event/gundam-release-st11-14/
LOCATION:Comic Quest\, 23811 Bridger #111 CA 92630\, Lake Forest\, CA\, 92630\, United States
CATEGORIES:Event,Gundam
ATTACH;FMTTYPE=image/png:https://comicquest.org/wp-content/uploads/2025/12/gunam-logo.png
END:VEVENT
BEGIN:VEVENT
DTSTART;TZID=America/Los_Angeles:20260925T180000
DTEND;TZID=America/Los_Angeles:20260925T220000
DTSTAMP:20260423T133138
CREATED:20241112T043240Z
LAST-MODIFIED:20250815T015729Z
UID:10003376-1790359200-1790373600@comicquest.org
SUMMARY:Friday Night Magic
DESCRIPTION:Friday Night Magic! Come Join the fun! \nStandard and Commander Formats. \nFree\, unless a draft or sealed event. \nOn Demand Drafts – just ask the TO. \nOn occasion sealed & draft around new set launches. \nPlease join our Facebook group & Discord. \nhttps://www.facebook.com/groups/426423864154241/
URL:https://comicquest.org/event/friday-night-magic-128/2026-09-25/
LOCATION:Comic Quest\, 23811 Bridger #111 CA 92630\, Lake Forest\, CA\, 92630\, United States
CATEGORIES:Event,Magic,Tournament
ATTACH;FMTTYPE=image/jpeg:https://comicquest.org/wp-content/uploads/2023/01/Friday-Night-Magic.jpg
END:VEVENT
BEGIN:VEVENT
DTSTART;TZID=America/Los_Angeles:20260925T180000
DTEND;TZID=America/Los_Angeles:20260925T220000
DTSTAMP:20260423T133138
CREATED:20260211T040155Z
LAST-MODIFIED:20260211T040155Z
UID:10004248-1790359200-1790373600@comicquest.org
SUMMARY:Magic Prerelease - Reality Fracture
DESCRIPTION:Prerelease is your first opportunity to get your hands on the newest Magic: The Gathering release and explore what the set has to offer\, and Prerelease Packs are the perfect product to fuel the first events of this new set. \n\n\n\n\n\nMagic the Gathering:  Reality Fracture \nPreRelease Events Fri\, Sat& Sun.  Fri 6pm. Sat/Sun 12pm. \nSign ups TBA \n\nFriday PreRelease Event = 2HG format (Two Headed Giant). Sign up & Play with a Partner!\nSat/Sun PreRelease Event= Regular Sealed event.\nAll events use the PreRelease Kit\n\nAll Product available starting at PreRelease.. \nMore details TBA
URL:https://comicquest.org/event/magic-prerelease-reality-fracture/
LOCATION:Comic Quest\, 23811 Bridger #111 CA 92630\, Lake Forest\, CA\, 92630\, United States
CATEGORIES:Event,Magic,Tournament
ATTACH;FMTTYPE=image/jpeg:https://comicquest.org/wp-content/uploads/2023/03/magic_prerelease.jpg
END:VEVENT
END:VCALENDAR