BEGIN:VCALENDAR
VERSION:2.0
PRODID:-//Comic Quest - ECPv6.15.20//NONSGML v1.0//EN
CALSCALE:GREGORIAN
METHOD:PUBLISH
X-WR-CALNAME:Comic Quest
X-ORIGINAL-URL:https://comicquest.org
X-WR-CALDESC:Events for Comic Quest
REFRESH-INTERVAL;VALUE=DURATION:PT1H
X-Robots-Tag:noindex
X-PUBLISHED-TTL:PT1H
BEGIN:VTIMEZONE
TZID:UTC
BEGIN:STANDARD
TZOFFSETFROM:+0000
TZOFFSETTO:+0000
TZNAME:UTC
DTSTART:20230101T000000
END:STANDARD
END:VTIMEZONE
BEGIN:VEVENT
DTSTART;TZID=UTC:20241214T150000
DTEND;TZID=UTC:20241214T190000
DTSTAMP:20260424T123933
CREATED:20241207T003823Z
LAST-MODIFIED:20241209T053155Z
UID:10001386-1734188400-1734202800@comicquest.org
SUMMARY:Blood Bowl Learn to Play
DESCRIPTION:BLOOD BOWL Learn to Play Day \nSaturday Dec 14.  3:00pm.  \nCQ will be hosting a Learn to Play Blood Bowl event next Saturday at 3pm! \nIf you’ve been lurking in the shadows\, come out into the light and see what all the hootin and hollerin is about! \n\nAll pieces\, pitches and dice will be provided\, and there is no cost. Just come out for some fun!\n\nTo give us an idea of numbers of people\, you can sign up by emailing below or joining our discord. \nRegister by emailing: bloodbowlcouplescup@gmail.com \nJoin our Discord server: https://discord.com/invite/jsCQRHaVAr \n 
URL:https://comicquest.org/event/blood-bowl-learn-to-play/
LOCATION:Comic Quest\, 23811 Bridger #111 CA 92630\, Lake Forest\, CA\, 92630\, United States
CATEGORIES:Bloodbowl,Event
ATTACH;FMTTYPE=image/png:https://comicquest.org/wp-content/uploads/2023/03/Bloodbowl_logo.png
END:VEVENT
BEGIN:VEVENT
DTSTART;TZID=UTC:20241221T093000
DTEND;TZID=UTC:20241221T190000
DTSTAMP:20260424T123933
CREATED:20241021T234301Z
LAST-MODIFIED:20241217T174722Z
UID:10001223-1734773400-1734807600@comicquest.org
SUMMARY:Bloodbowl Holiday Havoc
DESCRIPTION:BLOOD BOWL Holiday Havoc Tournament \nSaturday Dec 21.  9:30am Check in; 10:00am Go time! \nRegister by emailing: bloodbowlcouplescup@gmail.com \nEntry Fee: $10 If you pre-register prior to December 13th and are a NAF member. \n$15 for non NAF members or without the pre-registration (or both). We will attempt to\naccept all players into the event\, provided we have the room\, but ensure your spot by preregistering. \nTeam Draft Budget: 1\,150\,000 gold\nTeam Selection: All Blood Bowl 2020 rule books and supplements including Slann are usable excluding any forms of mercenaries\, other\nthan giants.\nTools of the Trade: Models\, Roster\, Dice\, Rulebook\, Pitch and Dugouts. \nJoin our Discord server: https://discord.com/invite/jsCQRHaVAr \nDiscord has player packet with more details. Or can request by email when register. \nPrizes: Store Credit and some special goodies!
URL:https://comicquest.org/event/bloodbowl-holiday-havoc/
LOCATION:Comic Quest\, 23811 Bridger #111 CA 92630\, Lake Forest\, CA\, 92630\, United States
CATEGORIES:Bloodbowl,Event
ATTACH;FMTTYPE=image/png:https://comicquest.org/wp-content/uploads/2023/03/Bloodbowl_logo.png
END:VEVENT
END:VCALENDAR