BEGIN:VCALENDAR
VERSION:2.0
PRODID:-//Comic Quest - ECPv6.15.20//NONSGML v1.0//EN
CALSCALE:GREGORIAN
METHOD:PUBLISH
X-WR-CALNAME:Comic Quest
X-ORIGINAL-URL:https://comicquest.org
X-WR-CALDESC:Events for Comic Quest
REFRESH-INTERVAL;VALUE=DURATION:PT1H
X-Robots-Tag:noindex
X-PUBLISHED-TTL:PT1H
BEGIN:VTIMEZONE
TZID:UTC
BEGIN:STANDARD
TZOFFSETFROM:+0000
TZOFFSETTO:+0000
TZNAME:UTC
DTSTART:20240101T000000
END:STANDARD
END:VTIMEZONE
BEGIN:VEVENT
DTSTART;TZID=UTC:20251025T093000
DTEND;TZID=UTC:20251025T190000
DTSTAMP:20260423T182848
CREATED:20250617T231209Z
LAST-MODIFIED:20251019T180231Z
UID:10001554-1761384600-1761418800@comicquest.org
SUMMARY:Blood Bowl Tournament - SoCal Open Casket Memorial
DESCRIPTION:Saturday October 25\, 2025 \nSoCal Open Casket Memorial. \nStandard Blood Bowl Tournament. \nHalloween theme\,  & the name is a bit of a joke that the community is sad that we lost the SoCal Open\, since LVO has moved to October. \n\n\nCome one\, come all! Celebrate the life of our dearly departed Sock L’opan\, Slann Star Player. Gone too soon\, we gather to mourn the loss\, taken away for no real reason. Come play in the SoCal Open Casket Memorial.\n\n\nCOME PLAY WITH US!! \nJoin our CQ Blood Bowl Discord server: https://discord.com/invite/jsCQRHaVAr \nGo to the #events channel in the discord. Discord has player packet with more details. Or can request by email when register. \nThe Gimmick: A friend and Star Player has passed away: Sock L’opan. Blood Bowl teams have gathered from far and wide (or however far the bus ticket gets them) to come pay their respects. Your team has seen better days (and players)\, but they came\, anyway. But they found that they did not come alone: a true Legend from out of your team’s history has made the pilgrimage to the event\, and have decided to come out of retirement to play for their old team for one last tournament! Your team! \nRegistration: To register email: bloodbowlcouplescup@gmail.com. \nRegistration Fee is $20. You may pay either ahead of time via paypal at that same email address or by cash to the TO\, or you may pay on the day of the event. Please try to let the TO know if you are planning on making it. Everyone who submits a valid roster before October 25th will receive a Sock L’opan miniature. If there’s an odd number of people at the tournament and you didn’t say you were coming\, you might be sitting out the first round \nRuleset Document found here: https://member.thenaf.net/index.php?module=NAF&type=tournaments&func=view&id=10584 \nSCHEDULE:\n09:30 – 10:00 Registration and Setup\n10:15 – 12:30 Round 1\n12:30 – 01:00 Lunch\n01:00 – 03:15 Round 2\n03:30 – 05:45 Round 3\n06:00 – 06:30 Score Tally and Award Ceremony
URL:https://comicquest.org/event/blood-bowl-tournament-socal-open-casket-memorial/
LOCATION:Comic Quest\, 23811 Bridger #111 CA 92630\, Lake Forest\, CA\, 92630\, United States
CATEGORIES:Bloodbowl,Event
ATTACH;FMTTYPE=image/png:https://comicquest.org/wp-content/uploads/2023/03/Bloodbowl_logo.png
END:VEVENT
END:VCALENDAR