BEGIN:VCALENDAR
VERSION:2.0
PRODID:-//Comic Quest - ECPv6.15.20//NONSGML v1.0//EN
CALSCALE:GREGORIAN
METHOD:PUBLISH
X-WR-CALNAME:Comic Quest
X-ORIGINAL-URL:https://comicquest.org
X-WR-CALDESC:Events for Comic Quest
REFRESH-INTERVAL;VALUE=DURATION:PT1H
X-Robots-Tag:noindex
X-PUBLISHED-TTL:PT1H
BEGIN:VTIMEZONE
TZID:UTC
BEGIN:STANDARD
TZOFFSETFROM:+0000
TZOFFSETTO:+0000
TZNAME:UTC
DTSTART:20230101T000000
END:STANDARD
END:VTIMEZONE
BEGIN:VEVENT
DTSTART;VALUE=DATE:20240615
DTEND;VALUE=DATE:20240616
DTSTAMP:20260425T073001
CREATED:20240502T213448Z
LAST-MODIFIED:20240609T203927Z
UID:10000899-1718409600-1718495999@comicquest.org
SUMMARY:Bloodbowl
DESCRIPTION:BLOOD BOWL TOURNAMENT. \n**Big Chicken’s Tournament of Change** – June 15\, 2024 at Comic Quest \n  \nBig Chicken’s Tournament of Change is a Tzeentch-themed Blood Bowl elevens tournament. The tournament uses a thematic kick-off table and offers all coaches a free 3d printed Blue Horror star player. \n**Tournament Rules:** <https://tinyurl.com/bigchickenrules> \n  \n**Tournament Registration:** <https://tinyurl.com/bigchickensignup> \n  \n**NAF Page (Pending NAF-approval):** <https://tinyurl.com/bigchickennaf>
URL:https://comicquest.org/event/bloodbowl-5/
LOCATION:Comic Quest\, 23811 Bridger #111 CA 92630\, Lake Forest\, CA\, 92630\, United States
CATEGORIES:Bloodbowl,Event
ATTACH;FMTTYPE=image/png:https://comicquest.org/wp-content/uploads/2023/03/Bloodbowl_logo.png
END:VEVENT
END:VCALENDAR