BEGIN:VCALENDAR
VERSION:2.0
PRODID:-//Comic Quest - ECPv6.15.20//NONSGML v1.0//EN
CALSCALE:GREGORIAN
METHOD:PUBLISH
X-WR-CALNAME:Comic Quest
X-ORIGINAL-URL:https://comicquest.org
X-WR-CALDESC:Events for Comic Quest
REFRESH-INTERVAL;VALUE=DURATION:PT1H
X-Robots-Tag:noindex
X-PUBLISHED-TTL:PT1H
BEGIN:VTIMEZONE
TZID:UTC
BEGIN:STANDARD
TZOFFSETFROM:+0000
TZOFFSETTO:+0000
TZNAME:UTC
DTSTART:20240101T000000
END:STANDARD
END:VTIMEZONE
BEGIN:VEVENT
DTSTART;TZID=UTC:20250830T110000
DTEND;TZID=UTC:20250830T170000
DTSTAMP:20260423T220620
CREATED:20250810T061511Z
LAST-MODIFIED:20250810T064131Z
UID:10003311-1756551600-1756573200@comicquest.org
SUMMARY:Blood Bowl League Kick off Event
DESCRIPTION:BLOOD BOWL LEAGUE – Kick off event \nSaturday August 30. \nCasual event. This will be a small gathering. But definitely fun. Get a first game in. \nAttendance is Not required to join the league. Just a fun get-together\, to meet other players and a get in a game or two. \n*See Discord for Details and League pairings. And to discuss games & for any questions. Link: https://discord.gg/pQVUu2kq \nLEAGUE DETAILS: \n Don’t forget to sign-up for next season here: https://tourplay.net/en/blood-bowl/season-7-comic-quest-blood-bowl-league/registration \n\nRegistration is due Sunday\, August 24 (that’s two weeks!)\n\nWe will have a kick-off event on Saturday\, August 30th. You do not need to be able to attend to play in the league\, but we will arrange as many round 1 matchups for that day as we’re able to so we can all start off the league together. Please let us know in advance if you will be there! Either post in ⁠the CQ Blood Bowl league-chat or DM me either one. \nIf you are new to our league\, or new to blood bowl in general there has never been a better time to join! Season 7 will run from August 31 through around Thanksgiving for the regular season\, with the championships bracket happening around the holidays. Joining the league is free – all that you need is a Blood Bowl team! Each round\, you will be paired with 2 opponents and have 3 weeks to complete those games. We will play 8 total games this season before heading into playoffs. \n  \n  \n 
URL:https://comicquest.org/event/blood-bowl-league-kick-off-event-2/
LOCATION:Comic Quest\, 23811 Bridger #111 CA 92630\, Lake Forest\, CA\, 92630\, United States
CATEGORIES:Bloodbowl,Event
ATTACH;FMTTYPE=image/png:https://comicquest.org/wp-content/uploads/2023/03/Bloodbowl_logo.png
END:VEVENT
END:VCALENDAR