BEGIN:VCALENDAR
VERSION:2.0
PRODID:-//Comic Quest - ECPv6.15.20//NONSGML v1.0//EN
CALSCALE:GREGORIAN
METHOD:PUBLISH
X-ORIGINAL-URL:https://comicquest.org
X-WR-CALDESC:Events for Comic Quest
REFRESH-INTERVAL;VALUE=DURATION:PT1H
X-Robots-Tag:noindex
X-PUBLISHED-TTL:PT1H
BEGIN:VTIMEZONE
TZID:UTC
BEGIN:STANDARD
TZOFFSETFROM:+0000
TZOFFSETTO:+0000
TZNAME:UTC
DTSTART:20220101T000000
END:STANDARD
END:VTIMEZONE
BEGIN:VEVENT
DTSTART;TZID=UTC:20240317T100000
DTEND;TZID=UTC:20240317T200000
DTSTAMP:20260423T125442
CREATED:20240208T171500Z
LAST-MODIFIED:20240317T032109Z
UID:10000802-1710669600-1710705600@comicquest.org
SUMMARY:Bloodbowl
DESCRIPTION:BLOOD BOWL TOURNAMENT. \nSpring Socal 7’s Rules Sheet \nDate: Sunday\, March 17\, 2023 AT 10 AM – 7 PM \nLocation: Comic Quest at 23811 Bridger Unit 111 Lake \nForest\, CA 92630 \nThe Gimmick: A four round tournament of Blood Bowl \n“Sevens” \nTeam Draft Budget: 600\,000 gold pieces \n  \nTeam Selection: All Blood Bowl 2020 NAF approved \nteams\, including Slann. \n  \nTools of the Trade: Models\, Roster\, Dice\, Rulebook\, \nSevens Pitch and Dugouts. If you have a Sevens pitch\, we would appreciate it if you could bring it. \n  \nRegistration: To register email bloodbowlcouplescup@gmail.com. Registration is $15\, or $10 \nfor pre-registering NAF members. You must include your real name\, your NAF name and \nnumber (if you have one)\, and a phone number (if we need to get ahold of you on the day of the \ntournament). You are considered registered when you have paid\, and not before. Payment \nmay be given to the tournament organizer (Bradley) anytime before and up to March 15 in \nperson\, or by paypal at bloodbowlcouplescup@gmail.com in order to be eligible for the \npre-registration discount. You may also pay in person on the day of the event. Comic Quest \nare excellent hosts\, and all tournament registration fees go to prizes. We will be capping the \ntournament at 20. \n  \nNAF/WCGP: This tournament is NAF approved\, and is a stop on the West Coast Grand Prix \n  \nCreating a Team \n  \nHow: The game of Blood Bowl is played by pros far and wide! Also playing\, are these guys! \nYour roster must contain at least 7 players\, and may contain no more than 11 rostered players. \nYou may have up to 4 players that are not linemen on your roster. A lineman is any player that \nhas the 0-12 or 0-16 number of that player allowed to be taken. Any inducements or rerolls \nmust also be made up from the team budget. Rerolls cost double what they normally would \ncost (if your rerolls are listed for 60k\, they will cost you 120k\, each). Assistant Coaches cost 20 \nand are 0-3\, Cheerleaders cost 20k and are 0-6. Apothecaries may be hired by eligible teams \nfor 80k. \n  \nHow Much: Teams will be given a budget of 600\,000 gold pieces to build their team. \n  \nInducements: The following inducements are available to be rostered: \n\n0-3 Bribes: 100k (50k for teams with the ‘Bribery and Corruption’ special rule).\n0-2 Bloodweiser Kegs – 50k\n0-1 Halfling Master Chef: 300k (100k for ‘Halfling Thimble Cup’ teams).\n0-1 Mortuary Assistant – 100k (only available to ‘Sylvanian Spotlight’ teams).\n0-1 Plague Doctor – 100k (only available to ‘Favoured of Nurgle’ teams).\n\n  \nStar Players: Blood Bowl 7’s are not the level of teams that can attract a Star Player to play for \nthem\, so you may not hire them for this tournament. They would not be caught dead (or \nundead) anywhere near your roster. \n  \nWhen: Final team rosters will be due Friday\, March 16 for pre-registering teams\, and at the \ntournament for all others. Please bring at least 3 copies of your roster to the event. \n  \nTeam Tiers and Skills \nTier 1 Teams: Amazon\, Dark Elf\, Elven Union\, High Elf*\, Skaven\, Underworld Denizens\, Wood \nElves. \nTier 2 Teams: Chaos Renegades\, Human\, Imperial Nobility\, Lizardmen\, Norse\, Old World \nAlliance\, Orc\, Vampire\, Slann** \nTier 3 Teams: Chaos Chosen\, Chaos Dwarf*\, Dwarf\, Khorne\, Snotling \nTier 4 Teams: Black Orc\, Necromantic Horror\, Nurgle\, Shambling Undead\, Tomb Kings* \nTier 5 Teams: Goblins\, Halfling\, Ogre. \nSkills: Reference the team tier list and get the amount of skills listed with the following \nrestrictions: \n  \n\nTier 1 – 0 Skill Point\,\n\nTier 2 – 1 Skill Points\, \nTier 3 – 2 Skill Points\, \nTier 4 – 3 Skill Points\, \nTier 5 – 4 Skill Points \n\nPrimary Skills cost 1 skill point.\nSecondary Skills cost 2 skill points.\nThere is no skill stacking.\nNo skill may be chosen more than twice.\nThese additional Skills are free and do not count towards your team budget.\n\n  \nPLAYING \nThe games will all be played on a standard Blood Bowl 7’s pitch. The 7’s Prayers to Nuffle \nTable will be used (pg. 93 of the Death Zone rulebook)\, the 7’s Kickoff Event Table will be used \n(pg. 94 of the same book)\, and\, because we are celebrating the Spring\, the weather table will be \nthe Spring Weather Table (pg. 76 of the same book). \n  \nSCORING \nThis tournament will use a system of points to determine who will be the winner of the event. \nYou earn points from your games in the following way: \n\nWin a game: 60 points\nDraw a game: 30 point\nLose a game: 10 points\nConcede a game: -10 points\n\nThere are also bonus points available each game for the following: \n\n2 point for each TD scored\n-1 point scored for each TD allowed\n1 point for each CAS to opponent (caused by block\, foul\, TTM\, KTM\, surf\, vomit)\n\n  \nSCHEDULE: \n09:30 – 10:00 Registration and Setup \n10:15 – 11:45 Round 1 \n11:45 – 1:15 Round 2 \n1:15 – 1:45 Lunch \n1:45 – 3:15 Round 3 \n3:15 – 4:45 Round 4 \n5:00 Score Talley and Awards Ceremony \n*Team of Legend **Unofficial\, NAF approved team
URL:https://comicquest.org/event/bloodbowl-4/
LOCATION:Comic Quest\, 23811 Bridger #111 CA 92630\, Lake Forest\, CA\, 92630\, United States
CATEGORIES:Bloodbowl,Event
ATTACH;FMTTYPE=image/png:https://comicquest.org/wp-content/uploads/2023/03/Bloodbowl_logo.png
END:VEVENT
BEGIN:VEVENT
DTSTART;VALUE=DATE:20231216
DTEND;VALUE=DATE:20231217
DTSTAMP:20260423T125442
CREATED:20231107T033040Z
LAST-MODIFIED:20231214T064333Z
UID:10000626-1702684800-1702771199@comicquest.org
SUMMARY:Bloodbowl
DESCRIPTION:BLOOD BOWL TOURNAMENT. \nBloodbowl Tournament \nSaturday Dec 16th.  10am\nHoliday Havoc \n$15 Entry\nRegister email bloodbowlcouplescup@gmail.com \nJoin our Discord server \nhttps://discord.com/invite/jsCQRHaVAr
URL:https://comicquest.org/event/bloodbowl-2/
LOCATION:Comic Quest\, 23811 Bridger #111 CA 92630\, Lake Forest\, CA\, 92630\, United States
CATEGORIES:Bloodbowl,Event
ATTACH;FMTTYPE=image/png:https://comicquest.org/wp-content/uploads/2023/03/Bloodbowl_logo.png
END:VEVENT
BEGIN:VEVENT
DTSTART;TZID=UTC:20231126T110000
DTEND;TZID=UTC:20231126T200000
DTSTAMP:20260423T125442
CREATED:20231119T171615Z
LAST-MODIFIED:20231119T173955Z
UID:10000631-1700996400-1701028800@comicquest.org
SUMMARY:Bloodbowl
DESCRIPTION:BLOOD BOWL TOURNAMENT. \nFREE to Enter. \nJoin our Discord server \nhttps://discord.com/invite/jsCQRHaVAr
URL:https://comicquest.org/event/bloodbowl-3/
LOCATION:Comic Quest\, 23811 Bridger #111 CA 92630\, Lake Forest\, CA\, 92630\, United States
CATEGORIES:Bloodbowl,Event
ATTACH;FMTTYPE=image/png:https://comicquest.org/wp-content/uploads/2023/03/Bloodbowl_logo.png
END:VEVENT
BEGIN:VEVENT
DTSTART;VALUE=DATE:20230923
DTEND;VALUE=DATE:20230924
DTSTAMP:20260423T125442
CREATED:20230614T020307Z
LAST-MODIFIED:20230704T011653Z
UID:10000330-1695427200-1695513599@comicquest.org
SUMMARY:Bloodbowl
DESCRIPTION:BLOOD BOWL TOURNAMENT.
URL:https://comicquest.org/event/bloodbowl-edit-date-before-publish/
LOCATION:Comic Quest\, 23811 Bridger #111 CA 92630\, Lake Forest\, CA\, 92630\, United States
CATEGORIES:Bloodbowl,Event
ATTACH;FMTTYPE=image/png:https://comicquest.org/wp-content/uploads/2023/03/Bloodbowl_logo.png
END:VEVENT
BEGIN:VEVENT
DTSTART;VALUE=DATE:20230311
DTEND;VALUE=DATE:20230312
DTSTAMP:20260423T125442
CREATED:20230303T021155Z
LAST-MODIFIED:20230307T210831Z
UID:10000018-1678492800-1678579199@comicquest.org
SUMMARY:Bloodbowl
DESCRIPTION:BLOOD BOWL TOURNAMENT. Saturday March 11.  10am. \nDetails \n$5 Entry Fee (Prizes) \nRound: 2 Hour 15 Minutes\n3 rounds total \nSwiss Pairing \n  \n*All levels of play welcome. \nAttention all Blood Bowl enthusiasts! Spring into action and register now for the ultimate blood bowl tournament happening on March 11th at Comic Quest! \nGet ready to bounce into action and make your way to the top of the leaderboard. \nDon’t let this opportunity spring away from you! \nRegister now and join us for a day of thrilling competition\, exciting matchups\, and of course\, plenty of springtime puns! Who knows\, you might even make some new friends along the way. \nBut that’s not all! Registration will be $5 at the door or ahead of time (contact @ViviFresh on Discord)\, the winner will have their entry fee refunded and we will be doing a raffle for store credit. So what are you waiting for? Register now for the “Spring”-time Tournament at Comic Quest and let the games begin!
URL:https://comicquest.org/event/bloodbowl/
LOCATION:Comic Quest\, 23811 Bridger #111 CA 92630\, Lake Forest\, CA\, 92630\, United States
CATEGORIES:Bloodbowl,Event
ATTACH;FMTTYPE=image/png:https://comicquest.org/wp-content/uploads/2023/03/Bloodbowl_logo.png
END:VEVENT
END:VCALENDAR