BEGIN:VCALENDAR
VERSION:2.0
PRODID:-//Comic Quest - ECPv6.15.20//NONSGML v1.0//EN
CALSCALE:GREGORIAN
METHOD:PUBLISH
X-WR-CALNAME:Comic Quest
X-ORIGINAL-URL:https://comicquest.org
X-WR-CALDESC:Events for Comic Quest
REFRESH-INTERVAL;VALUE=DURATION:PT1H
X-Robots-Tag:noindex
X-PUBLISHED-TTL:PT1H
BEGIN:VTIMEZONE
TZID:Asia/Shanghai
BEGIN:STANDARD
TZOFFSETFROM:+0800
TZOFFSETTO:+0800
TZNAME:CST
DTSTART:20220101T000000
END:STANDARD
END:VTIMEZONE
BEGIN:VTIMEZONE
TZID:UTC
BEGIN:STANDARD
TZOFFSETFROM:+0000
TZOFFSETTO:+0000
TZNAME:UTC
DTSTART:20220101T000000
END:STANDARD
END:VTIMEZONE
BEGIN:VEVENT
DTSTART;TZID=Asia/Shanghai:20230513T120000
DTEND;TZID=Asia/Shanghai:20230513T235900
DTSTAMP:20260423T170300
CREATED:20230514T185215Z
LAST-MODIFIED:20230514T185215Z
UID:10000217-1683979200-1684022340@comicquest.org
SUMMARY:Book Club -- Teenage Mutant Ninja Turtles - Last Ronin
DESCRIPTION:  \nEach month we select a notable graphic novel for the book club.  It is 25% Off to everyone all month.  At the end of the month we meet to discuss. \nThis month’s selection is \nTeenage Mutant Ninja Turtles: The Last Ronin \nby Kevin Eastman (Author)\, Peter Laird (Author)\, Tom Waltz (Author) \nA New York Times Bestseller! Who is the Last Ronin? In a future\, battle-ravaged New York City\, a lone surviving Turtle embarks on a seemingly hopeless mission seeking justice for the family he lost. From legendary TMNT co-creators Kevin Eastman and Peter Laird\, get ready for the final story of the Teenage Mutant Ninja Turtles three decades in the making! \nWhat terrible events destroyed his family and left New York a crumbling\, post-apocalyptic nightmare? All will be revealed in this climactic Turtle tale that sees longtime friends becoming enemies and new allies emerging in the most unexpected places. Can the surviving Turtle triumph? \nPast Book Clubs: \n6/4/11 Morning Glories \n7/9/11 Irredeemable \n8/6/11 Chew \n9/10/11 Batwoman: Elegy \n10/8/11 Fables 1 Legends in Exile \n11/5/11 Marvel Zombies 1 \n12/3/11 Green Hornet: Sins of our Fathers 1 \n2/11/12 Sandman 1: Preludes & Nocturnes \n3/3/12  The New Teen Titans: Games \n4/12/12 Return of the Dapper Men \n6/2/12  Asterios Polyp \n8/22/12  Watchmen \n10/12/12 Locke & Key 1 \n12/12/12 Christmas Carole \n2/13/13 Invincible \n4/13/13 Building Stories \n6/18/13 Prophet \n8/3/13 Young Inhumans \n9/16/13 Midnight Nation \n10/13/13 Hawkeye: 1 My life as a weapon \n12/28/13  Blacksad \n2/12/14 Porcelain \n3/29/14 Saga 1 \n5/17/14 Fatale 1 \n6/25/14 The Property \n8/2/14 Good Dog \n9/3/14 Trillium \n10/1/14 Rat Queens \n11/8/14 WinterWorld \n12/5/14 Black Widow 1 \n1/10/15 Astro City: Life in the Big City \n2/28/15 Beautiful Darkness \n3/28/15 Seconds \n4/25/15 The Wake \n5/24/15 Here \n6/27/15 This One Summer \n7/25/15 Gigantic Beard That Was Evil \n9/5/15 The Wicked and the Divine \n10/3/15 Black Science: 1 \n11/7/15 Wytches \n12/5/15 Nimona \n1/30/16 Jessica Jones: AKA Alias \n3/5/16 Supermutant Magic Academy \n4/19/16 Private Eye \n5/14/16 Southern Bastard \n6/11/16 Lady Killer \n7/16/16 Long Walk to Valhalla \n8/13/16 Monstress \n9/10/16 Paper Girls \n10/15/16 Panther \n11/12/16 Afterlife with Archie \n12/10/16 Ruins \n1/7/17 Klaus \n2/17/17 Mooncop \n4/1/17 Sheriff of Babylon \n5/13/17 Vision: 1 \n6/27/17 Eartha \n7/29/17 Lennon \n8/26/17 Wonder Woman: A True Amazon \n9/30/17  Patience \n10/28/17 Halloween Tales \n11/25/17 My Favorite Things is Monsters \n1/6/18 Daytripper \n2/10/18 Snotgirl: Green Hair Don’t Care \n3/17/18 Black Panther \n4/7/18 Niourk \n5/12/18 Killing & Dying \n6/9/18 Infinity Gauntlet \n7/14/18 Black Hammer \n8/11/18 Boundless \n9/8/18 I Kill Giants \n10/20/18 Rome West \n12/1/18 Dark Nights Metal \n12/29/18 Skyward \n2/2/19 Roughneck \n3/2/19 Upgrade Soul \n4/6/19 WaterSnakes \n5/11/19 The Lie and How We Told It \n6/8/19 Mister Miracle \n7/13/19 Immortal Hulk \n8/10/19 Come Again \n9/14/19 My Heroes Have Always Been Junkies \n10/5/19 Batman White Knight \n11/2/19 Bone Parish 1 & 2 \n12/14/19 Exit Stage Left \n1/4/20 Heroes in Crisis \n2/1/20 Sabrina \n3/7/20 Green Lantern: Intergalactic Lawman \n4/18/20 Star Trek Next Generation Mirror Broken \n6/13/20 DIE \n7/11/20 Something is Killing the Children \n8/8/20 Once & Future \n9/12/20 Freedom Fighters \n10/10/20 Are you Listening? \n11/14/20 Uzamaki \n12/12/20 Cats of the Louvre \n1/4/21 4 Kids Walk Into a Bank \n2/13/21 The House \n3/13/21 Dracula MotherF**cker \n4/10/21 Superman’s Pal Jimmy Olsen \n5/8/21 Dead Day \n6/18/21 Rogue Planet \n7/10/21 We Only Find Them When They Are Dead \n8/7/21 Eight-Lane Runaways \n9/11/21 Resistance \n10/9/21 Pulp \n11/13/21 Basketful of Heads \n12/11/21 Department of Truth \n1/8/22 Last Stand of the Tin Can Sailors \n2/19/22 Stray Dogs \n3/12/22 Graveneye \n4/9/22 Oksi \n5/14/22 Carthago \n6/11/22 I want to eat your pancreas \n7/9/22 Bubble \n8/13/22 Ballad of Sophie \n9/10/22 In. \n10/8/22 Destroy All Monsters \n11/12/22 You Died an Anthology of the Afterlife \n12/10/22 Monsters \n1/14/23 Goblin Girl \n2/11/23 Fantastic Four Full Circle \n3/11/23  Ducks \n4/8/23 Radiant Black \n5/13/23 Nice House on the Lake \n 
URL:https://comicquest.org/event/book-club-teenage-mutant-ninja-turtles-last-ronin/
LOCATION:Comic Quest\, 23811 Bridger #111 CA 92630\, Lake Forest\, CA\, 92630\, United States
CATEGORIES:Book Club,Event
ATTACH;FMTTYPE=image/jpeg:https://comicquest.org/wp-content/uploads/2023/03/bookclub.jpg
END:VEVENT
BEGIN:VEVENT
DTSTART;TZID=Asia/Shanghai:20230513T120000
DTEND;TZID=Asia/Shanghai:20230513T235900
DTSTAMP:20260423T170300
CREATED:20230303T031539Z
LAST-MODIFIED:20230415T215853Z
UID:10000037-1683979200-1684022340@comicquest.org
SUMMARY:Book Club
DESCRIPTION:  \nBook Club: \nEach month we select a notable graphic novel for the book club.  It is 25% Off to everyone all month.  At the end of the month we meet to discuss. \nThis month’s selection is \nNice House on the Lake \nJames Tynion IV (Author)\, Alvaro Martinez Bueno (Illustrator)\nEisner Award Winner 2022\, Best New Series \nEveryone who was invited to the house knows Walter—well\, they know him a little\, anyway. Some met him in childhood; some met him months ago. And Walter’s always been a little…off. \nBut after the hardest year of their lives\, nobody was going to turn down Walter’s invitation to an astonishingly beautiful house in the woods\, overlooking an enormous sylvan lake. It’s beautiful\, it’s opulent\, it’s private—so a week of putting up with Walter’s weird little schemes and nicknames in exchange for the vacation of a lifetime? Why not? \nAll of them were at that moment in their lives when they could feel themselves pulling away from their other friends; wouldn’t a chance to reconnect be…nice? In The Nice House on the Lake\, the overriding anxieties of the 21st century get a terrifying new face—and it might just be the face of the person you once trusted most. \nPast Book Clubs: \n6/4/11 Morning Glories \n7/9/11 Irredeemable \n8/6/11 Chew \n9/10/11 Batwoman: Elegy \n10/8/11 Fables 1 Legends in Exile \n11/5/11 Marvel Zombies 1 \n12/3/11 Green Hornet: Sins of our Fathers 1 \n2/11/12 Sandman 1: Preludes & Nocturnes \n3/3/12  The New Teen Titans: Games \n4/12/12 Return of the Dapper Men \n6/2/12  Asterios Polyp \n8/22/12  Watchmen \n10/12/12 Locke & Key 1 \n12/12/12 Christmas Carole \n2/13/13 Invincible \n4/13/13 Building Stories \n6/18/13 Prophet \n8/3/13 Young Inhumans \n9/16/13 Midnight Nation \n10/13/13 Hawkeye: 1 My life as a weapon \n12/28/13  Blacksad \n2/12/14 Porcelain \n3/29/14 Saga 1 \n5/17/14 Fatale 1 \n6/25/14 The Property \n8/2/14 Good Dog \n9/3/14 Trillium \n10/1/14 Rat Queens \n11/8/14 WinterWorld \n12/5/14 Black Widow 1 \n1/10/15 Astro City: Life in the Big City \n2/28/15 Beautiful Darkness \n3/28/15 Seconds \n4/25/15 The Wake \n5/24/15 Here \n6/27/15 This One Summer \n7/25/15 Gigantic Beard That Was Evil \n9/5/15 The Wicked and the Divine \n10/3/15 Black Science: 1 \n11/7/15 Wytches \n12/5/15 Nimona \n1/30/16 Jessica Jones: AKA Alias \n3/5/16 Supermutant Magic Academy \n4/19/16 Private Eye \n5/14/16 Southern Bastard \n6/11/16 Lady Killer \n7/16/16 Long Walk to Valhalla \n8/13/16 Monstress \n9/10/16 Paper Girls \n10/15/16 Panther \n11/12/16 Afterlife with Archie \n12/10/16 Ruins \n1/7/17 Klaus \n2/17/17 Mooncop \n4/1/17 Sheriff of Babylon \n5/13/17 Vision: 1 \n6/27/17 Eartha \n7/29/17 Lennon \n8/26/17 Wonder Woman: A True Amazon \n9/30/17  Patience \n10/28/17 Halloween Tales \n11/25/17 My Favorite Things is Monsters \n1/6/18 Daytripper \n2/10/18 Snotgirl: Green Hair Don’t Care \n3/17/18 Black Panther \n4/7/18 Niourk \n5/12/18 Killing & Dying \n6/9/18 Infinity Gauntlet \n7/14/18 Black Hammer \n8/11/18 Boundless \n9/8/18 I Kill Giants \n10/20/18 Rome West \n12/1/18 Dark Nights Metal \n12/29/18 Skyward \n2/2/19 Roughneck \n3/2/19 Upgrade Soul \n4/6/19 WaterSnakes \n5/11/19 The Lie and How We Told It \n6/8/19 Mister Miracle \n7/13/19 Immortal Hulk \n8/10/19 Come Again \n9/14/19 My Heroes Have Always Been Junkies \n10/5/19 Batman White Knight \n11/2/19 Bone Parish 1 & 2 \n12/14/19 Exit Stage Left \n1/4/20 Heroes in Crisis \n2/1/20 Sabrina \n3/7/20 Green Lantern: Intergalactic Lawman \n4/18/20 Star Trek Next Generation Mirror Broken \n6/13/20 DIE \n7/11/20 Something is Killing the Children \n8/8/20 Once & Future \n9/12/20 Freedom Fighters \n10/10/20 Are you Listening? \n11/14/20 Uzamaki \n12/12/20 Cats of the Louvre \n1/4/21 4 Kids Walk Into a Bank \n2/13/21 The House \n3/13/21 Dracula MotherF**cker \n4/10/21 Superman’s Pal Jimmy Olsen \n5/8/21 Dead Day \n6/18/21 Rogue Planet \n7/10/21 We Only Find Them When They Are Dead \n8/7/21 Eight-Lane Runaways \n9/11/21 Resistance \n10/9/21 Pulp \n11/13/21 Basketful of Heads \n12/11/21 Department of Truth \n1/8/22 Last Stand of the Tin Can Sailors \n2/19/22 Stray Dogs \n3/12/22 Graveneye \n4/9/22 Oksi \n5/14/22 Carthago \n6/11/22 I want to eat your pancreas \n7/9/22 Bubble \n8/13/22 Ballad of Sophie \n9/10/22 In. \n10/8/22 Destroy All Monsters \n11/12/22 You Died an Anthology of the Afterlife \n12/10/22 Monsters \n1/14/23 Goblin Girl \n2/11/23 Fantastic Four Full Circle \n3/11/23  Ducks \n4/8/23 Radiant Black \n 
URL:https://comicquest.org/event/book-club-3/
LOCATION:Comic Quest\, 23811 Bridger #111 CA 92630\, Lake Forest\, CA\, 92630\, United States
CATEGORIES:Book Club,Event
ATTACH;FMTTYPE=image/jpeg:https://comicquest.org/wp-content/uploads/2023/03/bookclub.jpg
END:VEVENT
BEGIN:VEVENT
DTSTART;TZID=Asia/Shanghai:20230408T120000
DTEND;TZID=Asia/Shanghai:20230408T235900
DTSTAMP:20260423T170300
CREATED:20230303T023836Z
LAST-MODIFIED:20230415T215927Z
UID:10000027-1680955200-1680998340@comicquest.org
SUMMARY:Book Club
DESCRIPTION:Book Club: \n \n  \nEach month we select a notable graphic novel for the book club.  It is 25% Off to everyone all month.  At the end of the month we meet to discuss. \nThis month’s selection is \nRadiant Black \nKyle Higgins\, Cherish Chen\, Marcelo Costa\, David Lafuente \nVisionary writer Kyle Higgins (Mighty Morphin Power Rangers\, Ultraman) and artist Marcelo Costa reinvent super heroes for a new generation! Nathan Burnett has just turned thirty and things aren’t great he’s working (and failing) at two jobs\, his credit card debt is piling up and his only move… is moving back home with his parents. \nBut when Nathan discovers the ethereal\, cosmic RADIANT\, he’s given the power to radically change his fortunes…unless the Cosmic Beings who created them succeed in taking them back by any means necessary. Oh\, and did we mention there’s a RED RADIANT who wants Nathan dead? The next must-read comic book series STARTS HERE.
URL:https://comicquest.org/event/book-club-2/
LOCATION:Comic Quest\, 23811 Bridger #111 CA 92630\, Lake Forest\, CA\, 92630\, United States
CATEGORIES:Book Club,Event
ATTACH;FMTTYPE=image/jpeg:https://comicquest.org/wp-content/uploads/2023/03/bookclub.jpg
END:VEVENT
BEGIN:VEVENT
DTSTART;TZID=Asia/Shanghai:20230311T120000
DTEND;TZID=Asia/Shanghai:20230311T235900
DTSTAMP:20260423T170300
CREATED:20230303T023747Z
LAST-MODIFIED:20230415T220003Z
UID:10000026-1678536000-1678579140@comicquest.org
SUMMARY:Book Club
DESCRIPTION:Book Club Saturday (March 11) Noon.\n\n\n \n\n\nEach month we select a notable graphic novel for the book club. It is 25% Off to everyone all month. At the end of the month we meet to discuss. \n\n\nThis month’s selection is\n\n\n \n\n\nDucks\n\n\nKate Beaton\n\n\n \n\n\nBefore there was Kate Beaton\, New York Times bestselling cartoonist of Hark! A Vagrant\, there was Katie Beaton of the Cape Breton Beaton\, specifically Mabou\, a tight-knit seaside community where the lobster is as abundant as beaches\, fiddles\, and Gaelic folk songs. With the singular goal of paying off her student loans\, Katie heads out west to take advantage of Alberta’s oil rush―part of the long tradition of East Coasters who seek gainful employment elsewhere when they can’t find it in the homeland they love so much. Katie encounters the harsh reality of life in the oil sands\, where trauma is an everyday occurrence yet is never discussed.
URL:https://comicquest.org/event/book-club/
LOCATION:Comic Quest\, 23811 Bridger #111 CA 92630\, Lake Forest\, CA\, 92630\, United States
CATEGORIES:Book Club,Event
ATTACH;FMTTYPE=image/jpeg:https://comicquest.org/wp-content/uploads/2023/03/bookclub.jpg
END:VEVENT
BEGIN:VEVENT
DTSTART;VALUE=DATE:20230211
DTEND;VALUE=DATE:20230212
DTSTAMP:20260423T170300
CREATED:20230215T021904Z
LAST-MODIFIED:20230415T220041Z
UID:10000014-1676073600-1676159999@comicquest.org
SUMMARY:Book Club
DESCRIPTION:Comic Quest Comic Book Club! \nTalk about the comics you love with people who also love comics! \n25% off the monthly selection! \nSaturday 2/11/23 \nNoon \nThis month: \n \nFantastic Four Full Circle\nBy Alex Ross \nIt’s a rainy night in Manhattan and not a creature is stirring except for . . . Ben Grimm. When an intruder suddenly appears inside the Baxter Building\, the Fantastic Four—Mister Fantastic (Reed Richards)\, the Invisible Woman (Susan Storm Richards)\, the Human Torch (Johnny Storm)\, and the Thing (Ben Grimm)—find themselves surrounded by a swarm of invading parasites. These carrion creatures composed of Negative Energy come to Earth using a human host as a delivery system. But for what purpose? And who is behind this untimely invasion? \nThe Fantastic Four have no choice but to journey into the Negative Zone\, an alien universe composed entirely of anti-matter\, risking not just their own lives but the fate of the cosmos! \nIt’ll be like Oprah’s Book Club but with less Oprah Winfrey and more comics!* \n*Comic Quest cannot guarantee that Oprah Winfrey will not show up. \nPast Books: \n6/4/11 Morning Glories \n7/9/11 Irredeemable \n8/6/11 Chew \n9/10/11 Batwoman: Elegy \n10/8/11 Fables 1 Legends in Exile \n11/5/11 Marvel Zombies 1 \n12/3/11 Green Hornet: Sins of our Fathers 1 \n2/11/12 Sandman 1: Preludes & Nocturnes \n3/3/12 The New Teen Titans: Games \n4/12/12 Return of the Dapper Men \n6/2/12 Asterios Polyp \n8/22/12 Watchmen \n10/12/12 Locke & Key 1 \n12/12/12 Christmas Carole \n2/13/13 Invincible \n4/13/13 Building Stories \n6/18/13 Prophet \n8/3/13 Young Inhumans \n9/16/13 Midnight Nation \n10/13/13 Hawkeye: 1 My life as a weapon \n12/28/13 Blacksad \n2/12/14 Porcelain \n3/29/14 Saga 1 \n5/17/14 Fatale 1 \n6/25/14 The Property \n8/2/14 Good Dog \n9/3/14 Trillium \n10/1/14 Rat Queens \n11/8/14 WinterWorld \n12/5/14 Black Widow 1 \n1/10/15 Astro City: Life in the Big City \n2/28/15 Beautiful Darkness \n3/28/15 Seconds \n4/25/15 The Wake \n5/24/15 Here \n6/27/15 This One Summer \n7/25/15 Gigantic Beard That Was Evil \n9/5/15 The Wicked and the Divine \n10/3/15 Black Science: 1 \n11/7/15 Wytches \n12/5/15 Nimona \n1/30/16 Jessica Jones: AKA Alias \n3/5/16 Supermutant Magic Academy \n4/19/16 Private Eye \n5/14/16 Southern Bastard \n6/11/16 Lady Killer \n7/16/16 Long Walk to Valhalla \n8/13/16 Monstress \n9/10/16 Paper Girls \n10/15/16 Panther \n11/12/16 Afterlife with Archie \n12/10/16 Ruins \n1/7/17 Klaus \n2/17/17 Mooncop \n4/1/17 Sheriff of Babylon \n5/13/17 Vision: 1 \n6/27/17 Eartha \n7/29/17 Lennon \n8/26/17 Wonder Woman: A True Amazon \n9/30/17 Patience \n10/28/17 Halloween Tales \n11/25/17 My Favorite Things is Monsters \n1/6/18 Daytripper \n2/10/18 Snotgirl: Green Hair Don’t Care \n3/17/18 Black Panther \n4/7/18 Niourk \n5/12/18 Killing & Dying \n6/9/18 Infinity Gauntlet \n7/14/18 Black Hammer \n8/11/18 Boundless \n9/8/18 I Kill Giants \n10/20/18 Rome West \n12/1/18 Dark Nights Metal \n12/29/18 Skyward \n2/2/19 Roughneck \n3/2/19 Upgrade Soul \n4/6/19 WaterSnakes \n5/11/19 The Lie and How We Told It \n6/8/19 Mister Miracle \n7/13/19 Immortal Hulk \n8/10/19 Come Again \n9/14/19 My Heroes Have Always Been Junkies \n10/5/19 Batman White Knight \n11/2/19 Bone Parish 1 & 2 \n12/14/19 Exit Stage Left \n1/4/20 Heroes in Crisis \n2/1/20 Sabrina \n3/7/20 Green Lantern: Intergalactic Lawman \n4/18/20 Star Trek Next Generation Mirror Broken \n6/13/20 DIE \n7/11/20 Something is Killing the Children \n8/8/20 Once & Future \n9/12/20 Freedom Fighters \n10/10/20 Are you Listening? \n11/14/20 Uzamaki \n12/12/20 Cats of the Louvre \n1/4/21 4 Kids Walk Into a Bank \n2/13/21 The House \n3/13/21 Dracula MotherF**cker \n4/10/21 Superman’s Pal Jimmy Olsen \n5/8/21 Dead Day \n6/18/21 Rogue Planet \n7/10/21 We Only Find Them When They Are Dead \n8/7/21 Eight-Lane Runaways \n9/11/21 Resistance \n10/9/21 Pulp \n11/13/21 Basketful of Heads \n12/11/21 Department of Truth \n1/8/22 Last Stand of the Tin Can Sailors \n2/19/22 Stray Dogs \n3/12/22 Graveneye \n4/9/22 Oksi \n5/14 Carthago \n6/11/22 I want to eat your pancreas \n7/9/22 Bubble \n8/13/22 Ballad of Sophie \n9-10 In. \n10/8/22 Destroy All Monsters \n11/12/22 You Died an Anthology of the Afterlife \n12/10/22 Monsters \n1/14/23 Goblin Girl \n2/11/23 Fantastic Four Ful Circle
URL:https://comicquest.org/event/tactical-thursday-edit-date-before-publish/
LOCATION:Comic Quest\, 23811 Bridger #111 CA 92630\, Lake Forest\, CA\, 92630\, United States
CATEGORIES:Book Club,Event
END:VEVENT
END:VCALENDAR