BEGIN:VCALENDAR
VERSION:2.0
PRODID:-//Comic Quest - ECPv6.15.20//NONSGML v1.0//EN
CALSCALE:GREGORIAN
METHOD:PUBLISH
X-WR-CALNAME:Comic Quest
X-ORIGINAL-URL:https://comicquest.org
X-WR-CALDESC:Events for Comic Quest
REFRESH-INTERVAL;VALUE=DURATION:PT1H
X-Robots-Tag:noindex
X-PUBLISHED-TTL:PT1H
BEGIN:VTIMEZONE
TZID:America/Los_Angeles
BEGIN:DAYLIGHT
TZOFFSETFROM:-0800
TZOFFSETTO:-0700
TZNAME:PDT
DTSTART:20230312T100000
END:DAYLIGHT
BEGIN:STANDARD
TZOFFSETFROM:-0700
TZOFFSETTO:-0800
TZNAME:PST
DTSTART:20231105T090000
END:STANDARD
BEGIN:DAYLIGHT
TZOFFSETFROM:-0800
TZOFFSETTO:-0700
TZNAME:PDT
DTSTART:20240310T100000
END:DAYLIGHT
BEGIN:STANDARD
TZOFFSETFROM:-0700
TZOFFSETTO:-0800
TZNAME:PST
DTSTART:20241103T090000
END:STANDARD
BEGIN:DAYLIGHT
TZOFFSETFROM:-0800
TZOFFSETTO:-0700
TZNAME:PDT
DTSTART:20250309T100000
END:DAYLIGHT
BEGIN:STANDARD
TZOFFSETFROM:-0700
TZOFFSETTO:-0800
TZNAME:PST
DTSTART:20251102T090000
END:STANDARD
END:VTIMEZONE
BEGIN:VTIMEZONE
TZID:UTC
BEGIN:STANDARD
TZOFFSETFROM:+0000
TZOFFSETTO:+0000
TZNAME:UTC
DTSTART:20230101T000000
END:STANDARD
END:VTIMEZONE
BEGIN:VEVENT
DTSTART;TZID=America/Los_Angeles:20240403T190000
DTEND;TZID=America/Los_Angeles:20240403T220000
DTSTAMP:20260425T085612
CREATED:20230930T022935Z
LAST-MODIFIED:20230930T022935Z
UID:10000468-1712170800-1712181600@comicquest.org
SUMMARY:Dungeons & Dragons
DESCRIPTION:When do we play? \n\nWednesdays\, 7-9pm\nat Comic Quest (http://comicquest.org/)\n\nHow does this work? \n  \nHello! We play D&D 5e on Wednesday nights\, 7-9 pm\, in-person at Comic Quest in Lake Forest. If you are looking to join one of CQ’s Wednesday night D&D 5e groups\, here’s what you need to know. \nFirst\, join our Discord Server\, which is the primary way that we organize and discuss regularly scheduled D&D groups and events.  ** Once there\, please look at Start Here for general information. Link to our Discord server: https://discord.gg/vj2xcfD \nNo experience with D&D is required\, but different tables and DMs may have preferences. If you are interested in learning how to play there are “learn to play” sessions approximately once a month. \nOur games are frequently full.  Whether there is room at any given table changes week to week\, so you have to post a message on the channel of any table you think you might be interested in to see if there are currently openings\, as priority goes to regularly attending players. Some tables have PINNED information about their campaigns (click on the push-pin looking icon on the top ribbon of each campaign).  Also\, we often run a 1-shot table which is open to new players. \nFacebook Group \nWhat do I need to play? \nPlease check in with the DM of the table/game you are joining for these details\, but some helpful items: \n\nA character sheet (either your own or the pre-generated)\nA writing utensil (Pencil\, Pen)\nAppropriate dice for your character\nAppropriate source material for your character (basic book\, Players Handbook\, ability cards\, whatever floats your boat)\nA miniature (optional\, but helpful)\n\nWe also have a Discord server: https://discord.gg/vj2xcfD](https://discord.gg/vj2xcfD?fbclid=IwAR3KLXW32PY__0KkFJjOwkw0HKpYYQMb-Cgr5HUSvDvXbl-SMZOmS0uaKXo)
URL:https://comicquest.org/event/dungeons-dragons-57/
LOCATION:Comic Quest\, 23811 Bridger #111 CA 92630\, Lake Forest\, CA\, 92630\, United States
CATEGORIES:D&D,Event,Tournament
ATTACH;FMTTYPE=image/jpeg:https://comicquest.org/wp-content/uploads/2023/03/dungeons_and_dragons.jpg
END:VEVENT
BEGIN:VEVENT
DTSTART;VALUE=DATE:20240407
DTEND;VALUE=DATE:20240408
DTSTAMP:20260425T085612
CREATED:20240314T032944Z
LAST-MODIFIED:20240402T044814Z
UID:10000854-1712448000-1712534399@comicquest.org
SUMMARY:D&D Learn to Play (and Other RPGS)
DESCRIPTION:Next RPG Learn to Play on a variety of different RPG games\nD&D plus others! Come see what other games you can roleplay besides D&D.\n*Limited space available. Sign-ups recommended. Sign up via the Comic Quest D&D Discord.\nhttps://discord.gg/v6WEAwtu5J\n\n\nSESSIONS (each game may have more than 1 session):\n12pm to 2pm\n3pm to 5pm\n5pm to 7pm\n\nREAD about each game system and SIGNUP FOR GAMES in the specific signup channel for each game and time session you want.\nLIST of RPG GAMES:\nD&D 5e\nVampire: the Masquerade
URL:https://comicquest.org/event/dd-learn-to-play-and-other-rpgs/
LOCATION:Comic Quest\, 23811 Bridger #111 CA 92630\, Lake Forest\, CA\, 92630\, United States
CATEGORIES:D&D,Event
ATTACH;FMTTYPE=image/jpeg:https://comicquest.org/wp-content/uploads/2023/03/DND_LEARN_TO_PLAY.jpg
END:VEVENT
BEGIN:VEVENT
DTSTART;TZID=America/Los_Angeles:20240410T190000
DTEND;TZID=America/Los_Angeles:20240410T220000
DTSTAMP:20260425T085612
CREATED:20230930T023013Z
LAST-MODIFIED:20230930T023013Z
UID:10000469-1712775600-1712786400@comicquest.org
SUMMARY:Dungeons & Dragons
DESCRIPTION:When do we play? \n\nWednesdays\, 7-9pm\nat Comic Quest (http://comicquest.org/)\n\nHow does this work? \n  \nHello! We play D&D 5e on Wednesday nights\, 7-9 pm\, in-person at Comic Quest in Lake Forest. If you are looking to join one of CQ’s Wednesday night D&D 5e groups\, here’s what you need to know. \nFirst\, join our Discord Server\, which is the primary way that we organize and discuss regularly scheduled D&D groups and events.  ** Once there\, please look at Start Here for general information. Link to our Discord server: https://discord.gg/vj2xcfD \nNo experience with D&D is required\, but different tables and DMs may have preferences. If you are interested in learning how to play there are “learn to play” sessions approximately once a month. \nOur games are frequently full.  Whether there is room at any given table changes week to week\, so you have to post a message on the channel of any table you think you might be interested in to see if there are currently openings\, as priority goes to regularly attending players. Some tables have PINNED information about their campaigns (click on the push-pin looking icon on the top ribbon of each campaign).  Also\, we often run a 1-shot table which is open to new players. \nFacebook Group \nWhat do I need to play? \nPlease check in with the DM of the table/game you are joining for these details\, but some helpful items: \n\nA character sheet (either your own or the pre-generated)\nA writing utensil (Pencil\, Pen)\nAppropriate dice for your character\nAppropriate source material for your character (basic book\, Players Handbook\, ability cards\, whatever floats your boat)\nA miniature (optional\, but helpful)\n\nWe also have a Discord server: https://discord.gg/vj2xcfD](https://discord.gg/vj2xcfD?fbclid=IwAR3KLXW32PY__0KkFJjOwkw0HKpYYQMb-Cgr5HUSvDvXbl-SMZOmS0uaKXo)
URL:https://comicquest.org/event/dungeons-dragons-58/
LOCATION:Comic Quest\, 23811 Bridger #111 CA 92630\, Lake Forest\, CA\, 92630\, United States
CATEGORIES:D&D,Event,Tournament
ATTACH;FMTTYPE=image/jpeg:https://comicquest.org/wp-content/uploads/2023/03/dungeons_and_dragons.jpg
END:VEVENT
BEGIN:VEVENT
DTSTART;TZID=America/Los_Angeles:20240417T190000
DTEND;TZID=America/Los_Angeles:20240417T220000
DTSTAMP:20260425T085612
CREATED:20230930T023047Z
LAST-MODIFIED:20230930T023047Z
UID:10000470-1713380400-1713391200@comicquest.org
SUMMARY:Dungeons & Dragons
DESCRIPTION:When do we play? \n\nWednesdays\, 7-9pm\nat Comic Quest (http://comicquest.org/)\n\nHow does this work? \n  \nHello! We play D&D 5e on Wednesday nights\, 7-9 pm\, in-person at Comic Quest in Lake Forest. If you are looking to join one of CQ’s Wednesday night D&D 5e groups\, here’s what you need to know. \nFirst\, join our Discord Server\, which is the primary way that we organize and discuss regularly scheduled D&D groups and events.  ** Once there\, please look at Start Here for general information. Link to our Discord server: https://discord.gg/vj2xcfD \nNo experience with D&D is required\, but different tables and DMs may have preferences. If you are interested in learning how to play there are “learn to play” sessions approximately once a month. \nOur games are frequently full.  Whether there is room at any given table changes week to week\, so you have to post a message on the channel of any table you think you might be interested in to see if there are currently openings\, as priority goes to regularly attending players. Some tables have PINNED information about their campaigns (click on the push-pin looking icon on the top ribbon of each campaign).  Also\, we often run a 1-shot table which is open to new players. \nFacebook Group \nWhat do I need to play? \nPlease check in with the DM of the table/game you are joining for these details\, but some helpful items: \n\nA character sheet (either your own or the pre-generated)\nA writing utensil (Pencil\, Pen)\nAppropriate dice for your character\nAppropriate source material for your character (basic book\, Players Handbook\, ability cards\, whatever floats your boat)\nA miniature (optional\, but helpful)\n\nWe also have a Discord server: https://discord.gg/vj2xcfD](https://discord.gg/vj2xcfD?fbclid=IwAR3KLXW32PY__0KkFJjOwkw0HKpYYQMb-Cgr5HUSvDvXbl-SMZOmS0uaKXo)
URL:https://comicquest.org/event/dungeons-dragons-59/
LOCATION:Comic Quest\, 23811 Bridger #111 CA 92630\, Lake Forest\, CA\, 92630\, United States
CATEGORIES:D&D,Event,Tournament
ATTACH;FMTTYPE=image/jpeg:https://comicquest.org/wp-content/uploads/2023/03/dungeons_and_dragons.jpg
END:VEVENT
BEGIN:VEVENT
DTSTART;TZID=America/Los_Angeles:20240424T190000
DTEND;TZID=America/Los_Angeles:20240424T220000
DTSTAMP:20260425T085612
CREATED:20230930T023124Z
LAST-MODIFIED:20230930T023124Z
UID:10000471-1713985200-1713996000@comicquest.org
SUMMARY:Dungeons & Dragons
DESCRIPTION:When do we play? \n\nWednesdays\, 7-9pm\nat Comic Quest (http://comicquest.org/)\n\nHow does this work? \n  \nHello! We play D&D 5e on Wednesday nights\, 7-9 pm\, in-person at Comic Quest in Lake Forest. If you are looking to join one of CQ’s Wednesday night D&D 5e groups\, here’s what you need to know. \nFirst\, join our Discord Server\, which is the primary way that we organize and discuss regularly scheduled D&D groups and events.  ** Once there\, please look at Start Here for general information. Link to our Discord server: https://discord.gg/vj2xcfD \nNo experience with D&D is required\, but different tables and DMs may have preferences. If you are interested in learning how to play there are “learn to play” sessions approximately once a month. \nOur games are frequently full.  Whether there is room at any given table changes week to week\, so you have to post a message on the channel of any table you think you might be interested in to see if there are currently openings\, as priority goes to regularly attending players. Some tables have PINNED information about their campaigns (click on the push-pin looking icon on the top ribbon of each campaign).  Also\, we often run a 1-shot table which is open to new players. \nFacebook Group \nWhat do I need to play? \nPlease check in with the DM of the table/game you are joining for these details\, but some helpful items: \n\nA character sheet (either your own or the pre-generated)\nA writing utensil (Pencil\, Pen)\nAppropriate dice for your character\nAppropriate source material for your character (basic book\, Players Handbook\, ability cards\, whatever floats your boat)\nA miniature (optional\, but helpful)\n\nWe also have a Discord server: https://discord.gg/vj2xcfD](https://discord.gg/vj2xcfD?fbclid=IwAR3KLXW32PY__0KkFJjOwkw0HKpYYQMb-Cgr5HUSvDvXbl-SMZOmS0uaKXo)
URL:https://comicquest.org/event/dungeons-dragons-60/
LOCATION:Comic Quest\, 23811 Bridger #111 CA 92630\, Lake Forest\, CA\, 92630\, United States
CATEGORIES:D&D,Event,Tournament
ATTACH;FMTTYPE=image/jpeg:https://comicquest.org/wp-content/uploads/2023/03/dungeons_and_dragons.jpg
END:VEVENT
END:VCALENDAR