BEGIN:VCALENDAR
VERSION:2.0
PRODID:-//Comic Quest - ECPv6.15.20//NONSGML v1.0//EN
CALSCALE:GREGORIAN
METHOD:PUBLISH
X-WR-CALNAME:Comic Quest
X-ORIGINAL-URL:https://comicquest.org
X-WR-CALDESC:Events for Comic Quest
REFRESH-INTERVAL;VALUE=DURATION:PT1H
X-Robots-Tag:noindex
X-PUBLISHED-TTL:PT1H
BEGIN:VTIMEZONE
TZID:America/Los_Angeles
BEGIN:DAYLIGHT
TZOFFSETFROM:-0800
TZOFFSETTO:-0700
TZNAME:PDT
DTSTART:20240310T100000
END:DAYLIGHT
BEGIN:STANDARD
TZOFFSETFROM:-0700
TZOFFSETTO:-0800
TZNAME:PST
DTSTART:20241103T090000
END:STANDARD
BEGIN:DAYLIGHT
TZOFFSETFROM:-0800
TZOFFSETTO:-0700
TZNAME:PDT
DTSTART:20250309T100000
END:DAYLIGHT
BEGIN:STANDARD
TZOFFSETFROM:-0700
TZOFFSETTO:-0800
TZNAME:PST
DTSTART:20251102T090000
END:STANDARD
BEGIN:DAYLIGHT
TZOFFSETFROM:-0800
TZOFFSETTO:-0700
TZNAME:PDT
DTSTART:20260308T100000
END:DAYLIGHT
BEGIN:STANDARD
TZOFFSETFROM:-0700
TZOFFSETTO:-0800
TZNAME:PST
DTSTART:20261101T090000
END:STANDARD
END:VTIMEZONE
BEGIN:VEVENT
DTSTART;TZID=America/Los_Angeles:20250702T190000
DTEND;TZID=America/Los_Angeles:20250702T220000
DTSTAMP:20260423T232508
CREATED:20240831T024623Z
LAST-MODIFIED:20240831T024623Z
UID:10001177-1751482800-1751493600@comicquest.org
SUMMARY:Dungeons & Dragons
DESCRIPTION:When do we play? \n\nWednesdays\, 7-9pm\nat Comic Quest (http://comicquest.org/)\n\nHow does this work? \n  \nHello! We play D&D 5e on Wednesday nights\, 7-9 pm\, in-person at Comic Quest in Lake Forest. If you are looking to join one of CQ’s Wednesday night D&D 5e groups\, here’s what you need to know. \nFirst\, join our Discord Server\, which is the primary way that we organize and discuss regularly scheduled D&D groups and events.  ** Once there\, please look at Start Here for general information. Link to our Discord server: https://discord.gg/vj2xcfD \nNo experience with D&D is required\, but different tables and DMs may have preferences. If you are interested in learning how to play there are “learn to play” sessions approximately once a month. \nOur games are frequently full.  Whether there is room at any given table changes week to week\, so you have to post a message on the channel of any table you think you might be interested in to see if there are currently openings\, as priority goes to regularly attending players. Some tables have PINNED information about their campaigns (click on the push-pin looking icon on the top ribbon of each campaign).  Also\, we often run a 1-shot table which is open to new players. \nFacebook Group \nWhat do I need to play? \nPlease check in with the DM of the table/game you are joining for these details\, but some helpful items: \n\nA character sheet (either your own or the pre-generated)\nA writing utensil (Pencil\, Pen)\nAppropriate dice for your character\nAppropriate source material for your character (basic book\, Players Handbook\, ability cards\, whatever floats your boat)\nA miniature (optional\, but helpful)\n\nWe also have a Discord server: https://discord.gg/vj2xcfD](https://discord.gg/vj2xcfD?fbclid=IwAR3KLXW32PY__0KkFJjOwkw0HKpYYQMb-Cgr5HUSvDvXbl-SMZOmS0uaKXo)
URL:https://comicquest.org/event/dungeons-dragons-121/
LOCATION:Comic Quest\, 23811 Bridger #111 CA 92630\, Lake Forest\, CA\, 92630\, United States
CATEGORIES:D&D,Event,Tournament
ATTACH;FMTTYPE=image/jpeg:https://comicquest.org/wp-content/uploads/2023/03/dungeons_and_dragons.jpg
END:VEVENT
BEGIN:VEVENT
DTSTART;VALUE=DATE:20250708
DTEND;VALUE=DATE:20250709
DTSTAMP:20260423T232508
CREATED:20250129T071906Z
LAST-MODIFIED:20250129T072114Z
UID:10001464-1751932800-1752019199@comicquest.org
SUMMARY:Dungeons & Dragons - Dragon Delves Adventure Anthology
DESCRIPTION:Release \nThe Dragon Delves Adventure Anthology Releases July 8\, 2025\n\n\nAs one of the most recognizable creature types in Dungeons & Dragons\, dragons have long played a role in both game and lore. Coming in July 2025\, the Dragon Delves adventure anthology will bring all 10 classic dragon types to light within the same adventure module for the first time ever. Not only will this anthology include three campaign options\, but short adventures for each dragon type\, and not all of them are combat-based. Designed to be easy to pick up and play\, these adventures are short enough that they can be easily dropped into a pre-existing campaign\, or simply stand on their own as one-shot games. \nFollowing the examples set in the 2024 Dungeon Master’s Guide\, they’re built for minimal prep and ease of play\, allowing DMs more time to get into the game with their players. The design of these adventures serves as an example of just how easy preparations are\, especially in 5e’s materials going forward\, in the hopes of encouraging more players to take up the DM’s mantle and run adventures. \n  \n\nAnother exciting aspect of Dragon Delves will be the unique art created for each and every chapter of the book. Each adventure has a different artist doing the illustrations for each adventure\, showcasing a variety of different perceptions and styles that make the book itself a dream to pour over. Along with these exciting new art styles\, the book will also feature an art and history section exploring the last 50 years of dragons in D&D. In follow up to Fizban’s Treasury of Dragons (2021)\, Dragon Delves will embrace the history and legacy of dragons within the game\, allowing past and future to seamlessly merge as the game itself continues its mission to look foward without forgetting what came before.\n\nSee how to join future D&D games at the Facebook page:\nhttps://www.facebook.com/groups/1396517620636670
URL:https://comicquest.org/event/dungeons-dragons-dragon-delves-adventure-anthology/
LOCATION:Comic Quest\, 23811 Bridger #111 CA 92630\, Lake Forest\, CA\, 92630\, United States
CATEGORIES:D&D,Event
ATTACH;FMTTYPE=image/jpeg:https://comicquest.org/wp-content/uploads/2023/03/dungeons_and_dragons.jpg
END:VEVENT
BEGIN:VEVENT
DTSTART;TZID=America/Los_Angeles:20250709T190000
DTEND;TZID=America/Los_Angeles:20250709T220000
DTSTAMP:20260423T232508
CREATED:20240831T024647Z
LAST-MODIFIED:20240831T024647Z
UID:10001178-1752087600-1752098400@comicquest.org
SUMMARY:Dungeons & Dragons
DESCRIPTION:When do we play? \n\nWednesdays\, 7-9pm\nat Comic Quest (http://comicquest.org/)\n\nHow does this work? \n  \nHello! We play D&D 5e on Wednesday nights\, 7-9 pm\, in-person at Comic Quest in Lake Forest. If you are looking to join one of CQ’s Wednesday night D&D 5e groups\, here’s what you need to know. \nFirst\, join our Discord Server\, which is the primary way that we organize and discuss regularly scheduled D&D groups and events.  ** Once there\, please look at Start Here for general information. Link to our Discord server: https://discord.gg/vj2xcfD \nNo experience with D&D is required\, but different tables and DMs may have preferences. If you are interested in learning how to play there are “learn to play” sessions approximately once a month. \nOur games are frequently full.  Whether there is room at any given table changes week to week\, so you have to post a message on the channel of any table you think you might be interested in to see if there are currently openings\, as priority goes to regularly attending players. Some tables have PINNED information about their campaigns (click on the push-pin looking icon on the top ribbon of each campaign).  Also\, we often run a 1-shot table which is open to new players. \nFacebook Group \nWhat do I need to play? \nPlease check in with the DM of the table/game you are joining for these details\, but some helpful items: \n\nA character sheet (either your own or the pre-generated)\nA writing utensil (Pencil\, Pen)\nAppropriate dice for your character\nAppropriate source material for your character (basic book\, Players Handbook\, ability cards\, whatever floats your boat)\nA miniature (optional\, but helpful)\n\nWe also have a Discord server: https://discord.gg/vj2xcfD](https://discord.gg/vj2xcfD?fbclid=IwAR3KLXW32PY__0KkFJjOwkw0HKpYYQMb-Cgr5HUSvDvXbl-SMZOmS0uaKXo)
URL:https://comicquest.org/event/dungeons-dragons-122/
LOCATION:Comic Quest\, 23811 Bridger #111 CA 92630\, Lake Forest\, CA\, 92630\, United States
CATEGORIES:D&D,Event,Tournament
ATTACH;FMTTYPE=image/jpeg:https://comicquest.org/wp-content/uploads/2023/03/dungeons_and_dragons.jpg
END:VEVENT
BEGIN:VEVENT
DTSTART;TZID=America/Los_Angeles:20250716T190000
DTEND;TZID=America/Los_Angeles:20250716T220000
DTSTAMP:20260423T232508
CREATED:20240831T024715Z
LAST-MODIFIED:20240831T024715Z
UID:10001179-1752692400-1752703200@comicquest.org
SUMMARY:Dungeons & Dragons
DESCRIPTION:When do we play? \n\nWednesdays\, 7-9pm\nat Comic Quest (http://comicquest.org/)\n\nHow does this work? \n  \nHello! We play D&D 5e on Wednesday nights\, 7-9 pm\, in-person at Comic Quest in Lake Forest. If you are looking to join one of CQ’s Wednesday night D&D 5e groups\, here’s what you need to know. \nFirst\, join our Discord Server\, which is the primary way that we organize and discuss regularly scheduled D&D groups and events.  ** Once there\, please look at Start Here for general information. Link to our Discord server: https://discord.gg/vj2xcfD \nNo experience with D&D is required\, but different tables and DMs may have preferences. If you are interested in learning how to play there are “learn to play” sessions approximately once a month. \nOur games are frequently full.  Whether there is room at any given table changes week to week\, so you have to post a message on the channel of any table you think you might be interested in to see if there are currently openings\, as priority goes to regularly attending players. Some tables have PINNED information about their campaigns (click on the push-pin looking icon on the top ribbon of each campaign).  Also\, we often run a 1-shot table which is open to new players. \nFacebook Group \nWhat do I need to play? \nPlease check in with the DM of the table/game you are joining for these details\, but some helpful items: \n\nA character sheet (either your own or the pre-generated)\nA writing utensil (Pencil\, Pen)\nAppropriate dice for your character\nAppropriate source material for your character (basic book\, Players Handbook\, ability cards\, whatever floats your boat)\nA miniature (optional\, but helpful)\n\nWe also have a Discord server: https://discord.gg/vj2xcfD](https://discord.gg/vj2xcfD?fbclid=IwAR3KLXW32PY__0KkFJjOwkw0HKpYYQMb-Cgr5HUSvDvXbl-SMZOmS0uaKXo)
URL:https://comicquest.org/event/dungeons-dragons-123/
LOCATION:Comic Quest\, 23811 Bridger #111 CA 92630\, Lake Forest\, CA\, 92630\, United States
CATEGORIES:D&D,Event,Tournament
ATTACH;FMTTYPE=image/jpeg:https://comicquest.org/wp-content/uploads/2023/03/dungeons_and_dragons.jpg
END:VEVENT
BEGIN:VEVENT
DTSTART;TZID=America/Los_Angeles:20250723T190000
DTEND;TZID=America/Los_Angeles:20250723T220000
DTSTAMP:20260423T232508
CREATED:20240831T024740Z
LAST-MODIFIED:20240831T024740Z
UID:10001180-1753297200-1753308000@comicquest.org
SUMMARY:Dungeons & Dragons
DESCRIPTION:When do we play? \n\nWednesdays\, 7-9pm\nat Comic Quest (http://comicquest.org/)\n\nHow does this work? \n  \nHello! We play D&D 5e on Wednesday nights\, 7-9 pm\, in-person at Comic Quest in Lake Forest. If you are looking to join one of CQ’s Wednesday night D&D 5e groups\, here’s what you need to know. \nFirst\, join our Discord Server\, which is the primary way that we organize and discuss regularly scheduled D&D groups and events.  ** Once there\, please look at Start Here for general information. Link to our Discord server: https://discord.gg/vj2xcfD \nNo experience with D&D is required\, but different tables and DMs may have preferences. If you are interested in learning how to play there are “learn to play” sessions approximately once a month. \nOur games are frequently full.  Whether there is room at any given table changes week to week\, so you have to post a message on the channel of any table you think you might be interested in to see if there are currently openings\, as priority goes to regularly attending players. Some tables have PINNED information about their campaigns (click on the push-pin looking icon on the top ribbon of each campaign).  Also\, we often run a 1-shot table which is open to new players. \nFacebook Group \nWhat do I need to play? \nPlease check in with the DM of the table/game you are joining for these details\, but some helpful items: \n\nA character sheet (either your own or the pre-generated)\nA writing utensil (Pencil\, Pen)\nAppropriate dice for your character\nAppropriate source material for your character (basic book\, Players Handbook\, ability cards\, whatever floats your boat)\nA miniature (optional\, but helpful)\n\nWe also have a Discord server: https://discord.gg/vj2xcfD](https://discord.gg/vj2xcfD?fbclid=IwAR3KLXW32PY__0KkFJjOwkw0HKpYYQMb-Cgr5HUSvDvXbl-SMZOmS0uaKXo)
URL:https://comicquest.org/event/dungeons-dragons-124/
LOCATION:Comic Quest\, 23811 Bridger #111 CA 92630\, Lake Forest\, CA\, 92630\, United States
CATEGORIES:D&D,Event,Tournament
ATTACH;FMTTYPE=image/jpeg:https://comicquest.org/wp-content/uploads/2023/03/dungeons_and_dragons.jpg
END:VEVENT
BEGIN:VEVENT
DTSTART;TZID=America/Los_Angeles:20250730T190000
DTEND;TZID=America/Los_Angeles:20250730T220000
DTSTAMP:20260423T232508
CREATED:20240831T024807Z
LAST-MODIFIED:20240831T024807Z
UID:10001181-1753902000-1753912800@comicquest.org
SUMMARY:Dungeons & Dragons
DESCRIPTION:When do we play? \n\nWednesdays\, 7-9pm\nat Comic Quest (http://comicquest.org/)\n\nHow does this work? \n  \nHello! We play D&D 5e on Wednesday nights\, 7-9 pm\, in-person at Comic Quest in Lake Forest. If you are looking to join one of CQ’s Wednesday night D&D 5e groups\, here’s what you need to know. \nFirst\, join our Discord Server\, which is the primary way that we organize and discuss regularly scheduled D&D groups and events.  ** Once there\, please look at Start Here for general information. Link to our Discord server: https://discord.gg/vj2xcfD \nNo experience with D&D is required\, but different tables and DMs may have preferences. If you are interested in learning how to play there are “learn to play” sessions approximately once a month. \nOur games are frequently full.  Whether there is room at any given table changes week to week\, so you have to post a message on the channel of any table you think you might be interested in to see if there are currently openings\, as priority goes to regularly attending players. Some tables have PINNED information about their campaigns (click on the push-pin looking icon on the top ribbon of each campaign).  Also\, we often run a 1-shot table which is open to new players. \nFacebook Group \nWhat do I need to play? \nPlease check in with the DM of the table/game you are joining for these details\, but some helpful items: \n\nA character sheet (either your own or the pre-generated)\nA writing utensil (Pencil\, Pen)\nAppropriate dice for your character\nAppropriate source material for your character (basic book\, Players Handbook\, ability cards\, whatever floats your boat)\nA miniature (optional\, but helpful)\n\nWe also have a Discord server: https://discord.gg/vj2xcfD](https://discord.gg/vj2xcfD?fbclid=IwAR3KLXW32PY__0KkFJjOwkw0HKpYYQMb-Cgr5HUSvDvXbl-SMZOmS0uaKXo)
URL:https://comicquest.org/event/dungeons-dragons-125/
LOCATION:Comic Quest\, 23811 Bridger #111 CA 92630\, Lake Forest\, CA\, 92630\, United States
CATEGORIES:D&D,Event,Tournament
ATTACH;FMTTYPE=image/jpeg:https://comicquest.org/wp-content/uploads/2023/03/dungeons_and_dragons.jpg
END:VEVENT
END:VCALENDAR