BEGIN:VCALENDAR
VERSION:2.0
PRODID:-//Comic Quest - ECPv6.15.20//NONSGML v1.0//EN
CALSCALE:GREGORIAN
METHOD:PUBLISH
X-ORIGINAL-URL:https://comicquest.org
X-WR-CALDESC:Events for Comic Quest
REFRESH-INTERVAL;VALUE=DURATION:PT1H
X-Robots-Tag:noindex
X-PUBLISHED-TTL:PT1H
BEGIN:VTIMEZONE
TZID:America/Los_Angeles
BEGIN:DAYLIGHT
TZOFFSETFROM:-0800
TZOFFSETTO:-0700
TZNAME:PDT
DTSTART:20240310T100000
END:DAYLIGHT
BEGIN:STANDARD
TZOFFSETFROM:-0700
TZOFFSETTO:-0800
TZNAME:PST
DTSTART:20241103T090000
END:STANDARD
BEGIN:DAYLIGHT
TZOFFSETFROM:-0800
TZOFFSETTO:-0700
TZNAME:PDT
DTSTART:20250309T100000
END:DAYLIGHT
BEGIN:STANDARD
TZOFFSETFROM:-0700
TZOFFSETTO:-0800
TZNAME:PST
DTSTART:20251102T090000
END:STANDARD
BEGIN:DAYLIGHT
TZOFFSETFROM:-0800
TZOFFSETTO:-0700
TZNAME:PDT
DTSTART:20260308T100000
END:DAYLIGHT
BEGIN:STANDARD
TZOFFSETFROM:-0700
TZOFFSETTO:-0800
TZNAME:PST
DTSTART:20261101T090000
END:STANDARD
END:VTIMEZONE
BEGIN:VEVENT
DTSTART;TZID=America/Los_Angeles:20251105T190000
DTEND;TZID=America/Los_Angeles:20251105T220000
DTSTAMP:20260423T170037
CREATED:20241119T014450Z
LAST-MODIFIED:20241119T014450Z
UID:10001362-1762369200-1762380000@comicquest.org
SUMMARY:Dungeons & Dragons
DESCRIPTION:When do we play? \n\nWednesdays\, 7-9pm\nat Comic Quest (http://comicquest.org/)\n\nHow does this work? \n  \nHello! We play D&D 5e on Wednesday nights\, 7-9 pm\, in-person at Comic Quest in Lake Forest. If you are looking to join one of CQ’s Wednesday night D&D 5e groups\, here’s what you need to know. \nFirst\, join our Discord Server\, which is the primary way that we organize and discuss regularly scheduled D&D groups and events.  ** Once there\, please look at Start Here for general information. Link to our Discord server: https://discord.gg/vj2xcfD \nNo experience with D&D is required\, but different tables and DMs may have preferences. If you are interested in learning how to play there are “learn to play” sessions approximately once a month. \nOur games are frequently full.  Whether there is room at any given table changes week to week\, so you have to post a message on the channel of any table you think you might be interested in to see if there are currently openings\, as priority goes to regularly attending players. Some tables have PINNED information about their campaigns (click on the push-pin looking icon on the top ribbon of each campaign).  Also\, we often run a 1-shot table which is open to new players. \nFacebook Group \nWhat do I need to play? \nPlease check in with the DM of the table/game you are joining for these details\, but some helpful items: \n\nA character sheet (either your own or the pre-generated)\nA writing utensil (Pencil\, Pen)\nAppropriate dice for your character\nAppropriate source material for your character (basic book\, Players Handbook\, ability cards\, whatever floats your boat)\nA miniature (optional\, but helpful)\n\nWe also have a Discord server: https://discord.gg/vj2xcfD](https://discord.gg/vj2xcfD?fbclid=IwAR3KLXW32PY__0KkFJjOwkw0HKpYYQMb-Cgr5HUSvDvXbl-SMZOmS0uaKXo)
URL:https://comicquest.org/event/dungeons-dragons-140/
LOCATION:Comic Quest\, 23811 Bridger #111 CA 92630\, Lake Forest\, CA\, 92630\, United States
CATEGORIES:D&D,Event,Tournament
ATTACH;FMTTYPE=image/jpeg:https://comicquest.org/wp-content/uploads/2023/03/dungeons_and_dragons.jpg
END:VEVENT
BEGIN:VEVENT
DTSTART;TZID=America/Los_Angeles:20251112T190000
DTEND;TZID=America/Los_Angeles:20251112T220000
DTSTAMP:20260423T170037
CREATED:20241119T014514Z
LAST-MODIFIED:20241119T014514Z
UID:10001363-1762974000-1762984800@comicquest.org
SUMMARY:Dungeons & Dragons
DESCRIPTION:When do we play? \n\nWednesdays\, 7-9pm\nat Comic Quest (http://comicquest.org/)\n\nHow does this work? \n  \nHello! We play D&D 5e on Wednesday nights\, 7-9 pm\, in-person at Comic Quest in Lake Forest. If you are looking to join one of CQ’s Wednesday night D&D 5e groups\, here’s what you need to know. \nFirst\, join our Discord Server\, which is the primary way that we organize and discuss regularly scheduled D&D groups and events.  ** Once there\, please look at Start Here for general information. Link to our Discord server: https://discord.gg/vj2xcfD \nNo experience with D&D is required\, but different tables and DMs may have preferences. If you are interested in learning how to play there are “learn to play” sessions approximately once a month. \nOur games are frequently full.  Whether there is room at any given table changes week to week\, so you have to post a message on the channel of any table you think you might be interested in to see if there are currently openings\, as priority goes to regularly attending players. Some tables have PINNED information about their campaigns (click on the push-pin looking icon on the top ribbon of each campaign).  Also\, we often run a 1-shot table which is open to new players. \nFacebook Group \nWhat do I need to play? \nPlease check in with the DM of the table/game you are joining for these details\, but some helpful items: \n\nA character sheet (either your own or the pre-generated)\nA writing utensil (Pencil\, Pen)\nAppropriate dice for your character\nAppropriate source material for your character (basic book\, Players Handbook\, ability cards\, whatever floats your boat)\nA miniature (optional\, but helpful)\n\nWe also have a Discord server: https://discord.gg/vj2xcfD](https://discord.gg/vj2xcfD?fbclid=IwAR3KLXW32PY__0KkFJjOwkw0HKpYYQMb-Cgr5HUSvDvXbl-SMZOmS0uaKXo)
URL:https://comicquest.org/event/dungeons-dragons-141/
LOCATION:Comic Quest\, 23811 Bridger #111 CA 92630\, Lake Forest\, CA\, 92630\, United States
CATEGORIES:D&D,Event,Tournament
ATTACH;FMTTYPE=image/jpeg:https://comicquest.org/wp-content/uploads/2023/03/dungeons_and_dragons.jpg
END:VEVENT
BEGIN:VEVENT
DTSTART;TZID=America/Los_Angeles:20251119T190000
DTEND;TZID=America/Los_Angeles:20251119T220000
DTSTAMP:20260423T170037
CREATED:20241119T014552Z
LAST-MODIFIED:20241119T014552Z
UID:10001364-1763578800-1763589600@comicquest.org
SUMMARY:Dungeons & Dragons
DESCRIPTION:When do we play? \n\nWednesdays\, 7-9pm\nat Comic Quest (http://comicquest.org/)\n\nHow does this work? \n  \nHello! We play D&D 5e on Wednesday nights\, 7-9 pm\, in-person at Comic Quest in Lake Forest. If you are looking to join one of CQ’s Wednesday night D&D 5e groups\, here’s what you need to know. \nFirst\, join our Discord Server\, which is the primary way that we organize and discuss regularly scheduled D&D groups and events.  ** Once there\, please look at Start Here for general information. Link to our Discord server: https://discord.gg/vj2xcfD \nNo experience with D&D is required\, but different tables and DMs may have preferences. If you are interested in learning how to play there are “learn to play” sessions approximately once a month. \nOur games are frequently full.  Whether there is room at any given table changes week to week\, so you have to post a message on the channel of any table you think you might be interested in to see if there are currently openings\, as priority goes to regularly attending players. Some tables have PINNED information about their campaigns (click on the push-pin looking icon on the top ribbon of each campaign).  Also\, we often run a 1-shot table which is open to new players. \nFacebook Group \nWhat do I need to play? \nPlease check in with the DM of the table/game you are joining for these details\, but some helpful items: \n\nA character sheet (either your own or the pre-generated)\nA writing utensil (Pencil\, Pen)\nAppropriate dice for your character\nAppropriate source material for your character (basic book\, Players Handbook\, ability cards\, whatever floats your boat)\nA miniature (optional\, but helpful)\n\nWe also have a Discord server: https://discord.gg/vj2xcfD](https://discord.gg/vj2xcfD?fbclid=IwAR3KLXW32PY__0KkFJjOwkw0HKpYYQMb-Cgr5HUSvDvXbl-SMZOmS0uaKXo)
URL:https://comicquest.org/event/dungeons-dragons-142/
LOCATION:Comic Quest\, 23811 Bridger #111 CA 92630\, Lake Forest\, CA\, 92630\, United States
CATEGORIES:D&D,Event,Tournament
ATTACH;FMTTYPE=image/jpeg:https://comicquest.org/wp-content/uploads/2023/03/dungeons_and_dragons.jpg
END:VEVENT
BEGIN:VEVENT
DTSTART;VALUE=DATE:20251125
DTEND;VALUE=DATE:20251126
DTSTAMP:20260423T170037
CREATED:20250129T072320Z
LAST-MODIFIED:20250902T233520Z
UID:10001465-1764028800-1764115199@comicquest.org
SUMMARY:Dungeons & Dragons - Eberron: Forge of the Artificer- New Launch
DESCRIPTION:Dungeons & Dragons – Eberron: Forge of the Artificer\nLaunching at LGS on Tuesday November 25\, 2025\n\n \n                                                                        Alternate Art Cover\n\n  \nEberron: Forge of the Artificer Releases TUESDAY NOVEMBER 25\, 2025 at FLGS\n(Mass market December 9\, 2025)\n\n\nFor a lot of players\, the artificer class is critical to the game\, so when it seemed to have been forgotten with the 2024 Player’s Handbook\, fan disappointment was hard to overlook. Little did players know\, there were big plans for the artificer to get a major glow up\, just like the other classes\, and it would all be revealed in an upcoming Eberron-focused companion book to 2019’s Eberron: Rising from the Last War\, titled Eberron: Forge of the Artificer. \nJames Wyatt returns to consult with Keith baker\, revisiting the classic species of Eberron\, along with a new approach to the Dragon Marks\, which will now be treated as feats so they more easily fit into the new backgrounds and feat system introduced in the 2024 rules. In addition to these updates\, there will be information on creating bastions set in Eberron\, along with three full chapters tying directly to the 2024 DMG to help DMs build campaigns in the Eberron world-setting. \nAirships will also be expanded upon\, including information on campaigns set outside Eberron. \nServing as a companion to Eberron: Rising from the Last War\, Forge of the Artificer is not meant as a replacement\, and will focus on new concepts that weren’t explored previously. This will mark the first time Wizards has returned to a world and expanded upon it in 5e\, which will hopefully set a precedent for other worlds and settings seeing the same treatment moving forward. \n\n\nForge and use wondrous creations as you adventure through the magic-fueled city of Eberron. Eberron: Forge of the Artificer introduces the revised Artificer class\, now updated for the new Core Rules and with five subclasses—including the new Cartographer subclass—for you to explore. Build your Artificer\, choose from over 40 imaginative player options\, and fuel your adventures with an inspiring fusion of technology and magic. \nContents: \n\nBecome a master of magical inventions with the revised Artificer class\, redesigned for the new Core Rules.\nChoose from 4 revised Artificer subclasses and 1 new subclass: the Cartographer.\nExplore 5 revised species\, 18 backgrounds\, and 28 feats\, including the redesigned Dragonmarks\, which are no longer species-locked.\nExperiment with new spells\, bastions\, and magic items.\nUse 3 different campaign models with guidance for building fantasy noir\, political thriller\, and pulp adventure campaigns in the world of Eberron.\nCreate imaginative encounters with over 20 new monsters\, each inspired by a campaign model.\n\n\nSee how to join future D&D games at the CQ D&D Discord. We play weekly on Wednesdays:\nhttps://discord.gg/gp6ynfnHkC\n\n**Note: Original launch date was in August\, but moved to November due to product errors and production delays.
URL:https://comicquest.org/event/dungeons-dragons-eberron-forge-of-the-artificer/
LOCATION:Comic Quest\, 23811 Bridger #111 CA 92630\, Lake Forest\, CA\, 92630\, United States
CATEGORIES:D&D,Event
ATTACH;FMTTYPE=image/jpeg:https://comicquest.org/wp-content/uploads/2023/03/dungeons_and_dragons.jpg
END:VEVENT
BEGIN:VEVENT
DTSTART;TZID=America/Los_Angeles:20251126T190000
DTEND;TZID=America/Los_Angeles:20251126T220000
DTSTAMP:20260423T170037
CREATED:20241119T014625Z
LAST-MODIFIED:20241119T014625Z
UID:10001365-1764183600-1764194400@comicquest.org
SUMMARY:Dungeons & Dragons
DESCRIPTION:When do we play? \n\nWednesdays\, 7-9pm\nat Comic Quest (http://comicquest.org/)\n\nHow does this work? \n  \nHello! We play D&D 5e on Wednesday nights\, 7-9 pm\, in-person at Comic Quest in Lake Forest. If you are looking to join one of CQ’s Wednesday night D&D 5e groups\, here’s what you need to know. \nFirst\, join our Discord Server\, which is the primary way that we organize and discuss regularly scheduled D&D groups and events.  ** Once there\, please look at Start Here for general information. Link to our Discord server: https://discord.gg/vj2xcfD \nNo experience with D&D is required\, but different tables and DMs may have preferences. If you are interested in learning how to play there are “learn to play” sessions approximately once a month. \nOur games are frequently full.  Whether there is room at any given table changes week to week\, so you have to post a message on the channel of any table you think you might be interested in to see if there are currently openings\, as priority goes to regularly attending players. Some tables have PINNED information about their campaigns (click on the push-pin looking icon on the top ribbon of each campaign).  Also\, we often run a 1-shot table which is open to new players. \nFacebook Group \nWhat do I need to play? \nPlease check in with the DM of the table/game you are joining for these details\, but some helpful items: \n\nA character sheet (either your own or the pre-generated)\nA writing utensil (Pencil\, Pen)\nAppropriate dice for your character\nAppropriate source material for your character (basic book\, Players Handbook\, ability cards\, whatever floats your boat)\nA miniature (optional\, but helpful)\n\nWe also have a Discord server: https://discord.gg/vj2xcfD](https://discord.gg/vj2xcfD?fbclid=IwAR3KLXW32PY__0KkFJjOwkw0HKpYYQMb-Cgr5HUSvDvXbl-SMZOmS0uaKXo)
URL:https://comicquest.org/event/dungeons-dragons-143/
LOCATION:Comic Quest\, 23811 Bridger #111 CA 92630\, Lake Forest\, CA\, 92630\, United States
CATEGORIES:D&D,Event,Tournament
ATTACH;FMTTYPE=image/jpeg:https://comicquest.org/wp-content/uploads/2023/03/dungeons_and_dragons.jpg
END:VEVENT
END:VCALENDAR