BEGIN:VCALENDAR
VERSION:2.0
PRODID:-//Comic Quest - ECPv6.15.20//NONSGML v1.0//EN
CALSCALE:GREGORIAN
METHOD:PUBLISH
X-WR-CALNAME:Comic Quest
X-ORIGINAL-URL:https://comicquest.org
X-WR-CALDESC:Events for Comic Quest
REFRESH-INTERVAL;VALUE=DURATION:PT1H
X-Robots-Tag:noindex
X-PUBLISHED-TTL:PT1H
BEGIN:VTIMEZONE
TZID:America/Los_Angeles
BEGIN:DAYLIGHT
TZOFFSETFROM:-0800
TZOFFSETTO:-0700
TZNAME:PDT
DTSTART:20240310T100000
END:DAYLIGHT
BEGIN:STANDARD
TZOFFSETFROM:-0700
TZOFFSETTO:-0800
TZNAME:PST
DTSTART:20241103T090000
END:STANDARD
BEGIN:DAYLIGHT
TZOFFSETFROM:-0800
TZOFFSETTO:-0700
TZNAME:PDT
DTSTART:20250309T100000
END:DAYLIGHT
BEGIN:STANDARD
TZOFFSETFROM:-0700
TZOFFSETTO:-0800
TZNAME:PST
DTSTART:20251102T090000
END:STANDARD
BEGIN:DAYLIGHT
TZOFFSETFROM:-0800
TZOFFSETTO:-0700
TZNAME:PDT
DTSTART:20260308T100000
END:DAYLIGHT
BEGIN:STANDARD
TZOFFSETFROM:-0700
TZOFFSETTO:-0800
TZNAME:PST
DTSTART:20261101T090000
END:STANDARD
END:VTIMEZONE
BEGIN:VEVENT
DTSTART;VALUE=DATE:20250624
DTEND;VALUE=DATE:20250625
DTSTAMP:20260424T013706
CREATED:20250225T045450Z
LAST-MODIFIED:20250622T001015Z
UID:10001486-1750723200-1750809599@comicquest.org
SUMMARY:Dungeons & Dragons - New Release - Dragon Delves
DESCRIPTION:Dungeons & Dragons – New Release – Dragon Delves\nLaunching at LGS on Tuesday June 24\, 2025\n\n \nAlt Art BACK CoverAlternate Art Cover \n\n\n  \nRelease Dragon Delves\n\nWizards of the Coast unveiled the covers for Dungeons & Dragons: Dragon Delves\, which will launch at LGS stores on June 24\, 2025. Dragon Delves is an anthology book that offers fans 10 short adventures that revolve around the 10 chromatic and metallic dragons within the game’s lore. These adventures are designed for pick up and play game sessions\, making prep easy for DMs. The adventures are for characters level 1 to level 12. \nFeaturing artwork rendered in ten unique styles\, these ready-to-play adventures include streamlined prep and quick start guides for Dungeon Masters. Delve into mysterious dungeons\, explore captivating fantasy locations\, and come face to face with all the chromatic and metallic dragons\, each with unique temperaments\, alignments\, and magic. \nContents: \n\n10 dragon-themed adventures for characters level 1 through 12\, each set in a different fantasy location with a distinctive dragon lair\nUnique art styles for each adventure from 10 illustrators and 7 cartographers\n3 of the 10 adventures can be run with a solo player\nGallery of dragon art from D&D’s history that precedes each of the 10 adventures\nMaps for each adventure\, from a stolen pirate base to city ruins\nQuick start guides for each adventure that summarize key plot points\, key NPCs\, and other essential details for Dungeon Masters to get set up quickly\nGuidance on how to run each adventure individually or as part of a campaign\nStickers and 22 pre-populated maps for use on D&D Beyond with Maps\, the 2D VTT\n\n\nSee how to join future D&D games on the CQ D&D Discord. We play on Wednesdays. \nhttps://discord.gg/gp6ynfnHkC
URL:https://comicquest.org/event/dungeons-dragons-new-release-dragon-delves/
LOCATION:Comic Quest\, 23811 Bridger #111 CA 92630\, Lake Forest\, CA\, 92630\, United States
CATEGORIES:D&D,Event,Tournament
ATTACH;FMTTYPE=image/jpeg:https://comicquest.org/wp-content/uploads/2023/03/dungeons_and_dragons.jpg
END:VEVENT
END:VCALENDAR