BEGIN:VCALENDAR
VERSION:2.0
PRODID:-//Comic Quest - ECPv6.15.20//NONSGML v1.0//EN
CALSCALE:GREGORIAN
METHOD:PUBLISH
X-ORIGINAL-URL:https://comicquest.org
X-WR-CALDESC:Events for Comic Quest
REFRESH-INTERVAL;VALUE=DURATION:PT1H
X-Robots-Tag:noindex
X-PUBLISHED-TTL:PT1H
BEGIN:VTIMEZONE
TZID:America/Los_Angeles
BEGIN:DAYLIGHT
TZOFFSETFROM:-0800
TZOFFSETTO:-0700
TZNAME:PDT
DTSTART:20240310T100000
END:DAYLIGHT
BEGIN:STANDARD
TZOFFSETFROM:-0700
TZOFFSETTO:-0800
TZNAME:PST
DTSTART:20241103T090000
END:STANDARD
BEGIN:DAYLIGHT
TZOFFSETFROM:-0800
TZOFFSETTO:-0700
TZNAME:PDT
DTSTART:20250309T100000
END:DAYLIGHT
BEGIN:STANDARD
TZOFFSETFROM:-0700
TZOFFSETTO:-0800
TZNAME:PST
DTSTART:20251102T090000
END:STANDARD
BEGIN:DAYLIGHT
TZOFFSETFROM:-0800
TZOFFSETTO:-0700
TZNAME:PDT
DTSTART:20260308T100000
END:DAYLIGHT
BEGIN:STANDARD
TZOFFSETFROM:-0700
TZOFFSETTO:-0800
TZNAME:PST
DTSTART:20261101T090000
END:STANDARD
END:VTIMEZONE
BEGIN:VEVENT
DTSTART;VALUE=DATE:20251028
DTEND;VALUE=DATE:20251029
DTSTAMP:20260423T194156
CREATED:20250129T072757Z
LAST-MODIFIED:20250621T221854Z
UID:10001467-1761609600-1761695999@comicquest.org
SUMMARY:Dungeons & Dragons - Both the Forgotten Realms Players Guide & Adventure Guide
DESCRIPTION:Release \nBoth the Forgotten Realms Players Guide & Adventure Guide Release November 11\, 2025\n\n\nThe Forgotten Realms have long been one of the most popular adventuring spots for D&D players. From the Moonshae Isles in the Feywild to the notorious Baldur’s Gate along the Sword Coast\, it is a well-known world-setting positively brimming with legends\, history\, and rich lore designed to draw adventurers back over and again. Not just one but two books will be released November 11\, 2025: The Forgotten Realms Player’s Guide and The Forgotten Realms Adventure Guide. \nThe Forgotten Realms Player’s Guide has been designed specifically for players and will serve as a companion to the Player’s Handbook\, providing a deep dive into the world and lore\, the deities\, eight new subclasses\, new spells\, and an entirely new system for spellcasting called circle casting. Circle casting will provide spellcasters opportunities to combine their magical efforts and empower their magic through group casting. Though this book may have been designed for players\, it’s also an indispensable tool for DMs as well\, providing opportunities for world-building and adventure building within the Realms. \n\nCollege Of The Moon (Bard)\nKnowledge Domain (Cleric)\nPurple Dragon Knight (Fighter)\nOath Of The Noble Genies (Paladin)\nWinter Walker (Ranger)\nScion Of The Three (Rogue)\nSpellfire Sorcery (Sorcerer)\nBladesinger (Wizard\n\nDesigned more specifically for DMs\, The Forgotten Realms Adventure Guide focuses on five distinct campaign locations\, providing insight into the differences between each one and offering campaign and gameplay variety to suit different types of play. Have a group that prefers the magic and whimsy of the Feywild? Drop them down in the Moonshae Isles. Survival horror reigns supreme in Icewind Dale. Each one of the five different settings explores a different type of fantasy\, moving games beyond the typical places explored along the Sword Coast\, like Neverwinter and Baldur’s Gate\, for example. These adventures are also relatively short\, which allows DMs to grab them and get started quickly\, or\, as noted above\, encourage other players around the table to consider taking up the mantle of DM and run an adventure for everyone. \nSo\, why not make this all one book? The answer is actually simple. The Forgotten Realms Adventure Guide contains information on adventures and campaigns that DMs might want to hold close to the vest\, keeping their adventures spoiler-free for curious players who will be tempted to read beyond the player-specific material. Either way\, both books will make excellent additions to growing libraries for DMs and players alike. \n\nSee how to join future D&D games at the Facebook page:\nhttps://www.facebook.com/groups/1396517620636670
URL:https://comicquest.org/event/dungeons-dragons-both-the-forgotten-realms-players-guide-adventure-guide/
LOCATION:Comic Quest\, 23811 Bridger #111 CA 92630\, Lake Forest\, CA\, 92630\, United States
CATEGORIES:D&D,Event
ATTACH;FMTTYPE=image/jpeg:https://comicquest.org/wp-content/uploads/2023/03/dungeons_and_dragons.jpg
END:VEVENT
END:VCALENDAR